{"text_format":"1","workbook":"xlsx","n_sheets":6,"sheets":["APU Profile Form","checklist","Roster","APU Master","FY25-FY26 Scales","APU Scale"],"not_rendered":{"charts":0,"images":0,"macros":1,"external_links":9,"defined_names":129,"comments":3,"pivot_tables":0},"unopened":[],"bounds":{"document_bytes":16777216,"sheet_cells":100000,"rows_first":2000,"rows_last":500,"rows_between":2000,"halvings":0,"cell_chars":16384,"cell_head_chars":4096},"cells_cut":0,"cells_raw":0,"read":"whole","date_system":"1900"}

{"sheet":"APU Profile Form","index":0,"n_rows":198,"n_cols":14,"rows_kept":198,"cut":false,"hidden":false,"merged":[[11,2,19,10],[0,2,0,10],[2,3,2,8],[4,3,4,8],[6,3,6,8],[8,3,8,8]]}
[null,null,"ACADEMIC PROGRAM UNIT PROFILE"]
[]
[null,null,"DEPARTMENT:",{"$f":"Roster!C10","v":0}]
[]
[null,null,"APU NAME:",{"$f":"VLOOKUP(D7,'APU Master'!B:D,3,FALSE)","v":"Orthopaedic Surgery Non-Surgical Faculty "}]
[]
[null,null,"APU CODE:",{"$f":"Roster!A10","v":"ORT006"}]
[]
[null,null,"DATE SUBMITTED:",{"$f":"TODAY()","v":"2026-04-27"}]
[]
[null,null,"Description of APU:  Please include criteria used."]
[null,null,{"$f":"VLOOKUP(D7,'APU Master'!B:E,4,FALSE)","v":"UCSD Orthopaedic Surgery faculty whose primary function is procedures and the non‐surgical care of patients."}]
[]
[]
[]
[]
[]
[]
[]
[]
[]
[null,null,"PROPOSED HEALTH SCIENCES SALARY SCALE:"]
[null,null,"(Using Scale pay numbers: 1 thru 9. Insert Scale pay number assigned to APU for each of 5 future years.)"]
[]
[null,null,null,"2026-07-01",{"$f":"Roster!B10","v":0},"2027-07-01",{"$f":"E25","v":0},"2028-07-01",{"$f":"G25","v":0}]
[]
[null,null,null,"2029-07-01",{"$f":"I25","v":0},"2030-07-01",{"$f":"E27","v":0}]
[]
[]
[]
[null,null,"APU Membership:"]
[null,null,"(Use current established Scale Pay rates at the time of the submission. DO NOT USE blended FY pay rates. Attach another sheet if necessary.)"]
[]
[null,null,null,null,null,"X Salary","X' Salary","Off-Scale Salary","Total Covered Comp","Y Salary","Total Negotiated"]
[null,null,"Name","Rank","Step","Annual Rate","Annual Rate","Annual Rate","Annual Rate","Annual Rate","Annual Rate",null,"X","X'"]
[null,null,{"$f":"Roster!D10","v":0},{"$f":"Roster!E10","v":0},{"$f":"Roster!F10","v":0},{"$f":"Roster!K10","v":0},{"$f":"Roster!L10","v":0},{"$f":"Roster!M10","v":0},{"$f":"F36+G36+H36","v":0},{"$f":"Roster!O10","v":0},{"$f":"I36+J36","v":0}]
[null,null,{"$f":"Roster!D11","v":0},{"$f":"Roster!E11","v":0},{"$f":"Roster!F11","v":0},{"$f":"Roster!K11","v":0},{"$f":"Roster!L11","v":0},{"$f":"Roster!M11","v":0},{"$f":"F37+G37+H37","v":0},{"$f":"Roster!O11","v":0},{"$f":"I37+J37","v":0},null,193800,19400]
[null,null,{"$f":"Roster!D12","v":0},{"$f":"Roster!E12","v":0},{"$f":"Roster!F12","v":0},{"$f":"Roster!K12","v":0},{"$f":"Roster!L12","v":0},{"$f":"Roster!M12","v":0},0,{"$f":"Roster!O12","v":0},0,null,166300,16600]
[null,null,{"$f":"Roster!D13","v":0},{"$f":"Roster!E13","v":0},{"$f":"Roster!F13","v":0},{"$f":"Roster!K13","v":0},{"$f":"Roster!L13","v":0},{"$f":"Roster!M13","v":0},0,{"$f":"Roster!O13","v":0},0,null,133900,13400]
[null,null,{"$f":"Roster!D14","v":0},{"$f":"Roster!E14","v":0},{"$f":"Roster!F14","v":0},{"$f":"Roster!K14","v":0},{"$f":"Roster!L14","v":0},{"$f":"Roster!M14","v":0},0,{"$f":"Roster!O14","v":0},0,null,108900,10900]
[null,null,{"$f":"Roster!D15","v":0},{"$f":"Roster!E15","v":0},{"$f":"Roster!F15","v":0},{"$f":"Roster!K15","v":0},{"$f":"Roster!L15","v":0},{"$f":"Roster!M15","v":0},0,{"$f":"Roster!O15","v":0},0,null,108900,10900]
[null,null,{"$f":"Roster!D16","v":0},{"$f":"Roster!E16","v":0},{"$f":"Roster!F16","v":0},{"$f":"Roster!K16","v":0},{"$f":"Roster!L16","v":0},{"$f":"Roster!M16","v":0},0,{"$f":"Roster!O16","v":0},0,null,88300,8800]
[null,null,{"$f":"Roster!D17","v":0},{"$f":"Roster!E17","v":0},{"$f":"Roster!F17","v":0},{"$f":"Roster!K17","v":0},{"$f":"Roster!L17","v":0},{"$f":"Roster!M17","v":0},0,{"$f":"Roster!O17","v":0},0,null,88300,8800]
[null,null,{"$f":"Roster!D18","v":0},{"$f":"Roster!E18","v":0},{"$f":"Roster!F18","v":0},{"$f":"Roster!K18","v":0},{"$f":"Roster!L18","v":0},{"$f":"Roster!M18","v":0},0,{"$f":"Roster!O18","v":0},0,null,88300,8800]
[null,null,{"$f":"Roster!D19","v":0},{"$f":"Roster!E19","v":0},{"$f":"Roster!F19","v":0},{"$f":"Roster!K19","v":0},{"$f":"Roster!L19","v":0},{"$f":"Roster!M19","v":0},0,{"$f":"Roster!O19","v":0},0,null,108900,10900]
[null,null,{"$f":"Roster!D20","v":0},{"$f":"Roster!E20","v":0},{"$f":"Roster!F20","v":0},{"$f":"Roster!K20","v":0},{"$f":"Roster!L20","v":0},{"$f":"Roster!M20","v":0},0,{"$f":"Roster!O20","v":0},0,null,88300,8800]
[null,null,{"$f":"Roster!D21","v":0},{"$f":"Roster!E21","v":0},{"$f":"Roster!F21","v":0},{"$f":"Roster!K21","v":0},{"$f":"Roster!L21","v":0},{"$f":"Roster!M21","v":0},0,{"$f":"Roster!O21","v":0},0,null,88300,8800]
[null,null,{"$f":"Roster!D22","v":0},{"$f":"Roster!E22","v":0},{"$f":"Roster!F22","v":0},{"$f":"Roster!K22","v":0},{"$f":"Roster!L22","v":0},{"$f":"Roster!M22","v":0},0,{"$f":"Roster!O22","v":0},0,null,88300,8800]
[null,null,{"$f":"Roster!D23","v":0},{"$f":"Roster!E23","v":0},{"$f":"Roster!F23","v":0},{"$f":"Roster!K23","v":0},{"$f":"Roster!L23","v":0},{"$f":"Roster!M23","v":0},0,{"$f":"Roster!O23","v":0},0,null,98500,9900]
[null,null,{"$f":"Roster!D24","v":0},{"$f":"Roster!E24","v":0},{"$f":"Roster!F24","v":0},{"$f":"Roster!K24","v":0},{"$f":"Roster!L24","v":0},{"$f":"Roster!M24","v":0},0,{"$f":"Roster!O24","v":0},0,null,143900,14400]
[null,null,{"$f":"Roster!D25","v":0},{"$f":"Roster!E25","v":0},{"$f":"Roster!F25","v":0},{"$f":"Roster!K25","v":0},{"$f":"Roster!L25","v":0},{"$f":"Roster!M25","v":0},0,{"$f":"Roster!O25","v":0},0,null,103600,10400]
[null,null,{"$f":"Roster!D26","v":0},{"$f":"Roster!E26","v":0},{"$f":"Roster!F26","v":0},{"$f":"Roster!K26","v":0},{"$f":"Roster!L26","v":0},{"$f":"Roster!M26","v":0},0,{"$f":"Roster!O26","v":0},0]
[null,null,{"$f":"Roster!D27","v":0},{"$f":"Roster!E27","v":0},{"$f":"Roster!F27","v":0},{"$f":"Roster!K27","v":0},{"$f":"Roster!L27","v":0},{"$f":"Roster!M27","v":0},0,{"$f":"Roster!O27","v":0},0]
[null,null,{"$f":"Roster!D28","v":0},{"$f":"Roster!E28","v":0},{"$f":"Roster!F28","v":0},{"$f":"Roster!K28","v":0},{"$f":"Roster!L28","v":0},{"$f":"Roster!M28","v":0},0,{"$f":"Roster!O28","v":0},0,null,193800,19400]
[null,null,{"$f":"Roster!D29","v":0},{"$f":"Roster!E29","v":0},{"$f":"Roster!F29","v":0},{"$f":"Roster!K29","v":0},{"$f":"Roster!L29","v":0},{"$f":"Roster!M29","v":0},0,{"$f":"Roster!O29","v":0},0,null,166300,16600]
[null,null,{"$f":"Roster!D30","v":0},{"$f":"Roster!E30","v":0},{"$f":"Roster!F30","v":0},{"$f":"Roster!K30","v":0},{"$f":"Roster!L30","v":0},{"$f":"Roster!M30","v":0},0,{"$f":"Roster!O30","v":0},0,null,133900,13400]
[null,null,{"$f":"Roster!D31","v":0},{"$f":"Roster!E31","v":0},{"$f":"Roster!F31","v":0},{"$f":"Roster!K31","v":0},{"$f":"Roster!L31","v":0},{"$f":"Roster!M31","v":0},0,{"$f":"Roster!O31","v":0},0,null,108900,10900]
[null,null,{"$f":"Roster!D32","v":0},{"$f":"Roster!E32","v":0},{"$f":"Roster!F32","v":0},{"$f":"Roster!K32","v":0},{"$f":"Roster!L32","v":0},{"$f":"Roster!M32","v":0},0,{"$f":"Roster!O32","v":0},0,null,108900,10900]
[null,null,{"$f":"Roster!D33","v":0},{"$f":"Roster!E33","v":0},{"$f":"Roster!F33","v":0},{"$f":"Roster!K33","v":0},{"$f":"Roster!L33","v":0},{"$f":"Roster!M33","v":0},0,{"$f":"Roster!O33","v":0},0,null,88300,8800]
[null,null,{"$f":"Roster!D34","v":0},{"$f":"Roster!E34","v":0},{"$f":"Roster!F34","v":0},{"$f":"Roster!K34","v":0},{"$f":"Roster!L34","v":0},{"$f":"Roster!M34","v":0},0,{"$f":"Roster!O34","v":0},0,null,88300,8800]
[null,null,{"$f":"Roster!D35","v":0},{"$f":"Roster!E35","v":0},{"$f":"Roster!F35","v":0},{"$f":"Roster!K35","v":0},{"$f":"Roster!L35","v":0},{"$f":"Roster!M35","v":0},0,{"$f":"Roster!O35","v":0},0,null,88300,8800]
[null,null,{"$f":"Roster!D36","v":0},{"$f":"Roster!E36","v":0},{"$f":"Roster!F36","v":0},{"$f":"Roster!K36","v":0},{"$f":"Roster!L36","v":0},{"$f":"Roster!M36","v":0},0,{"$f":"Roster!O36","v":0},0,null,108900,10900]
[null,null,{"$f":"Roster!D37","v":0},{"$f":"Roster!E37","v":0},{"$f":"Roster!F37","v":0},{"$f":"Roster!K37","v":0},{"$f":"Roster!L37","v":0},{"$f":"Roster!M37","v":0},0,{"$f":"Roster!O37","v":0},0,null,88300,8800]
[null,null,{"$f":"Roster!D38","v":0},{"$f":"Roster!E38","v":0},{"$f":"Roster!F38","v":0},{"$f":"Roster!K38","v":0},{"$f":"Roster!L38","v":0},{"$f":"Roster!M38","v":0},0,{"$f":"Roster!O38","v":0},0,null,88300,8800]
[null,null,{"$f":"Roster!D39","v":0},{"$f":"Roster!E39","v":0},{"$f":"Roster!F39","v":0},{"$f":"Roster!K39","v":0},{"$f":"Roster!L39","v":0},{"$f":"Roster!M39","v":0},0,{"$f":"Roster!O39","v":0},0,null,88300,8800]
[null,null,{"$f":"Roster!D40","v":0},{"$f":"Roster!E40","v":0},{"$f":"Roster!F40","v":0},{"$f":"Roster!K40","v":0},{"$f":"Roster!L40","v":0},{"$f":"Roster!M40","v":0},0,{"$f":"Roster!O40","v":0},0,null,88300,8800]
[null,null,{"$f":"Roster!D41","v":0},{"$f":"Roster!E41","v":0},{"$f":"Roster!F41","v":0},{"$f":"Roster!K41","v":0},{"$f":"Roster!L41","v":0},{"$f":"Roster!M41","v":0},0,{"$f":"Roster!O41","v":0},0,null,88300,8800]
[null,null,{"$f":"Roster!D42","v":0},{"$f":"Roster!E42","v":0},{"$f":"Roster!F42","v":0},{"$f":"Roster!K42","v":0},{"$f":"Roster!L42","v":0},{"$f":"Roster!M42","v":0},0,{"$f":"Roster!O42","v":0},0,null,88300,8800]
[null,null,{"$f":"Roster!D43","v":0},{"$f":"Roster!E43","v":0},{"$f":"Roster!F43","v":0},{"$f":"Roster!K43","v":0},{"$f":"Roster!L43","v":0},{"$f":"Roster!M43","v":0},0,{"$f":"Roster!O43","v":0},0,null,88300,8800]
[null,null,{"$f":"Roster!D44","v":0},{"$f":"Roster!E44","v":0},{"$f":"Roster!F44","v":0},{"$f":"Roster!K44","v":0},{"$f":"Roster!L44","v":0},{"$f":"Roster!M44","v":0},0,{"$f":"Roster!O44","v":0},0,null,88300,8800]
[null,null,{"$f":"Roster!D45","v":0},{"$f":"Roster!E45","v":0},{"$f":"Roster!F45","v":0},{"$f":"Roster!K45","v":0},{"$f":"Roster!L45","v":0},{"$f":"Roster!M45","v":0},0,{"$f":"Roster!O45","v":0},0,null,88300,8800]
[null,null,{"$f":"Roster!D46","v":0},{"$f":"Roster!E46","v":0},{"$f":"Roster!F46","v":0},{"$f":"Roster!K46","v":0},{"$f":"Roster!L46","v":0},{"$f":"Roster!M46","v":0},0,{"$f":"Roster!O46","v":0},0,null,88300,8800]
[null,null,{"$f":"Roster!D47","v":0},{"$f":"Roster!E47","v":0},{"$f":"Roster!F47","v":0},{"$f":"Roster!K47","v":0},{"$f":"Roster!L47","v":0},{"$f":"Roster!M47","v":0},0,{"$f":"Roster!O47","v":0},0,null,88300,8800]
[null,null,{"$f":"Roster!D48","v":0},{"$f":"Roster!E48","v":0},{"$f":"Roster!F48","v":0},{"$f":"Roster!K48","v":0},{"$f":"Roster!L48","v":0},{"$f":"Roster!M48","v":0},0,{"$f":"Roster!O48","v":0},0,null,88300,8800]
[null,null,{"$f":"Roster!D49","v":0},{"$f":"Roster!E49","v":0},{"$f":"Roster!F49","v":0},{"$f":"Roster!K49","v":0},{"$f":"Roster!L49","v":0},{"$f":"Roster!M49","v":0},0,{"$f":"Roster!O49","v":0},0,null,88300,8800]
[null,null,{"$f":"Roster!D50","v":0},{"$f":"Roster!E50","v":0},{"$f":"Roster!F50","v":0},{"$f":"Roster!K50","v":0},{"$f":"Roster!L50","v":0},{"$f":"Roster!M50","v":0},0,{"$f":"Roster!O50","v":0},0,null,88300,8800]
[null,null,{"$f":"Roster!D51","v":0},{"$f":"Roster!E51","v":0},{"$f":"Roster!F51","v":0},{"$f":"Roster!K51","v":0},{"$f":"Roster!L51","v":0},{"$f":"Roster!M51","v":0},0,{"$f":"Roster!O51","v":0},0,null,88300,8800]
[null,null,{"$f":"Roster!D52","v":0},{"$f":"Roster!E52","v":0},{"$f":"Roster!F52","v":0},{"$f":"Roster!K52","v":0},{"$f":"Roster!L52","v":0},{"$f":"Roster!M52","v":0},0,{"$f":"Roster!O52","v":0},0,null,88300,8800]
[null,null,{"$f":"Roster!D53","v":0},{"$f":"Roster!E53","v":0},{"$f":"Roster!F53","v":0},{"$f":"Roster!K53","v":0},{"$f":"Roster!L53","v":0},{"$f":"Roster!M53","v":0},0,{"$f":"Roster!O53","v":0},0,null,88300,8800]
[null,null,{"$f":"Roster!D54","v":0},{"$f":"Roster!E54","v":0},{"$f":"Roster!F54","v":0},{"$f":"Roster!K54","v":0},{"$f":"Roster!L54","v":0},{"$f":"Roster!M54","v":0},0,{"$f":"Roster!O54","v":0},0,null,88300,8800]
[null,null,{"$f":"Roster!D55","v":0},{"$f":"Roster!E55","v":0},{"$f":"Roster!F55","v":0},{"$f":"Roster!K55","v":0},{"$f":"Roster!L55","v":0},{"$f":"Roster!M55","v":0},0,{"$f":"Roster!O55","v":0},0,null,88300,8800]
[null,null,{"$f":"Roster!D56","v":0},{"$f":"Roster!E56","v":0},{"$f":"Roster!F56","v":0},{"$f":"Roster!K56","v":0},{"$f":"Roster!L56","v":0},{"$f":"Roster!M56","v":0},0,{"$f":"Roster!O56","v":0},0,null,88300,8800]
[null,null,{"$f":"Roster!D57","v":0},{"$f":"Roster!E57","v":0},{"$f":"Roster!F57","v":0},{"$f":"Roster!K57","v":0},{"$f":"Roster!L57","v":0},{"$f":"Roster!M57","v":0},0,{"$f":"Roster!O57","v":0},0,null,88300,8800]
[null,null,{"$f":"Roster!D58","v":0},{"$f":"Roster!E58","v":0},{"$f":"Roster!F58","v":0},{"$f":"Roster!K58","v":0},{"$f":"Roster!L58","v":0},{"$f":"Roster!M58","v":0},0,{"$f":"Roster!O58","v":0},0,null,88300,8800]
[null,null,{"$f":"Roster!D59","v":0},{"$f":"Roster!E59","v":0},{"$f":"Roster!F59","v":0},{"$f":"Roster!K59","v":0},{"$f":"Roster!L59","v":0},{"$f":"Roster!M59","v":0},0,{"$f":"Roster!O59","v":0},0,null,88300,8800]
[null,null,{"$f":"Roster!D60","v":0},{"$f":"Roster!E60","v":0},{"$f":"Roster!F60","v":0},{"$f":"Roster!K60","v":0},{"$f":"Roster!L60","v":0},{"$f":"Roster!M60","v":0},0,{"$f":"Roster!O60","v":0},0,null,88300,8800]
[null,null,{"$f":"Roster!D61","v":0},{"$f":"Roster!E61","v":0},{"$f":"Roster!F61","v":0},{"$f":"Roster!K61","v":0},{"$f":"Roster!L61","v":0},{"$f":"Roster!M61","v":0},0,{"$f":"Roster!O61","v":0},0,null,88300,8800]
[null,null,{"$f":"Roster!D62","v":0},{"$f":"Roster!E62","v":0},{"$f":"Roster!F62","v":0},{"$f":"Roster!K62","v":0},{"$f":"Roster!L62","v":0},{"$f":"Roster!M62","v":0},0,{"$f":"Roster!O62","v":0},0,null,88300,8800]
[null,null,{"$f":"Roster!D63","v":0},{"$f":"Roster!E63","v":0},{"$f":"Roster!F63","v":0},{"$f":"Roster!K63","v":0},{"$f":"Roster!L63","v":0},{"$f":"Roster!M63","v":0},0,{"$f":"Roster!O63","v":0},0,null,88300,8800]
[null,null,{"$f":"Roster!D64","v":0},{"$f":"Roster!E64","v":0},{"$f":"Roster!F64","v":0},{"$f":"Roster!K64","v":0},{"$f":"Roster!L64","v":0},{"$f":"Roster!M64","v":0},0,{"$f":"Roster!O64","v":0},0,null,88300,8800]
[null,null,{"$f":"Roster!D65","v":0},{"$f":"Roster!E65","v":0},{"$f":"Roster!F65","v":0},{"$f":"Roster!K65","v":0},{"$f":"Roster!L65","v":0},{"$f":"Roster!M65","v":0},0,{"$f":"Roster!O65","v":0},0,null,88300,8800]
[null,null,{"$f":"Roster!D66","v":0},{"$f":"Roster!E66","v":0},{"$f":"Roster!F66","v":0},{"$f":"Roster!K66","v":0},{"$f":"Roster!L66","v":0},{"$f":"Roster!M66","v":0},0,{"$f":"Roster!O66","v":0},0,null,88300,8800]
[null,null,{"$f":"Roster!D67","v":0},{"$f":"Roster!E67","v":0},{"$f":"Roster!F67","v":0},{"$f":"Roster!K67","v":0},{"$f":"Roster!L67","v":0},{"$f":"Roster!M67","v":0},0,{"$f":"Roster!O67","v":0},0,null,88300,8800]
[null,null,{"$f":"Roster!D68","v":0},{"$f":"Roster!E68","v":0},{"$f":"Roster!F68","v":0},{"$f":"Roster!K68","v":0},{"$f":"Roster!L68","v":0},{"$f":"Roster!M68","v":0},0,{"$f":"Roster!O68","v":0},0,null,88300,8800]
[null,null,{"$f":"Roster!D69","v":0},{"$f":"Roster!E69","v":0},{"$f":"Roster!F69","v":0},{"$f":"Roster!K69","v":0},{"$f":"Roster!L69","v":0},{"$f":"Roster!M69","v":0},0,{"$f":"Roster!O69","v":0},0,null,88300,8800]
[null,null,{"$f":"Roster!D70","v":0},{"$f":"Roster!E70","v":0},{"$f":"Roster!F70","v":0},{"$f":"Roster!K70","v":0},{"$f":"Roster!L70","v":0},{"$f":"Roster!M70","v":0},0,{"$f":"Roster!O70","v":0},0,null,88300,8800]
[null,null,{"$f":"Roster!D71","v":0},{"$f":"Roster!E71","v":0},{"$f":"Roster!F71","v":0},{"$f":"Roster!K71","v":0},{"$f":"Roster!L71","v":0},{"$f":"Roster!M71","v":0},0,{"$f":"Roster!O71","v":0},0,null,88300,8800]
[null,null,{"$f":"Roster!D72","v":0},{"$f":"Roster!E72","v":0},{"$f":"Roster!F72","v":0},{"$f":"Roster!K72","v":0},{"$f":"Roster!L72","v":0},{"$f":"Roster!M72","v":0},0,{"$f":"Roster!O72","v":0},0,null,88300,8800]
[null,null,{"$f":"Roster!D73","v":0},{"$f":"Roster!E73","v":0},{"$f":"Roster!F73","v":0},{"$f":"Roster!K73","v":0},{"$f":"Roster!L73","v":0},{"$f":"Roster!M73","v":0},0,{"$f":"Roster!O73","v":0},0,null,88300,8800]
[null,null,{"$f":"Roster!D74","v":0},{"$f":"Roster!E74","v":0},{"$f":"Roster!F74","v":0},{"$f":"Roster!K74","v":0},{"$f":"Roster!L74","v":0},{"$f":"Roster!M74","v":0},0,{"$f":"Roster!O74","v":0},0,null,88300,8800]
[null,null,{"$f":"Roster!D75","v":0},{"$f":"Roster!E75","v":0},{"$f":"Roster!F75","v":0},{"$f":"Roster!K75","v":0},{"$f":"Roster!L75","v":0},{"$f":"Roster!M75","v":0},{"$f":"F101+G101+H101","v":0},{"$f":"Roster!O75","v":0},{"$f":"I101+J101","v":0},null,88300,8800]
[null,null,{"$f":"Roster!D76","v":0},{"$f":"Roster!E76","v":0},{"$f":"Roster!F76","v":0},{"$f":"Roster!K76","v":0},{"$f":"Roster!L76","v":0},{"$f":"Roster!M76","v":0},0,{"$f":"Roster!O76","v":0},0,null,88300,8800]
[null,null,{"$f":"Roster!D77","v":0},{"$f":"Roster!E77","v":0},{"$f":"Roster!F77","v":0},{"$f":"Roster!K77","v":0},{"$f":"Roster!L77","v":0},{"$f":"Roster!M77","v":0},0,{"$f":"Roster!O77","v":0},0,null,88300,8800]
[null,null,{"$f":"Roster!D78","v":0},{"$f":"Roster!E78","v":0},{"$f":"Roster!F78","v":0},{"$f":"Roster!K78","v":0},{"$f":"Roster!L78","v":0},{"$f":"Roster!M78","v":0},0,{"$f":"Roster!O78","v":0},0,null,88300,8800]
[null,null,{"$f":"Roster!D79","v":0},{"$f":"Roster!E79","v":0},{"$f":"Roster!F79","v":0},{"$f":"Roster!K79","v":0},{"$f":"Roster!L79","v":0},{"$f":"Roster!M79","v":0},0,{"$f":"Roster!O79","v":0},0,null,88300,8800]
[null,null,{"$f":"Roster!D80","v":0},{"$f":"Roster!E80","v":0},{"$f":"Roster!F80","v":0},{"$f":"Roster!K80","v":0},{"$f":"Roster!L80","v":0},{"$f":"Roster!M80","v":0},0,{"$f":"Roster!O80","v":0},0,null,88300,8800]
[null,null,{"$f":"Roster!D81","v":0},{"$f":"Roster!E81","v":0},{"$f":"Roster!F81","v":0},{"$f":"Roster!K81","v":0},{"$f":"Roster!L81","v":0},{"$f":"Roster!M81","v":0},0,{"$f":"Roster!O81","v":0},0,null,88300,8800]
[null,null,{"$f":"Roster!D82","v":0},{"$f":"Roster!E82","v":0},{"$f":"Roster!F82","v":0},{"$f":"Roster!K82","v":0},{"$f":"Roster!L82","v":0},{"$f":"Roster!M82","v":0},0,{"$f":"Roster!O82","v":0},0,null,88300,8800]
[null,null,{"$f":"Roster!D83","v":0},{"$f":"Roster!E83","v":0},{"$f":"Roster!F83","v":0},{"$f":"Roster!K83","v":0},{"$f":"Roster!L83","v":0},{"$f":"Roster!M83","v":0},0,{"$f":"Roster!O83","v":0},0,null,88300,8800]
[null,null,{"$f":"Roster!D84","v":0},{"$f":"Roster!E84","v":0},{"$f":"Roster!F84","v":0},{"$f":"Roster!K84","v":0},{"$f":"Roster!L84","v":0},{"$f":"Roster!M84","v":0},0,{"$f":"Roster!O84","v":0},0,null,88300,8800]
[null,null,{"$f":"Roster!D85","v":0},{"$f":"Roster!E85","v":0},{"$f":"Roster!F85","v":0},{"$f":"Roster!K85","v":0},{"$f":"Roster!L85","v":0},{"$f":"Roster!M85","v":0},0,{"$f":"Roster!O85","v":0},0,null,88300,8800]
[null,null,{"$f":"Roster!D86","v":0},{"$f":"Roster!E86","v":0},{"$f":"Roster!F86","v":0},{"$f":"Roster!K86","v":0},{"$f":"Roster!L86","v":0},{"$f":"Roster!M86","v":0},0,{"$f":"Roster!O86","v":0},0,null,88300,8800]
[null,null,{"$f":"Roster!D87","v":0},{"$f":"Roster!E87","v":0},{"$f":"Roster!F87","v":0},{"$f":"Roster!K87","v":0},{"$f":"Roster!L87","v":0},{"$f":"Roster!M87","v":0},0,{"$f":"Roster!O87","v":0},0,null,88300,8800]
[null,null,{"$f":"Roster!D88","v":0},{"$f":"Roster!E88","v":0},{"$f":"Roster!F88","v":0},{"$f":"Roster!K88","v":0},{"$f":"Roster!L88","v":0},{"$f":"Roster!M88","v":0},0,{"$f":"Roster!O88","v":0},0,null,88300,8800]
[null,null,{"$f":"Roster!D89","v":0},{"$f":"Roster!E89","v":0},{"$f":"Roster!F89","v":0},{"$f":"Roster!K89","v":0},{"$f":"Roster!L89","v":0},{"$f":"Roster!M89","v":0},0,{"$f":"Roster!O89","v":0},0,null,88300,8800]
[null,null,{"$f":"Roster!D90","v":0},{"$f":"Roster!E90","v":0},{"$f":"Roster!F90","v":0},{"$f":"Roster!K90","v":0},{"$f":"Roster!L90","v":0},{"$f":"Roster!M90","v":0},0,{"$f":"Roster!O90","v":0},0,null,88300,8800]
[null,null,{"$f":"Roster!D91","v":0},{"$f":"Roster!E91","v":0},{"$f":"Roster!F91","v":0},{"$f":"Roster!K91","v":0},{"$f":"Roster!L91","v":0},{"$f":"Roster!M91","v":0},0,{"$f":"Roster!O91","v":0},0,null,88300,8800]
[null,null,{"$f":"Roster!D92","v":0},{"$f":"Roster!E92","v":0},{"$f":"Roster!F92","v":0},{"$f":"Roster!K92","v":0},{"$f":"Roster!L92","v":0},{"$f":"Roster!M92","v":0},0,{"$f":"Roster!O92","v":0},0,null,88300,8800]
[null,null,{"$f":"Roster!D93","v":0},{"$f":"Roster!E93","v":0},{"$f":"Roster!F93","v":0},{"$f":"Roster!K93","v":0},{"$f":"Roster!L93","v":0},{"$f":"Roster!M93","v":0},0,{"$f":"Roster!O93","v":0},0,null,88300,8800]
[null,null,{"$f":"Roster!D94","v":0},{"$f":"Roster!E94","v":0},{"$f":"Roster!F94","v":0},{"$f":"Roster!K94","v":0},{"$f":"Roster!L94","v":0},{"$f":"Roster!M94","v":0},0,{"$f":"Roster!O94","v":0},0,null,88300,8800]
[null,null,{"$f":"Roster!D95","v":0},{"$f":"Roster!E95","v":0},{"$f":"Roster!F95","v":0},{"$f":"Roster!K95","v":0},{"$f":"Roster!L95","v":0},{"$f":"Roster!M95","v":0},0,{"$f":"Roster!O95","v":0},0,null,88300,8800]
[null,null,{"$f":"Roster!D96","v":0},{"$f":"Roster!E96","v":0},{"$f":"Roster!F96","v":0},{"$f":"Roster!K96","v":0},{"$f":"Roster!L96","v":0},{"$f":"Roster!M96","v":0},0,{"$f":"Roster!O96","v":0},0,null,88300,8800]
[null,null,{"$f":"Roster!D97","v":0},{"$f":"Roster!E97","v":0},{"$f":"Roster!F97","v":0},{"$f":"Roster!K97","v":0},{"$f":"Roster!L97","v":0},{"$f":"Roster!M97","v":0},0,{"$f":"Roster!O97","v":0},0,null,88300,8800]
[null,null,{"$f":"Roster!D98","v":0},{"$f":"Roster!E98","v":0},{"$f":"Roster!F98","v":0},{"$f":"Roster!K98","v":0},{"$f":"Roster!L98","v":0},{"$f":"Roster!M98","v":0},0,{"$f":"Roster!O98","v":0},0,null,88300,8800]
[null,null,{"$f":"Roster!D99","v":0},{"$f":"Roster!E99","v":0},{"$f":"Roster!F99","v":0},{"$f":"Roster!K99","v":0},{"$f":"Roster!L99","v":0},{"$f":"Roster!M99","v":0},0,{"$f":"Roster!O99","v":0},0,null,88300,8800]
[null,null,{"$f":"Roster!D100","v":0},{"$f":"Roster!E100","v":0},{"$f":"Roster!F100","v":0},{"$f":"Roster!K100","v":0},{"$f":"Roster!L100","v":0},{"$f":"Roster!M100","v":0},0,{"$f":"Roster!O100","v":0},0,null,88300,8800]
[null,null,{"$f":"Roster!D101","v":0},{"$f":"Roster!E101","v":0},{"$f":"Roster!F101","v":0},{"$f":"Roster!K101","v":0},{"$f":"Roster!L101","v":0},{"$f":"Roster!M101","v":0},0,{"$f":"Roster!O101","v":0},0,null,88300,8800]
[null,null,{"$f":"Roster!D102","v":0},{"$f":"Roster!E102","v":0},{"$f":"Roster!F102","v":0},{"$f":"Roster!K102","v":0},{"$f":"Roster!L102","v":0},{"$f":"Roster!M102","v":0},0,{"$f":"Roster!O102","v":0},0,null,88300,8800]
[null,null,{"$f":"Roster!D103","v":0},{"$f":"Roster!E103","v":0},{"$f":"Roster!F103","v":0},{"$f":"Roster!K103","v":0},{"$f":"Roster!L103","v":0},{"$f":"Roster!M103","v":0},0,{"$f":"Roster!O103","v":0},0,null,88300,8800]
[null,null,{"$f":"Roster!D104","v":0},{"$f":"Roster!E104","v":0},{"$f":"Roster!F104","v":0},{"$f":"Roster!K104","v":0},{"$f":"Roster!L104","v":0},{"$f":"Roster!M104","v":0},0,{"$f":"Roster!O104","v":0},0,null,88300,8800]
[null,null,{"$f":"Roster!D105","v":0},{"$f":"Roster!E105","v":0},{"$f":"Roster!F105","v":0},{"$f":"Roster!K105","v":0},{"$f":"Roster!L105","v":0},{"$f":"Roster!M105","v":0},0,{"$f":"Roster!O105","v":0},0,null,88300,8800]
[null,null,{"$f":"Roster!D106","v":0},{"$f":"Roster!E106","v":0},{"$f":"Roster!F106","v":0},{"$f":"Roster!K106","v":0},{"$f":"Roster!L106","v":0},{"$f":"Roster!M106","v":0},0,{"$f":"Roster!O106","v":0},0,null,88300,8800]
[null,null,{"$f":"Roster!D107","v":0},{"$f":"Roster!E107","v":0},{"$f":"Roster!F107","v":0},{"$f":"Roster!K107","v":0},{"$f":"Roster!L107","v":0},{"$f":"Roster!M107","v":0},0,{"$f":"Roster!O107","v":0},0,null,88300,8800]
[null,null,{"$f":"Roster!D108","v":0},{"$f":"Roster!E108","v":0},{"$f":"Roster!F108","v":0},{"$f":"Roster!K108","v":0},{"$f":"Roster!L108","v":0},{"$f":"Roster!M108","v":0},0,{"$f":"Roster!O108","v":0},0,null,88300,8800]
[null,null,{"$f":"Roster!D109","v":0},{"$f":"Roster!E109","v":0},{"$f":"Roster!F109","v":0},{"$f":"Roster!K109","v":0},{"$f":"Roster!L109","v":0},{"$f":"Roster!M109","v":0},0,{"$f":"Roster!O109","v":0},0,null,88300,8800]
[null,null,{"$f":"Roster!D110","v":0},{"$f":"Roster!E110","v":0},{"$f":"Roster!F110","v":0},{"$f":"Roster!K110","v":0},{"$f":"Roster!L110","v":0},{"$f":"Roster!M110","v":0},0,{"$f":"Roster!O110","v":0},0,null,88300,8800]
[null,null,{"$f":"Roster!D111","v":0},{"$f":"Roster!E111","v":0},{"$f":"Roster!F111","v":0},{"$f":"Roster!K111","v":0},{"$f":"Roster!L111","v":0},{"$f":"Roster!M111","v":0},0,{"$f":"Roster!O111","v":0},0,null,88300,8800]
[null,null,{"$f":"Roster!D112","v":0},{"$f":"Roster!E112","v":0},{"$f":"Roster!F112","v":0},{"$f":"Roster!K112","v":0},{"$f":"Roster!L112","v":0},{"$f":"Roster!M112","v":0},0,{"$f":"Roster!O112","v":0},0,null,88300,8800]
[null,null,{"$f":"Roster!D113","v":0},{"$f":"Roster!E113","v":0},{"$f":"Roster!F113","v":0},{"$f":"Roster!K113","v":0},{"$f":"Roster!L113","v":0},{"$f":"Roster!M113","v":0},0,{"$f":"Roster!O113","v":0},0,null,88300,8800]
[null,null,{"$f":"Roster!D114","v":0},{"$f":"Roster!E114","v":0},{"$f":"Roster!F114","v":0},{"$f":"Roster!K114","v":0},{"$f":"Roster!L114","v":0},{"$f":"Roster!M114","v":0},0,{"$f":"Roster!O114","v":0},0,null,88300,8800]
[null,null,{"$f":"Roster!D115","v":0},{"$f":"Roster!E115","v":0},{"$f":"Roster!F115","v":0},{"$f":"Roster!K115","v":0},{"$f":"Roster!L115","v":0},{"$f":"Roster!M115","v":0},0,{"$f":"Roster!O115","v":0},0,null,88300,8800]
[null,null,{"$f":"Roster!D116","v":0},{"$f":"Roster!E116","v":0},{"$f":"Roster!F116","v":0},{"$f":"Roster!K116","v":0},{"$f":"Roster!L116","v":0},{"$f":"Roster!M116","v":0},0,{"$f":"Roster!O116","v":0},0,null,88300,8800]
[null,null,{"$f":"Roster!D117","v":0},{"$f":"Roster!E117","v":0},{"$f":"Roster!F117","v":0},{"$f":"Roster!K117","v":0},{"$f":"Roster!L117","v":0},{"$f":"Roster!M117","v":0},0,{"$f":"Roster!O117","v":0},0,null,88300,8800]
[null,null,{"$f":"Roster!D118","v":0},{"$f":"Roster!E118","v":0},{"$f":"Roster!F118","v":0},{"$f":"Roster!K118","v":0},{"$f":"Roster!L118","v":0},{"$f":"Roster!M118","v":0},0,{"$f":"Roster!O118","v":0},0,null,88300,8800]
[null,null,{"$f":"Roster!D119","v":0},{"$f":"Roster!E119","v":0},{"$f":"Roster!F119","v":0},{"$f":"Roster!K119","v":0},{"$f":"Roster!L119","v":0},{"$f":"Roster!M119","v":0},0,{"$f":"Roster!O119","v":0},0,null,88300,8800]
[null,null,{"$f":"Roster!D120","v":0},{"$f":"Roster!E120","v":0},{"$f":"Roster!F120","v":0},{"$f":"Roster!K120","v":0},{"$f":"Roster!L120","v":0},{"$f":"Roster!M120","v":0},0,{"$f":"Roster!O120","v":0},0,null,88300,8800]
[null,null,{"$f":"Roster!D121","v":0},{"$f":"Roster!E121","v":0},{"$f":"Roster!F121","v":0},{"$f":"Roster!K121","v":0},{"$f":"Roster!L121","v":0},{"$f":"Roster!M121","v":0},0,{"$f":"Roster!O121","v":0},0,null,88300,8800]
[null,null,{"$f":"Roster!D122","v":0},{"$f":"Roster!E122","v":0},{"$f":"Roster!F122","v":0},{"$f":"Roster!K122","v":0},{"$f":"Roster!L122","v":0},{"$f":"Roster!M122","v":0},0,{"$f":"Roster!O122","v":0},0,null,88300,8800]
[null,null,{"$f":"Roster!D123","v":0},{"$f":"Roster!E123","v":0},{"$f":"Roster!F123","v":0},{"$f":"Roster!K123","v":0},{"$f":"Roster!L123","v":0},{"$f":"Roster!M123","v":0},0,{"$f":"Roster!O123","v":0},0,null,88300,8800]
[null,null,{"$f":"Roster!D124","v":0},{"$f":"Roster!E124","v":0},{"$f":"Roster!F124","v":0},{"$f":"Roster!K124","v":0},{"$f":"Roster!L124","v":0},{"$f":"Roster!M124","v":0},0,{"$f":"Roster!O124","v":0},0,null,88300,8800]
[null,null,{"$f":"Roster!D125","v":0},{"$f":"Roster!E125","v":0},{"$f":"Roster!F125","v":0},{"$f":"Roster!K125","v":0},{"$f":"Roster!L125","v":0},{"$f":"Roster!M125","v":0},0,{"$f":"Roster!O125","v":0},0,null,88300,8800]
[null,null,{"$f":"Roster!D126","v":0},{"$f":"Roster!E126","v":0},{"$f":"Roster!F126","v":0},{"$f":"Roster!K126","v":0},{"$f":"Roster!L126","v":0},{"$f":"Roster!M126","v":0},0,{"$f":"Roster!O126","v":0},0,null,88300,8800]
[null,null,{"$f":"Roster!D127","v":0},{"$f":"Roster!E127","v":0},{"$f":"Roster!F127","v":0},{"$f":"Roster!K127","v":0},{"$f":"Roster!L127","v":0},{"$f":"Roster!M127","v":0},0,{"$f":"Roster!O127","v":0},0,null,88300,8800]
[null,null,{"$f":"Roster!D128","v":0},{"$f":"Roster!E128","v":0},{"$f":"Roster!F128","v":0},{"$f":"Roster!K128","v":0},{"$f":"Roster!L128","v":0},{"$f":"Roster!M128","v":0},0,{"$f":"Roster!O128","v":0},0,null,88300,8800]
[null,null,{"$f":"Roster!D129","v":0},{"$f":"Roster!E129","v":0},{"$f":"Roster!F129","v":0},{"$f":"Roster!K129","v":0},{"$f":"Roster!L129","v":0},{"$f":"Roster!M129","v":0},0,{"$f":"Roster!O129","v":0},0,null,88300,8800]
[null,null,{"$f":"Roster!D130","v":0},{"$f":"Roster!E130","v":0},{"$f":"Roster!F130","v":0},{"$f":"Roster!K130","v":0},{"$f":"Roster!L130","v":0},{"$f":"Roster!M130","v":0},0,{"$f":"Roster!O130","v":0},0,null,88300,8800]
[null,null,{"$f":"Roster!D131","v":0},{"$f":"Roster!E131","v":0},{"$f":"Roster!F131","v":0},{"$f":"Roster!K131","v":0},{"$f":"Roster!L131","v":0},{"$f":"Roster!M131","v":0},0,{"$f":"Roster!O131","v":0},0,null,88300,8800]
[null,null,{"$f":"Roster!D132","v":0},{"$f":"Roster!E132","v":0},{"$f":"Roster!F132","v":0},{"$f":"Roster!K132","v":0},{"$f":"Roster!L132","v":0},{"$f":"Roster!M132","v":0},0,{"$f":"Roster!O132","v":0},0,null,88300,8800]
[null,null,{"$f":"Roster!D133","v":0},{"$f":"Roster!E133","v":0},{"$f":"Roster!F133","v":0},{"$f":"Roster!K133","v":0},{"$f":"Roster!L133","v":0},{"$f":"Roster!M133","v":0},0,{"$f":"Roster!O133","v":0},0,null,88300,8800]
[null,null,{"$f":"Roster!D134","v":0},{"$f":"Roster!E134","v":0},{"$f":"Roster!F134","v":0},{"$f":"Roster!K134","v":0},{"$f":"Roster!L134","v":0},{"$f":"Roster!M134","v":0},0,{"$f":"Roster!O134","v":0},0,null,88300,8800]
[null,null,{"$f":"Roster!D135","v":0},{"$f":"Roster!E135","v":0},{"$f":"Roster!F135","v":0},{"$f":"Roster!K135","v":0},{"$f":"Roster!L135","v":0},{"$f":"Roster!M135","v":0},0,{"$f":"Roster!O135","v":0},0,null,88300,8800]
[null,null,{"$f":"Roster!D136","v":0},{"$f":"Roster!E136","v":0},{"$f":"Roster!F136","v":0},{"$f":"Roster!K136","v":0},{"$f":"Roster!L136","v":0},{"$f":"Roster!M136","v":0},0,{"$f":"Roster!O136","v":0},0,null,88300,8800]
[null,null,{"$f":"Roster!D137","v":0},{"$f":"Roster!E137","v":0},{"$f":"Roster!F137","v":0},{"$f":"Roster!K137","v":0},{"$f":"Roster!L137","v":0},{"$f":"Roster!M137","v":0},0,{"$f":"Roster!O137","v":0},0,null,88300,8800]
[null,null,{"$f":"Roster!D138","v":0},{"$f":"Roster!E138","v":0},{"$f":"Roster!F138","v":0},{"$f":"Roster!K138","v":0},{"$f":"Roster!L138","v":0},{"$f":"Roster!M138","v":0},0,{"$f":"Roster!O138","v":0},0,null,88300,8800]
[null,null,{"$f":"Roster!D139","v":0},{"$f":"Roster!E139","v":0},{"$f":"Roster!F139","v":0},{"$f":"Roster!K139","v":0},{"$f":"Roster!L139","v":0},{"$f":"Roster!M139","v":0},{"$f":"F165+G165+H165","v":0},{"$f":"Roster!O139","v":0},{"$f":"I165+J165","v":0}]
[null,null,{"$f":"Roster!D140","v":0},{"$f":"Roster!E140","v":0},{"$f":"Roster!F140","v":0},{"$f":"Roster!K140","v":0},{"$f":"Roster!L140","v":0},{"$f":"Roster!M140","v":0},0,{"$f":"Roster!O140","v":0},0]
[null,null,{"$f":"Roster!D141","v":0},{"$f":"Roster!E141","v":0},{"$f":"Roster!F141","v":0},{"$f":"Roster!K141","v":0},{"$f":"Roster!L141","v":0},{"$f":"Roster!M141","v":0},0,{"$f":"Roster!O141","v":0},0]
[null,null,{"$f":"Roster!D142","v":0},{"$f":"Roster!E142","v":0},{"$f":"Roster!F142","v":0},{"$f":"Roster!K142","v":0},{"$f":"Roster!L142","v":0},{"$f":"Roster!M142","v":0},0,{"$f":"Roster!O142","v":0},0]
[null,null,{"$f":"Roster!D143","v":0},{"$f":"Roster!E143","v":0},{"$f":"Roster!F143","v":0},{"$f":"Roster!K143","v":0},{"$f":"Roster!L143","v":0},{"$f":"Roster!M143","v":0},0,{"$f":"Roster!O143","v":0},0]
[null,null,{"$f":"Roster!D144","v":0},{"$f":"Roster!E144","v":0},{"$f":"Roster!F144","v":0},{"$f":"Roster!K144","v":0},{"$f":"Roster!L144","v":0},{"$f":"Roster!M144","v":0},0,{"$f":"Roster!O144","v":0},0]
[null,null,{"$f":"Roster!D145","v":0},{"$f":"Roster!E145","v":0},{"$f":"Roster!F145","v":0},{"$f":"Roster!K145","v":0},{"$f":"Roster!L145","v":0},{"$f":"Roster!M145","v":0},0,{"$f":"Roster!O145","v":0},0]
[null,null,{"$f":"Roster!D146","v":0},{"$f":"Roster!E146","v":0},{"$f":"Roster!F146","v":0},{"$f":"Roster!K146","v":0},{"$f":"Roster!L146","v":0},{"$f":"Roster!M146","v":0},0,{"$f":"Roster!O146","v":0},0]
[null,null,{"$f":"Roster!D147","v":0},{"$f":"Roster!E147","v":0},{"$f":"Roster!F147","v":0},{"$f":"Roster!K147","v":0},{"$f":"Roster!L147","v":0},{"$f":"Roster!M147","v":0},0,{"$f":"Roster!O147","v":0},0]
[null,null,{"$f":"Roster!D148","v":0},{"$f":"Roster!E148","v":0},{"$f":"Roster!F148","v":0},{"$f":"Roster!K148","v":0},{"$f":"Roster!L148","v":0},{"$f":"Roster!M148","v":0},0,{"$f":"Roster!O148","v":0},0]
[null,null,{"$f":"Roster!D149","v":0},{"$f":"Roster!E149","v":0},{"$f":"Roster!F149","v":0},{"$f":"Roster!K149","v":0},{"$f":"Roster!L149","v":0},{"$f":"Roster!M149","v":0},0,{"$f":"Roster!O149","v":0},0]
[null,null,{"$f":"Roster!D150","v":0},{"$f":"Roster!E150","v":0},{"$f":"Roster!F150","v":0},{"$f":"Roster!K150","v":0},{"$f":"Roster!L150","v":0},{"$f":"Roster!M150","v":0},0,{"$f":"Roster!O150","v":0},0]
[null,null,{"$f":"Roster!D151","v":0},{"$f":"Roster!E151","v":0},{"$f":"Roster!F151","v":0},{"$f":"Roster!K151","v":0},{"$f":"Roster!L151","v":0},{"$f":"Roster!M151","v":0},0,{"$f":"Roster!O151","v":0},0]
[null,null,{"$f":"Roster!D152","v":0},{"$f":"Roster!E152","v":0},{"$f":"Roster!F152","v":0},{"$f":"Roster!K152","v":0},{"$f":"Roster!L152","v":0},{"$f":"Roster!M152","v":0},0,{"$f":"Roster!O152","v":0},0]
[null,null,{"$f":"Roster!D153","v":0},{"$f":"Roster!E153","v":0},{"$f":"Roster!F153","v":0},{"$f":"Roster!K153","v":0},{"$f":"Roster!L153","v":0},{"$f":"Roster!M153","v":0},0,{"$f":"Roster!O153","v":0},0]
[null,null,{"$f":"Roster!D154","v":0},{"$f":"Roster!E154","v":0},{"$f":"Roster!F154","v":0},{"$f":"Roster!K154","v":0},{"$f":"Roster!L154","v":0},{"$f":"Roster!M154","v":0},0,{"$f":"Roster!O154","v":0},0]
[null,null,{"$f":"Roster!D155","v":0},{"$f":"Roster!E155","v":0},{"$f":"Roster!F155","v":0},{"$f":"Roster!K155","v":0},{"$f":"Roster!L155","v":0},{"$f":"Roster!M155","v":0},0,{"$f":"Roster!O155","v":0},0]
[null,null,{"$f":"Roster!D156","v":0},{"$f":"Roster!E156","v":0},{"$f":"Roster!F156","v":0},{"$f":"Roster!K156","v":0},{"$f":"Roster!L156","v":0},{"$f":"Roster!M156","v":0},0,{"$f":"Roster!O156","v":0},0]
[null,null,{"$f":"Roster!D157","v":0},{"$f":"Roster!E157","v":0},{"$f":"Roster!F157","v":0},{"$f":"Roster!K157","v":0},{"$f":"Roster!L157","v":0},{"$f":"Roster!M157","v":0},0,{"$f":"Roster!O157","v":0},0]
[null,null,{"$f":"Roster!D158","v":0},{"$f":"Roster!E158","v":0},{"$f":"Roster!F158","v":0},{"$f":"Roster!K158","v":0},{"$f":"Roster!L158","v":0},{"$f":"Roster!M158","v":0},0,{"$f":"Roster!O158","v":0},0]
[null,null,{"$f":"Roster!D159","v":0},{"$f":"Roster!E159","v":0},{"$f":"Roster!F159","v":0},{"$f":"Roster!K159","v":0},{"$f":"Roster!L159","v":0},{"$f":"Roster!M159","v":0},0,{"$f":"Roster!O159","v":0},0,null,88300,8800]
[]
[null,null,"APPROVALS:"]
[]
[null,null,"AVC/DBO",null,null,null,null,null,"Date"]
[]
[null,null,"Department Chair",null,null,null,null,null,"Date"]
[]
[null,null,"VCHS/Dean",null,null,null,null,null,"Date"]
[]
[null,null,"Other",null,null,null,null,null,"Date"]
[]
[]
[null,null,"This form is routed to Han Ho (h3ho@health.ucsd.edu) or ARCrequest@health.ucsd.edu prior to submission to the Dean."]

{"sheet":"checklist","index":1,"n_rows":19,"n_cols":2,"rows_kept":19,"cut":false,"hidden":false,"merged":[]}
["Checklist to review before sending for Dean's or VC's approval:"]
[]
[]
["APU profile form:"]
[null,"add all Faculty that belong to the code (including all the new Faculty appointments started during the current/prior FY)"]
[null,"remove all Faculty that no longer belong to the code"]
[null,"make sure all salary are based on the current, approved rank, step, and HSCP salary scales (do not use projected info)"]
[null,"* if APU scale is being changed for the APU code -> calculate the X', offscale, and Y based on the changed APU scale for ALL Faculty being listed"]
[null,"* if Faculty is being added to the APU code  -> calculate the X', offscale, and Y based on the changed APU scale for the newly added Faculty only"]
[null,"review to see if any APU code has fewer than 5 members, if so, this will be a compliance issue and department will need to provide justification in the memo to ask for the exceptional approval "]
[]
[]
["Chair's memo needs to include the following info:"]
[null,"list of all the changes being requested"]
[null,"justification for the requested changes"]
[null,"confirmation that all APU members are in good standing"]
[null,"confirmation that the department accepts 415(m) liability that may result"]
[null,"confirmation that the APU will be able to maintain the covered compensation rate for at least 3 years"]
[null,"if any APU code has fewer than 5 members, need to provide justification in the memo to ask for the exceptional approval "]

{"sheet":"Roster","index":2,"n_rows":300,"n_cols":16,"rows_kept":300,"cut":false,"hidden":false,"merged":[[7,10,7,14],[7,0,7,1],[7,2,7,9]]}
["I N S T R U C T I O N S :"]
["1. Click the",null,"button on the Roster tab, to clear existing data and prepare the form for entry.",null,null,null,null,null,"6. Paste Values (V) into the section highlighted yellow below (starting in Cell C10)."]
["2. In ARC ServiceNow, go to ARC Report Library > Compensation Reports > APU Profile Form.",null,null,null,null,null,null,null,"7. Type in the APU Code in Cell A10 and the APU Scale in Cell B10 (highlighted orange)."]
["3. In the APU Name Search box, type in the desired APU Code and hit Enter.",null,null,null,null,null,null,null,"7. Delete employees moving out of the APU and add employees moving into the APU."]
["4. Right click anywhere in the headers, go to the Export menu and select Excel (.xlsx).",null,null,null,null,null,null,null,"8. Sort Column D (AIR Profile) A to Z, so faculty members appear in alphabetical order."]
["5. Copy all data from the exported spreadsheet in Column C through Column J, starting at Row 2.",null,null,null,null,null,null,null,"10. On the APU Profile Form, hide all the blank linge and highlight the rows with new faculty."]
[]
["MANUAL  -  MANUAL",null,"A I R E L    -    A I R E L    -    A I R E L    -    A I R E L    -    A I R E L    -    A I R E L    -    A I R E L    -   A I R E L    -    A I R E L",null,null,null,null,null,null,null,"CALCULATED   -   CALCULATED   -   CALCULATED   -   CALCULATED"]
["APU Code","APU Scale","Department","AIR Profile","Rank","Step","Base (X)","Off Scale X","Total Negotiated (100%)","Stipend","Base (X)","X'","Total Off-Scale (X+X')","Total Covered Comp","Y","RankStepScale"]
["ORT006",null,null,null,null,null,null,null,null,null,{"$f":"IFERROR(VLOOKUP(P10,'FY25-FY26 Scales'!A:J,10,FALSE),G10)","v":0},{"$f":"IFERROR(VLOOKUP(P10,'FY25-FY26 Scales'!A:K,11,FALSE),ROUND(G10*VLOOKUP(B10*1,'APU Scale'!A:B,2,FALSE)-G10,-2))","v":0},{"$f":"ROUND(H10*VLOOKUP(B10*1,'APU Scale'!A:B,2,FALSE),-2)","v":0},{"$f":"K10+L10+M10","v":0},{"$f":"IF(I10-J10-N10<0,0,I10-J10-N10)","v":0},{"$f":"CONCATENATE(E10,F10,B10)","v":""}]
[{"$f":"A10","v":"ORT006"},{"$f":"B10","v":0},null,null,null,null,null,null,null,null,{"$f":"IFERROR(VLOOKUP(P11,'FY25-FY26 Scales'!A:J,10,FALSE),G11)","v":0},{"$f":"IFERROR(VLOOKUP(P11,'FY25-FY26 Scales'!A:K,11,FALSE),ROUND(G11*VLOOKUP(B11*1,'APU Scale'!A:B,2,FALSE)-G11,-2))","v":0},{"$f":"ROUND(H11*VLOOKUP(B11*1,'APU Scale'!A:B,2,FALSE),-2)","v":0},0,0,"0"]
["ORT006",0,null,null,null,null,null,null,null,null,{"$f":"IFERROR(VLOOKUP(P12,'FY25-FY26 Scales'!A:J,10,FALSE),G12)","v":0},{"$f":"IFERROR(VLOOKUP(P12,'FY25-FY26 Scales'!A:K,11,FALSE),ROUND(G12*VLOOKUP(B12*1,'APU Scale'!A:B,2,FALSE)-G12,-2))","v":0},{"$f":"ROUND(H12*VLOOKUP(B12*1,'APU Scale'!A:B,2,FALSE),-2)","v":0},0,0,"0"]
["ORT006",0,null,null,null,null,null,null,null,null,{"$f":"IFERROR(VLOOKUP(P13,'FY25-FY26 Scales'!A:J,10,FALSE),G13)","v":0},{"$f":"IFERROR(VLOOKUP(P13,'FY25-FY26 Scales'!A:K,11,FALSE),ROUND(G13*VLOOKUP(B13*1,'APU Scale'!A:B,2,FALSE)-G13,-2))","v":0},{"$f":"ROUND(H13*VLOOKUP(B13*1,'APU Scale'!A:B,2,FALSE),-2)","v":0},0,0,"0"]
["ORT006",0,null,null,null,null,null,null,null,null,{"$f":"IFERROR(VLOOKUP(P14,'FY25-FY26 Scales'!A:J,10,FALSE),G14)","v":0},{"$f":"IFERROR(VLOOKUP(P14,'FY25-FY26 Scales'!A:K,11,FALSE),ROUND(G14*VLOOKUP(B14*1,'APU Scale'!A:B,2,FALSE)-G14,-2))","v":0},{"$f":"ROUND(H14*VLOOKUP(B14*1,'APU Scale'!A:B,2,FALSE),-2)","v":0},0,0,"0"]
["ORT006",0,null,null,null,null,null,null,null,null,{"$f":"IFERROR(VLOOKUP(P15,'FY25-FY26 Scales'!A:J,10,FALSE),G15)","v":0},{"$f":"IFERROR(VLOOKUP(P15,'FY25-FY26 Scales'!A:K,11,FALSE),ROUND(G15*VLOOKUP(B15*1,'APU Scale'!A:B,2,FALSE)-G15,-2))","v":0},{"$f":"ROUND(H15*VLOOKUP(B15*1,'APU Scale'!A:B,2,FALSE),-2)","v":0},0,0,"0"]
["ORT006",0,null,null,null,null,null,null,null,null,{"$f":"IFERROR(VLOOKUP(P16,'FY25-FY26 Scales'!A:J,10,FALSE),G16)","v":0},{"$f":"IFERROR(VLOOKUP(P16,'FY25-FY26 Scales'!A:K,11,FALSE),ROUND(G16*VLOOKUP(B16*1,'APU Scale'!A:B,2,FALSE)-G16,-2))","v":0},{"$f":"ROUND(H16*VLOOKUP(B16*1,'APU Scale'!A:B,2,FALSE),-2)","v":0},0,0,"0"]
["ORT006",0,null,null,null,null,null,null,null,null,{"$f":"IFERROR(VLOOKUP(P17,'FY25-FY26 Scales'!A:J,10,FALSE),G17)","v":0},{"$f":"IFERROR(VLOOKUP(P17,'FY25-FY26 Scales'!A:K,11,FALSE),ROUND(G17*VLOOKUP(B17*1,'APU Scale'!A:B,2,FALSE)-G17,-2))","v":0},{"$f":"ROUND(H17*VLOOKUP(B17*1,'APU Scale'!A:B,2,FALSE),-2)","v":0},0,0,"0"]
["ORT006",0,null,null,null,null,null,null,null,null,{"$f":"IFERROR(VLOOKUP(P18,'FY25-FY26 Scales'!A:J,10,FALSE),G18)","v":0},{"$f":"IFERROR(VLOOKUP(P18,'FY25-FY26 Scales'!A:K,11,FALSE),ROUND(G18*VLOOKUP(B18*1,'APU Scale'!A:B,2,FALSE)-G18,-2))","v":0},{"$f":"ROUND(H18*VLOOKUP(B18*1,'APU Scale'!A:B,2,FALSE),-2)","v":0},0,0,"0"]
["ORT006",0,null,null,null,null,null,null,null,null,{"$f":"IFERROR(VLOOKUP(P19,'FY25-FY26 Scales'!A:J,10,FALSE),G19)","v":0},{"$f":"IFERROR(VLOOKUP(P19,'FY25-FY26 Scales'!A:K,11,FALSE),ROUND(G19*VLOOKUP(B19*1,'APU Scale'!A:B,2,FALSE)-G19,-2))","v":0},{"$f":"ROUND(H19*VLOOKUP(B19*1,'APU Scale'!A:B,2,FALSE),-2)","v":0},0,0,"0"]
["ORT006",0,null,null,null,null,null,null,null,null,{"$f":"IFERROR(VLOOKUP(P20,'FY25-FY26 Scales'!A:J,10,FALSE),G20)","v":0},{"$f":"IFERROR(VLOOKUP(P20,'FY25-FY26 Scales'!A:K,11,FALSE),ROUND(G20*VLOOKUP(B20*1,'APU Scale'!A:B,2,FALSE)-G20,-2))","v":0},{"$f":"ROUND(H20*VLOOKUP(B20*1,'APU Scale'!A:B,2,FALSE),-2)","v":0},0,0,"0"]
["ORT006",0,null,null,null,null,null,null,null,null,{"$f":"IFERROR(VLOOKUP(P21,'FY25-FY26 Scales'!A:J,10,FALSE),G21)","v":0},{"$f":"IFERROR(VLOOKUP(P21,'FY25-FY26 Scales'!A:K,11,FALSE),ROUND(G21*VLOOKUP(B21*1,'APU Scale'!A:B,2,FALSE)-G21,-2))","v":0},{"$f":"ROUND(H21*VLOOKUP(B21*1,'APU Scale'!A:B,2,FALSE),-2)","v":0},0,0,"0"]
["ORT006",0,null,null,null,null,null,null,null,null,{"$f":"IFERROR(VLOOKUP(P22,'FY25-FY26 Scales'!A:J,10,FALSE),G22)","v":0},{"$f":"IFERROR(VLOOKUP(P22,'FY25-FY26 Scales'!A:K,11,FALSE),ROUND(G22*VLOOKUP(B22*1,'APU Scale'!A:B,2,FALSE)-G22,-2))","v":0},{"$f":"ROUND(H22*VLOOKUP(B22*1,'APU Scale'!A:B,2,FALSE),-2)","v":0},0,0,"0"]
["ORT006",0,null,null,null,null,null,null,null,null,{"$f":"IFERROR(VLOOKUP(P23,'FY25-FY26 Scales'!A:J,10,FALSE),G23)","v":0},{"$f":"IFERROR(VLOOKUP(P23,'FY25-FY26 Scales'!A:K,11,FALSE),ROUND(G23*VLOOKUP(B23*1,'APU Scale'!A:B,2,FALSE)-G23,-2))","v":0},{"$f":"ROUND(H23*VLOOKUP(B23*1,'APU Scale'!A:B,2,FALSE),-2)","v":0},0,0,"0"]
["ORT006",0,null,null,null,null,null,null,null,null,{"$f":"IFERROR(VLOOKUP(P24,'FY25-FY26 Scales'!A:J,10,FALSE),G24)","v":0},{"$f":"IFERROR(VLOOKUP(P24,'FY25-FY26 Scales'!A:K,11,FALSE),ROUND(G24*VLOOKUP(B24*1,'APU Scale'!A:B,2,FALSE)-G24,-2))","v":0},{"$f":"ROUND(H24*VLOOKUP(B24*1,'APU Scale'!A:B,2,FALSE),-2)","v":0},0,0,"0"]
["ORT006",0,null,null,null,null,null,null,null,null,{"$f":"IFERROR(VLOOKUP(P25,'FY25-FY26 Scales'!A:J,10,FALSE),G25)","v":0},{"$f":"IFERROR(VLOOKUP(P25,'FY25-FY26 Scales'!A:K,11,FALSE),ROUND(G25*VLOOKUP(B25*1,'APU Scale'!A:B,2,FALSE)-G25,-2))","v":0},{"$f":"ROUND(H25*VLOOKUP(B25*1,'APU Scale'!A:B,2,FALSE),-2)","v":0},0,0,"0"]
["ORT006",0,null,null,null,null,null,null,null,null,{"$f":"IFERROR(VLOOKUP(P26,'FY25-FY26 Scales'!A:J,10,FALSE),G26)","v":0},{"$f":"IFERROR(VLOOKUP(P26,'FY25-FY26 Scales'!A:K,11,FALSE),ROUND(G26*VLOOKUP(B26*1,'APU Scale'!A:B,2,FALSE)-G26,-2))","v":0},{"$f":"ROUND(H26*VLOOKUP(B26*1,'APU Scale'!A:B,2,FALSE),-2)","v":0},0,0,"0"]
["ORT006",0,null,null,null,null,null,null,null,null,{"$f":"IFERROR(VLOOKUP(P27,'FY25-FY26 Scales'!A:J,10,FALSE),G27)","v":0},{"$f":"IFERROR(VLOOKUP(P27,'FY25-FY26 Scales'!A:K,11,FALSE),ROUND(G27*VLOOKUP(B27*1,'APU Scale'!A:B,2,FALSE)-G27,-2))","v":0},{"$f":"ROUND(H27*VLOOKUP(B27*1,'APU Scale'!A:B,2,FALSE),-2)","v":0},0,0,"0"]
["ORT006",0,null,null,null,null,null,null,null,null,{"$f":"IFERROR(VLOOKUP(P28,'FY25-FY26 Scales'!A:J,10,FALSE),G28)","v":0},{"$f":"IFERROR(VLOOKUP(P28,'FY25-FY26 Scales'!A:K,11,FALSE),ROUND(G28*VLOOKUP(B28*1,'APU Scale'!A:B,2,FALSE)-G28,-2))","v":0},{"$f":"ROUND(H28*VLOOKUP(B28*1,'APU Scale'!A:B,2,FALSE),-2)","v":0},0,0,"0"]
["ORT006",0,null,null,null,null,null,null,null,null,{"$f":"IFERROR(VLOOKUP(P29,'FY25-FY26 Scales'!A:J,10,FALSE),G29)","v":0},{"$f":"IFERROR(VLOOKUP(P29,'FY25-FY26 Scales'!A:K,11,FALSE),ROUND(G29*VLOOKUP(B29*1,'APU Scale'!A:B,2,FALSE)-G29,-2))","v":0},{"$f":"ROUND(H29*VLOOKUP(B29*1,'APU Scale'!A:B,2,FALSE),-2)","v":0},0,0,"0"]
["ORT006",0,null,null,null,null,null,null,null,null,{"$f":"IFERROR(VLOOKUP(P30,'FY25-FY26 Scales'!A:J,10,FALSE),G30)","v":0},{"$f":"IFERROR(VLOOKUP(P30,'FY25-FY26 Scales'!A:K,11,FALSE),ROUND(G30*VLOOKUP(B30*1,'APU Scale'!A:B,2,FALSE)-G30,-2))","v":0},{"$f":"ROUND(H30*VLOOKUP(B30*1,'APU Scale'!A:B,2,FALSE),-2)","v":0},0,0,"0"]
["ORT006",0,null,null,null,null,null,null,null,null,{"$f":"IFERROR(VLOOKUP(P31,'FY25-FY26 Scales'!A:J,10,FALSE),G31)","v":0},{"$f":"IFERROR(VLOOKUP(P31,'FY25-FY26 Scales'!A:K,11,FALSE),ROUND(G31*VLOOKUP(B31*1,'APU Scale'!A:B,2,FALSE)-G31,-2))","v":0},{"$f":"ROUND(H31*VLOOKUP(B31*1,'APU Scale'!A:B,2,FALSE),-2)","v":0},0,0,"0"]
["ORT006",0,null,null,null,null,null,null,null,null,{"$f":"IFERROR(VLOOKUP(P32,'FY25-FY26 Scales'!A:J,10,FALSE),G32)","v":0},{"$f":"IFERROR(VLOOKUP(P32,'FY25-FY26 Scales'!A:K,11,FALSE),ROUND(G32*VLOOKUP(B32*1,'APU Scale'!A:B,2,FALSE)-G32,-2))","v":0},{"$f":"ROUND(H32*VLOOKUP(B32*1,'APU Scale'!A:B,2,FALSE),-2)","v":0},0,0,"0"]
["ORT006",0,null,null,null,null,null,null,null,null,{"$f":"IFERROR(VLOOKUP(P33,'FY25-FY26 Scales'!A:J,10,FALSE),G33)","v":0},{"$f":"IFERROR(VLOOKUP(P33,'FY25-FY26 Scales'!A:K,11,FALSE),ROUND(G33*VLOOKUP(B33*1,'APU Scale'!A:B,2,FALSE)-G33,-2))","v":0},{"$f":"ROUND(H33*VLOOKUP(B33*1,'APU Scale'!A:B,2,FALSE),-2)","v":0},0,0,"0"]
["ORT006",0,null,null,null,null,null,null,null,null,{"$f":"IFERROR(VLOOKUP(P34,'FY25-FY26 Scales'!A:J,10,FALSE),G34)","v":0},{"$f":"IFERROR(VLOOKUP(P34,'FY25-FY26 Scales'!A:K,11,FALSE),ROUND(G34*VLOOKUP(B34*1,'APU Scale'!A:B,2,FALSE)-G34,-2))","v":0},{"$f":"ROUND(H34*VLOOKUP(B34*1,'APU Scale'!A:B,2,FALSE),-2)","v":0},0,0,"0"]
["ORT006",0,null,null,null,null,null,null,null,null,{"$f":"IFERROR(VLOOKUP(P35,'FY25-FY26 Scales'!A:J,10,FALSE),G35)","v":0},{"$f":"IFERROR(VLOOKUP(P35,'FY25-FY26 Scales'!A:K,11,FALSE),ROUND(G35*VLOOKUP(B35*1,'APU Scale'!A:B,2,FALSE)-G35,-2))","v":0},{"$f":"ROUND(H35*VLOOKUP(B35*1,'APU Scale'!A:B,2,FALSE),-2)","v":0},0,0,"0"]
["ORT006",0,null,null,null,null,null,null,null,null,{"$f":"IFERROR(VLOOKUP(P36,'FY25-FY26 Scales'!A:J,10,FALSE),G36)","v":0},{"$f":"IFERROR(VLOOKUP(P36,'FY25-FY26 Scales'!A:K,11,FALSE),ROUND(G36*VLOOKUP(B36*1,'APU Scale'!A:B,2,FALSE)-G36,-2))","v":0},{"$f":"ROUND(H36*VLOOKUP(B36*1,'APU Scale'!A:B,2,FALSE),-2)","v":0},0,0,"0"]
["ORT006",0,null,null,null,null,null,null,null,null,{"$f":"IFERROR(VLOOKUP(P37,'FY25-FY26 Scales'!A:J,10,FALSE),G37)","v":0},{"$f":"IFERROR(VLOOKUP(P37,'FY25-FY26 Scales'!A:K,11,FALSE),ROUND(G37*VLOOKUP(B37*1,'APU Scale'!A:B,2,FALSE)-G37,-2))","v":0},{"$f":"ROUND(H37*VLOOKUP(B37*1,'APU Scale'!A:B,2,FALSE),-2)","v":0},0,0,"0"]
["ORT006",0,null,null,null,null,null,null,null,null,{"$f":"IFERROR(VLOOKUP(P38,'FY25-FY26 Scales'!A:J,10,FALSE),G38)","v":0},{"$f":"IFERROR(VLOOKUP(P38,'FY25-FY26 Scales'!A:K,11,FALSE),ROUND(G38*VLOOKUP(B38*1,'APU Scale'!A:B,2,FALSE)-G38,-2))","v":0},{"$f":"ROUND(H38*VLOOKUP(B38*1,'APU Scale'!A:B,2,FALSE),-2)","v":0},0,0,"0"]
["ORT006",0,null,null,null,null,null,null,null,null,{"$f":"IFERROR(VLOOKUP(P39,'FY25-FY26 Scales'!A:J,10,FALSE),G39)","v":0},{"$f":"IFERROR(VLOOKUP(P39,'FY25-FY26 Scales'!A:K,11,FALSE),ROUND(G39*VLOOKUP(B39*1,'APU Scale'!A:B,2,FALSE)-G39,-2))","v":0},{"$f":"ROUND(H39*VLOOKUP(B39*1,'APU Scale'!A:B,2,FALSE),-2)","v":0},0,0,"0"]
["ORT006",0,null,null,null,null,null,null,null,null,{"$f":"IFERROR(VLOOKUP(P40,'FY25-FY26 Scales'!A:J,10,FALSE),G40)","v":0},{"$f":"IFERROR(VLOOKUP(P40,'FY25-FY26 Scales'!A:K,11,FALSE),ROUND(G40*VLOOKUP(B40*1,'APU Scale'!A:B,2,FALSE)-G40,-2))","v":0},{"$f":"ROUND(H40*VLOOKUP(B40*1,'APU Scale'!A:B,2,FALSE),-2)","v":0},0,0,"0"]
["ORT006",0,null,null,null,null,null,null,null,null,{"$f":"IFERROR(VLOOKUP(P41,'FY25-FY26 Scales'!A:J,10,FALSE),G41)","v":0},{"$f":"IFERROR(VLOOKUP(P41,'FY25-FY26 Scales'!A:K,11,FALSE),ROUND(G41*VLOOKUP(B41*1,'APU Scale'!A:B,2,FALSE)-G41,-2))","v":0},{"$f":"ROUND(H41*VLOOKUP(B41*1,'APU Scale'!A:B,2,FALSE),-2)","v":0},0,0,"0"]
["ORT006",0,null,null,null,null,null,null,null,null,{"$f":"IFERROR(VLOOKUP(P42,'FY25-FY26 Scales'!A:J,10,FALSE),G42)","v":0},{"$f":"IFERROR(VLOOKUP(P42,'FY25-FY26 Scales'!A:K,11,FALSE),ROUND(G42*VLOOKUP(B42*1,'APU Scale'!A:B,2,FALSE)-G42,-2))","v":0},{"$f":"ROUND(H42*VLOOKUP(B42*1,'APU Scale'!A:B,2,FALSE),-2)","v":0},0,0,"0"]
[{"$f":"A42","v":"ORT006"},{"$f":"B42","v":0},null,null,null,null,null,null,null,null,{"$f":"IFERROR(VLOOKUP(P43,'FY25-FY26 Scales'!A:J,10,FALSE),G43)","v":0},{"$f":"IFERROR(VLOOKUP(P43,'FY25-FY26 Scales'!A:K,11,FALSE),ROUND(G43*VLOOKUP(B43*1,'APU Scale'!A:B,2,FALSE)-G43,-2))","v":0},{"$f":"ROUND(H43*VLOOKUP(B43*1,'APU Scale'!A:B,2,FALSE),-2)","v":0},0,0,"0"]
["ORT006",0,null,null,null,null,null,null,null,null,{"$f":"IFERROR(VLOOKUP(P44,'FY25-FY26 Scales'!A:J,10,FALSE),G44)","v":0},{"$f":"IFERROR(VLOOKUP(P44,'FY25-FY26 Scales'!A:K,11,FALSE),ROUND(G44*VLOOKUP(B44*1,'APU Scale'!A:B,2,FALSE)-G44,-2))","v":0},{"$f":"ROUND(H44*VLOOKUP(B44*1,'APU Scale'!A:B,2,FALSE),-2)","v":0},0,0,"0"]
["ORT006",0,null,null,null,null,null,null,null,null,{"$f":"IFERROR(VLOOKUP(P45,'FY25-FY26 Scales'!A:J,10,FALSE),G45)","v":0},{"$f":"IFERROR(VLOOKUP(P45,'FY25-FY26 Scales'!A:K,11,FALSE),ROUND(G45*VLOOKUP(B45*1,'APU Scale'!A:B,2,FALSE)-G45,-2))","v":0},{"$f":"ROUND(H45*VLOOKUP(B45*1,'APU Scale'!A:B,2,FALSE),-2)","v":0},0,0,"0"]
["ORT006",0,null,null,null,null,null,null,null,null,{"$f":"IFERROR(VLOOKUP(P46,'FY25-FY26 Scales'!A:J,10,FALSE),G46)","v":0},{"$f":"IFERROR(VLOOKUP(P46,'FY25-FY26 Scales'!A:K,11,FALSE),ROUND(G46*VLOOKUP(B46*1,'APU Scale'!A:B,2,FALSE)-G46,-2))","v":0},{"$f":"ROUND(H46*VLOOKUP(B46*1,'APU Scale'!A:B,2,FALSE),-2)","v":0},0,0,"0"]
["ORT006",0,null,null,null,null,null,null,null,null,{"$f":"IFERROR(VLOOKUP(P47,'FY25-FY26 Scales'!A:J,10,FALSE),G47)","v":0},{"$f":"IFERROR(VLOOKUP(P47,'FY25-FY26 Scales'!A:K,11,FALSE),ROUND(G47*VLOOKUP(B47*1,'APU Scale'!A:B,2,FALSE)-G47,-2))","v":0},{"$f":"ROUND(H47*VLOOKUP(B47*1,'APU Scale'!A:B,2,FALSE),-2)","v":0},0,0,"0"]
["ORT006",0,null,null,null,null,null,null,null,null,{"$f":"IFERROR(VLOOKUP(P48,'FY25-FY26 Scales'!A:J,10,FALSE),G48)","v":0},{"$f":"IFERROR(VLOOKUP(P48,'FY25-FY26 Scales'!A:K,11,FALSE),ROUND(G48*VLOOKUP(B48*1,'APU Scale'!A:B,2,FALSE)-G48,-2))","v":0},{"$f":"ROUND(H48*VLOOKUP(B48*1,'APU Scale'!A:B,2,FALSE),-2)","v":0},0,0,"0"]
["ORT006",0,null,null,null,null,null,null,null,null,{"$f":"IFERROR(VLOOKUP(P49,'FY25-FY26 Scales'!A:J,10,FALSE),G49)","v":0},{"$f":"IFERROR(VLOOKUP(P49,'FY25-FY26 Scales'!A:K,11,FALSE),ROUND(G49*VLOOKUP(B49*1,'APU Scale'!A:B,2,FALSE)-G49,-2))","v":0},{"$f":"ROUND(H49*VLOOKUP(B49*1,'APU Scale'!A:B,2,FALSE),-2)","v":0},0,0,"0"]
["ORT006",0,null,null,null,null,null,null,null,null,{"$f":"IFERROR(VLOOKUP(P50,'FY25-FY26 Scales'!A:J,10,FALSE),G50)","v":0},{"$f":"IFERROR(VLOOKUP(P50,'FY25-FY26 Scales'!A:K,11,FALSE),ROUND(G50*VLOOKUP(B50*1,'APU Scale'!A:B,2,FALSE)-G50,-2))","v":0},{"$f":"ROUND(H50*VLOOKUP(B50*1,'APU Scale'!A:B,2,FALSE),-2)","v":0},0,0,"0"]
["ORT006",0,null,null,null,null,null,null,null,null,{"$f":"IFERROR(VLOOKUP(P51,'FY25-FY26 Scales'!A:J,10,FALSE),G51)","v":0},{"$f":"IFERROR(VLOOKUP(P51,'FY25-FY26 Scales'!A:K,11,FALSE),ROUND(G51*VLOOKUP(B51*1,'APU Scale'!A:B,2,FALSE)-G51,-2))","v":0},{"$f":"ROUND(H51*VLOOKUP(B51*1,'APU Scale'!A:B,2,FALSE),-2)","v":0},0,0,"0"]
["ORT006",0,null,null,null,null,null,null,null,null,{"$f":"IFERROR(VLOOKUP(P52,'FY25-FY26 Scales'!A:J,10,FALSE),G52)","v":0},{"$f":"IFERROR(VLOOKUP(P52,'FY25-FY26 Scales'!A:K,11,FALSE),ROUND(G52*VLOOKUP(B52*1,'APU Scale'!A:B,2,FALSE)-G52,-2))","v":0},{"$f":"ROUND(H52*VLOOKUP(B52*1,'APU Scale'!A:B,2,FALSE),-2)","v":0},0,0,"0"]
["ORT006",0,null,null,null,null,null,null,null,null,{"$f":"IFERROR(VLOOKUP(P53,'FY25-FY26 Scales'!A:J,10,FALSE),G53)","v":0},{"$f":"IFERROR(VLOOKUP(P53,'FY25-FY26 Scales'!A:K,11,FALSE),ROUND(G53*VLOOKUP(B53*1,'APU Scale'!A:B,2,FALSE)-G53,-2))","v":0},{"$f":"ROUND(H53*VLOOKUP(B53*1,'APU Scale'!A:B,2,FALSE),-2)","v":0},0,0,"0"]
["ORT006",0,null,null,null,null,null,null,null,null,{"$f":"IFERROR(VLOOKUP(P54,'FY25-FY26 Scales'!A:J,10,FALSE),G54)","v":0},{"$f":"IFERROR(VLOOKUP(P54,'FY25-FY26 Scales'!A:K,11,FALSE),ROUND(G54*VLOOKUP(B54*1,'APU Scale'!A:B,2,FALSE)-G54,-2))","v":0},{"$f":"ROUND(H54*VLOOKUP(B54*1,'APU Scale'!A:B,2,FALSE),-2)","v":0},0,0,"0"]
["ORT006",0,null,null,null,null,null,null,null,null,{"$f":"IFERROR(VLOOKUP(P55,'FY25-FY26 Scales'!A:J,10,FALSE),G55)","v":0},{"$f":"IFERROR(VLOOKUP(P55,'FY25-FY26 Scales'!A:K,11,FALSE),ROUND(G55*VLOOKUP(B55*1,'APU Scale'!A:B,2,FALSE)-G55,-2))","v":0},{"$f":"ROUND(H55*VLOOKUP(B55*1,'APU Scale'!A:B,2,FALSE),-2)","v":0},0,0,"0"]
["ORT006",0,null,null,null,null,null,null,null,null,{"$f":"IFERROR(VLOOKUP(P56,'FY25-FY26 Scales'!A:J,10,FALSE),G56)","v":0},{"$f":"IFERROR(VLOOKUP(P56,'FY25-FY26 Scales'!A:K,11,FALSE),ROUND(G56*VLOOKUP(B56*1,'APU Scale'!A:B,2,FALSE)-G56,-2))","v":0},{"$f":"ROUND(H56*VLOOKUP(B56*1,'APU Scale'!A:B,2,FALSE),-2)","v":0},0,0,"0"]
["ORT006",0,null,null,null,null,null,null,null,null,{"$f":"IFERROR(VLOOKUP(P57,'FY25-FY26 Scales'!A:J,10,FALSE),G57)","v":0},{"$f":"IFERROR(VLOOKUP(P57,'FY25-FY26 Scales'!A:K,11,FALSE),ROUND(G57*VLOOKUP(B57*1,'APU Scale'!A:B,2,FALSE)-G57,-2))","v":0},{"$f":"ROUND(H57*VLOOKUP(B57*1,'APU Scale'!A:B,2,FALSE),-2)","v":0},0,0,"0"]
["ORT006",0,null,null,null,null,null,null,null,null,{"$f":"IFERROR(VLOOKUP(P58,'FY25-FY26 Scales'!A:J,10,FALSE),G58)","v":0},{"$f":"IFERROR(VLOOKUP(P58,'FY25-FY26 Scales'!A:K,11,FALSE),ROUND(G58*VLOOKUP(B58*1,'APU Scale'!A:B,2,FALSE)-G58,-2))","v":0},{"$f":"ROUND(H58*VLOOKUP(B58*1,'APU Scale'!A:B,2,FALSE),-2)","v":0},0,0,"0"]
["ORT006",0,null,null,null,null,null,null,null,null,{"$f":"IFERROR(VLOOKUP(P59,'FY25-FY26 Scales'!A:J,10,FALSE),G59)","v":0},{"$f":"IFERROR(VLOOKUP(P59,'FY25-FY26 Scales'!A:K,11,FALSE),ROUND(G59*VLOOKUP(B59*1,'APU Scale'!A:B,2,FALSE)-G59,-2))","v":0},{"$f":"ROUND(H59*VLOOKUP(B59*1,'APU Scale'!A:B,2,FALSE),-2)","v":0},0,0,"0"]
["ORT006",0,null,null,null,null,null,null,null,null,{"$f":"IFERROR(VLOOKUP(P60,'FY25-FY26 Scales'!A:J,10,FALSE),G60)","v":0},{"$f":"IFERROR(VLOOKUP(P60,'FY25-FY26 Scales'!A:K,11,FALSE),ROUND(G60*VLOOKUP(B60*1,'APU Scale'!A:B,2,FALSE)-G60,-2))","v":0},{"$f":"ROUND(H60*VLOOKUP(B60*1,'APU Scale'!A:B,2,FALSE),-2)","v":0},0,0,"0"]
["ORT006",0,null,null,null,null,null,null,null,null,{"$f":"IFERROR(VLOOKUP(P61,'FY25-FY26 Scales'!A:J,10,FALSE),G61)","v":0},{"$f":"IFERROR(VLOOKUP(P61,'FY25-FY26 Scales'!A:K,11,FALSE),ROUND(G61*VLOOKUP(B61*1,'APU Scale'!A:B,2,FALSE)-G61,-2))","v":0},{"$f":"ROUND(H61*VLOOKUP(B61*1,'APU Scale'!A:B,2,FALSE),-2)","v":0},0,0,"0"]
["ORT006",0,null,null,null,null,null,null,null,null,{"$f":"IFERROR(VLOOKUP(P62,'FY25-FY26 Scales'!A:J,10,FALSE),G62)","v":0},{"$f":"IFERROR(VLOOKUP(P62,'FY25-FY26 Scales'!A:K,11,FALSE),ROUND(G62*VLOOKUP(B62*1,'APU Scale'!A:B,2,FALSE)-G62,-2))","v":0},{"$f":"ROUND(H62*VLOOKUP(B62*1,'APU Scale'!A:B,2,FALSE),-2)","v":0},0,0,"0"]
["ORT006",0,null,null,null,null,null,null,null,null,{"$f":"IFERROR(VLOOKUP(P63,'FY25-FY26 Scales'!A:J,10,FALSE),G63)","v":0},{"$f":"IFERROR(VLOOKUP(P63,'FY25-FY26 Scales'!A:K,11,FALSE),ROUND(G63*VLOOKUP(B63*1,'APU Scale'!A:B,2,FALSE)-G63,-2))","v":0},{"$f":"ROUND(H63*VLOOKUP(B63*1,'APU Scale'!A:B,2,FALSE),-2)","v":0},0,0,"0"]
["ORT006",0,null,null,null,null,null,null,null,null,{"$f":"IFERROR(VLOOKUP(P64,'FY25-FY26 Scales'!A:J,10,FALSE),G64)","v":0},{"$f":"IFERROR(VLOOKUP(P64,'FY25-FY26 Scales'!A:K,11,FALSE),ROUND(G64*VLOOKUP(B64*1,'APU Scale'!A:B,2,FALSE)-G64,-2))","v":0},{"$f":"ROUND(H64*VLOOKUP(B64*1,'APU Scale'!A:B,2,FALSE),-2)","v":0},0,0,"0"]
["ORT006",0,null,null,null,null,null,null,null,null,{"$f":"IFERROR(VLOOKUP(P65,'FY25-FY26 Scales'!A:J,10,FALSE),G65)","v":0},{"$f":"IFERROR(VLOOKUP(P65,'FY25-FY26 Scales'!A:K,11,FALSE),ROUND(G65*VLOOKUP(B65*1,'APU Scale'!A:B,2,FALSE)-G65,-2))","v":0},{"$f":"ROUND(H65*VLOOKUP(B65*1,'APU Scale'!A:B,2,FALSE),-2)","v":0},0,0,"0"]
["ORT006",0,null,null,null,null,null,null,null,null,{"$f":"IFERROR(VLOOKUP(P66,'FY25-FY26 Scales'!A:J,10,FALSE),G66)","v":0},{"$f":"IFERROR(VLOOKUP(P66,'FY25-FY26 Scales'!A:K,11,FALSE),ROUND(G66*VLOOKUP(B66*1,'APU Scale'!A:B,2,FALSE)-G66,-2))","v":0},{"$f":"ROUND(H66*VLOOKUP(B66*1,'APU Scale'!A:B,2,FALSE),-2)","v":0},0,0,"0"]
["ORT006",0,null,null,null,null,null,null,null,null,{"$f":"IFERROR(VLOOKUP(P67,'FY25-FY26 Scales'!A:J,10,FALSE),G67)","v":0},{"$f":"IFERROR(VLOOKUP(P67,'FY25-FY26 Scales'!A:K,11,FALSE),ROUND(G67*VLOOKUP(B67*1,'APU Scale'!A:B,2,FALSE)-G67,-2))","v":0},{"$f":"ROUND(H67*VLOOKUP(B67*1,'APU Scale'!A:B,2,FALSE),-2)","v":0},0,0,"0"]
["ORT006",0,null,null,null,null,null,null,null,null,{"$f":"IFERROR(VLOOKUP(P68,'FY25-FY26 Scales'!A:J,10,FALSE),G68)","v":0},{"$f":"IFERROR(VLOOKUP(P68,'FY25-FY26 Scales'!A:K,11,FALSE),ROUND(G68*VLOOKUP(B68*1,'APU Scale'!A:B,2,FALSE)-G68,-2))","v":0},{"$f":"ROUND(H68*VLOOKUP(B68*1,'APU Scale'!A:B,2,FALSE),-2)","v":0},0,0,"0"]
["ORT006",0,null,null,null,null,null,null,null,null,{"$f":"IFERROR(VLOOKUP(P69,'FY25-FY26 Scales'!A:J,10,FALSE),G69)","v":0},{"$f":"IFERROR(VLOOKUP(P69,'FY25-FY26 Scales'!A:K,11,FALSE),ROUND(G69*VLOOKUP(B69*1,'APU Scale'!A:B,2,FALSE)-G69,-2))","v":0},{"$f":"ROUND(H69*VLOOKUP(B69*1,'APU Scale'!A:B,2,FALSE),-2)","v":0},0,0,"0"]
["ORT006",0,null,null,null,null,null,null,null,null,{"$f":"IFERROR(VLOOKUP(P70,'FY25-FY26 Scales'!A:J,10,FALSE),G70)","v":0},{"$f":"IFERROR(VLOOKUP(P70,'FY25-FY26 Scales'!A:K,11,FALSE),ROUND(G70*VLOOKUP(B70*1,'APU Scale'!A:B,2,FALSE)-G70,-2))","v":0},{"$f":"ROUND(H70*VLOOKUP(B70*1,'APU Scale'!A:B,2,FALSE),-2)","v":0},0,0,"0"]
["ORT006",0,null,null,null,null,null,null,null,null,{"$f":"IFERROR(VLOOKUP(P71,'FY25-FY26 Scales'!A:J,10,FALSE),G71)","v":0},{"$f":"IFERROR(VLOOKUP(P71,'FY25-FY26 Scales'!A:K,11,FALSE),ROUND(G71*VLOOKUP(B71*1,'APU Scale'!A:B,2,FALSE)-G71,-2))","v":0},{"$f":"ROUND(H71*VLOOKUP(B71*1,'APU Scale'!A:B,2,FALSE),-2)","v":0},0,0,"0"]
["ORT006",0,null,null,null,null,null,null,null,null,{"$f":"IFERROR(VLOOKUP(P72,'FY25-FY26 Scales'!A:J,10,FALSE),G72)","v":0},{"$f":"IFERROR(VLOOKUP(P72,'FY25-FY26 Scales'!A:K,11,FALSE),ROUND(G72*VLOOKUP(B72*1,'APU Scale'!A:B,2,FALSE)-G72,-2))","v":0},{"$f":"ROUND(H72*VLOOKUP(B72*1,'APU Scale'!A:B,2,FALSE),-2)","v":0},0,0,"0"]
["ORT006",0,null,null,null,null,null,null,null,null,{"$f":"IFERROR(VLOOKUP(P73,'FY25-FY26 Scales'!A:J,10,FALSE),G73)","v":0},{"$f":"IFERROR(VLOOKUP(P73,'FY25-FY26 Scales'!A:K,11,FALSE),ROUND(G73*VLOOKUP(B73*1,'APU Scale'!A:B,2,FALSE)-G73,-2))","v":0},{"$f":"ROUND(H73*VLOOKUP(B73*1,'APU Scale'!A:B,2,FALSE),-2)","v":0},0,0,"0"]
["ORT006",0,null,null,null,null,null,null,null,null,{"$f":"IFERROR(VLOOKUP(P74,'FY25-FY26 Scales'!A:J,10,FALSE),G74)","v":0},{"$f":"IFERROR(VLOOKUP(P74,'FY25-FY26 Scales'!A:K,11,FALSE),ROUND(G74*VLOOKUP(B74*1,'APU Scale'!A:B,2,FALSE)-G74,-2))","v":0},{"$f":"ROUND(H74*VLOOKUP(B74*1,'APU Scale'!A:B,2,FALSE),-2)","v":0},{"$f":"K74+L74+M74","v":0},{"$f":"IF(I74-J74-N74<0,0,I74-J74-N74)","v":0},{"$f":"CONCATENATE(E74,F74,B74)","v":"0"}]
[{"$f":"A74","v":"ORT006"},{"$f":"B74","v":0},null,null,null,null,null,null,null,null,{"$f":"IFERROR(VLOOKUP(P75,'FY25-FY26 Scales'!A:J,10,FALSE),G75)","v":0},{"$f":"IFERROR(VLOOKUP(P75,'FY25-FY26 Scales'!A:K,11,FALSE),ROUND(G75*VLOOKUP(B75*1,'APU Scale'!A:B,2,FALSE)-G75,-2))","v":0},{"$f":"ROUND(H75*VLOOKUP(B75*1,'APU Scale'!A:B,2,FALSE),-2)","v":0},0,0,"0"]
["ORT006",0,null,null,null,null,null,null,null,null,{"$f":"IFERROR(VLOOKUP(P76,'FY25-FY26 Scales'!A:J,10,FALSE),G76)","v":0},{"$f":"IFERROR(VLOOKUP(P76,'FY25-FY26 Scales'!A:K,11,FALSE),ROUND(G76*VLOOKUP(B76*1,'APU Scale'!A:B,2,FALSE)-G76,-2))","v":0},{"$f":"ROUND(H76*VLOOKUP(B76*1,'APU Scale'!A:B,2,FALSE),-2)","v":0},0,0,"0"]
["ORT006",0,null,null,null,null,null,null,null,null,{"$f":"IFERROR(VLOOKUP(P77,'FY25-FY26 Scales'!A:J,10,FALSE),G77)","v":0},{"$f":"IFERROR(VLOOKUP(P77,'FY25-FY26 Scales'!A:K,11,FALSE),ROUND(G77*VLOOKUP(B77*1,'APU Scale'!A:B,2,FALSE)-G77,-2))","v":0},{"$f":"ROUND(H77*VLOOKUP(B77*1,'APU Scale'!A:B,2,FALSE),-2)","v":0},0,0,"0"]
["ORT006",0,null,null,null,null,null,null,null,null,{"$f":"IFERROR(VLOOKUP(P78,'FY25-FY26 Scales'!A:J,10,FALSE),G78)","v":0},{"$f":"IFERROR(VLOOKUP(P78,'FY25-FY26 Scales'!A:K,11,FALSE),ROUND(G78*VLOOKUP(B78*1,'APU Scale'!A:B,2,FALSE)-G78,-2))","v":0},{"$f":"ROUND(H78*VLOOKUP(B78*1,'APU Scale'!A:B,2,FALSE),-2)","v":0},0,0,"0"]
["ORT006",0,null,null,null,null,null,null,null,null,{"$f":"IFERROR(VLOOKUP(P79,'FY25-FY26 Scales'!A:J,10,FALSE),G79)","v":0},{"$f":"IFERROR(VLOOKUP(P79,'FY25-FY26 Scales'!A:K,11,FALSE),ROUND(G79*VLOOKUP(B79*1,'APU Scale'!A:B,2,FALSE)-G79,-2))","v":0},{"$f":"ROUND(H79*VLOOKUP(B79*1,'APU Scale'!A:B,2,FALSE),-2)","v":0},0,0,"0"]
["ORT006",0,null,null,null,null,null,null,null,null,{"$f":"IFERROR(VLOOKUP(P80,'FY25-FY26 Scales'!A:J,10,FALSE),G80)","v":0},{"$f":"IFERROR(VLOOKUP(P80,'FY25-FY26 Scales'!A:K,11,FALSE),ROUND(G80*VLOOKUP(B80*1,'APU Scale'!A:B,2,FALSE)-G80,-2))","v":0},{"$f":"ROUND(H80*VLOOKUP(B80*1,'APU Scale'!A:B,2,FALSE),-2)","v":0},0,0,"0"]
["ORT006",0,null,null,null,null,null,null,null,null,{"$f":"IFERROR(VLOOKUP(P81,'FY25-FY26 Scales'!A:J,10,FALSE),G81)","v":0},{"$f":"IFERROR(VLOOKUP(P81,'FY25-FY26 Scales'!A:K,11,FALSE),ROUND(G81*VLOOKUP(B81*1,'APU Scale'!A:B,2,FALSE)-G81,-2))","v":0},{"$f":"ROUND(H81*VLOOKUP(B81*1,'APU Scale'!A:B,2,FALSE),-2)","v":0},0,0,"0"]
["ORT006",0,null,null,null,null,null,null,null,null,{"$f":"IFERROR(VLOOKUP(P82,'FY25-FY26 Scales'!A:J,10,FALSE),G82)","v":0},{"$f":"IFERROR(VLOOKUP(P82,'FY25-FY26 Scales'!A:K,11,FALSE),ROUND(G82*VLOOKUP(B82*1,'APU Scale'!A:B,2,FALSE)-G82,-2))","v":0},{"$f":"ROUND(H82*VLOOKUP(B82*1,'APU Scale'!A:B,2,FALSE),-2)","v":0},0,0,"0"]
["ORT006",0,null,null,null,null,null,null,null,null,{"$f":"IFERROR(VLOOKUP(P83,'FY25-FY26 Scales'!A:J,10,FALSE),G83)","v":0},{"$f":"IFERROR(VLOOKUP(P83,'FY25-FY26 Scales'!A:K,11,FALSE),ROUND(G83*VLOOKUP(B83*1,'APU Scale'!A:B,2,FALSE)-G83,-2))","v":0},{"$f":"ROUND(H83*VLOOKUP(B83*1,'APU Scale'!A:B,2,FALSE),-2)","v":0},0,0,"0"]
["ORT006",0,null,null,null,null,null,null,null,null,{"$f":"IFERROR(VLOOKUP(P84,'FY25-FY26 Scales'!A:J,10,FALSE),G84)","v":0},{"$f":"IFERROR(VLOOKUP(P84,'FY25-FY26 Scales'!A:K,11,FALSE),ROUND(G84*VLOOKUP(B84*1,'APU Scale'!A:B,2,FALSE)-G84,-2))","v":0},{"$f":"ROUND(H84*VLOOKUP(B84*1,'APU Scale'!A:B,2,FALSE),-2)","v":0},0,0,"0"]
["ORT006",0,null,null,null,null,null,null,null,null,{"$f":"IFERROR(VLOOKUP(P85,'FY25-FY26 Scales'!A:J,10,FALSE),G85)","v":0},{"$f":"IFERROR(VLOOKUP(P85,'FY25-FY26 Scales'!A:K,11,FALSE),ROUND(G85*VLOOKUP(B85*1,'APU Scale'!A:B,2,FALSE)-G85,-2))","v":0},{"$f":"ROUND(H85*VLOOKUP(B85*1,'APU Scale'!A:B,2,FALSE),-2)","v":0},0,0,"0"]
["ORT006",0,null,null,null,null,null,null,null,null,{"$f":"IFERROR(VLOOKUP(P86,'FY25-FY26 Scales'!A:J,10,FALSE),G86)","v":0},{"$f":"IFERROR(VLOOKUP(P86,'FY25-FY26 Scales'!A:K,11,FALSE),ROUND(G86*VLOOKUP(B86*1,'APU Scale'!A:B,2,FALSE)-G86,-2))","v":0},{"$f":"ROUND(H86*VLOOKUP(B86*1,'APU Scale'!A:B,2,FALSE),-2)","v":0},0,0,"0"]
["ORT006",0,null,null,null,null,null,null,null,null,{"$f":"IFERROR(VLOOKUP(P87,'FY25-FY26 Scales'!A:J,10,FALSE),G87)","v":0},{"$f":"IFERROR(VLOOKUP(P87,'FY25-FY26 Scales'!A:K,11,FALSE),ROUND(G87*VLOOKUP(B87*1,'APU Scale'!A:B,2,FALSE)-G87,-2))","v":0},{"$f":"ROUND(H87*VLOOKUP(B87*1,'APU Scale'!A:B,2,FALSE),-2)","v":0},0,0,"0"]
["ORT006",0,null,null,null,null,null,null,null,null,{"$f":"IFERROR(VLOOKUP(P88,'FY25-FY26 Scales'!A:J,10,FALSE),G88)","v":0},{"$f":"IFERROR(VLOOKUP(P88,'FY25-FY26 Scales'!A:K,11,FALSE),ROUND(G88*VLOOKUP(B88*1,'APU Scale'!A:B,2,FALSE)-G88,-2))","v":0},{"$f":"ROUND(H88*VLOOKUP(B88*1,'APU Scale'!A:B,2,FALSE),-2)","v":0},0,0,"0"]
["ORT006",0,null,null,null,null,null,null,null,null,{"$f":"IFERROR(VLOOKUP(P89,'FY25-FY26 Scales'!A:J,10,FALSE),G89)","v":0},{"$f":"IFERROR(VLOOKUP(P89,'FY25-FY26 Scales'!A:K,11,FALSE),ROUND(G89*VLOOKUP(B89*1,'APU Scale'!A:B,2,FALSE)-G89,-2))","v":0},{"$f":"ROUND(H89*VLOOKUP(B89*1,'APU Scale'!A:B,2,FALSE),-2)","v":0},0,0,"0"]
["ORT006",0,null,null,null,null,null,null,null,null,{"$f":"IFERROR(VLOOKUP(P90,'FY25-FY26 Scales'!A:J,10,FALSE),G90)","v":0},{"$f":"IFERROR(VLOOKUP(P90,'FY25-FY26 Scales'!A:K,11,FALSE),ROUND(G90*VLOOKUP(B90*1,'APU Scale'!A:B,2,FALSE)-G90,-2))","v":0},{"$f":"ROUND(H90*VLOOKUP(B90*1,'APU Scale'!A:B,2,FALSE),-2)","v":0},0,0,"0"]
["ORT006",0,null,null,null,null,null,null,null,null,{"$f":"IFERROR(VLOOKUP(P91,'FY25-FY26 Scales'!A:J,10,FALSE),G91)","v":0},{"$f":"IFERROR(VLOOKUP(P91,'FY25-FY26 Scales'!A:K,11,FALSE),ROUND(G91*VLOOKUP(B91*1,'APU Scale'!A:B,2,FALSE)-G91,-2))","v":0},{"$f":"ROUND(H91*VLOOKUP(B91*1,'APU Scale'!A:B,2,FALSE),-2)","v":0},0,0,"0"]
["ORT006",0,null,null,null,null,null,null,null,null,{"$f":"IFERROR(VLOOKUP(P92,'FY25-FY26 Scales'!A:J,10,FALSE),G92)","v":0},{"$f":"IFERROR(VLOOKUP(P92,'FY25-FY26 Scales'!A:K,11,FALSE),ROUND(G92*VLOOKUP(B92*1,'APU Scale'!A:B,2,FALSE)-G92,-2))","v":0},{"$f":"ROUND(H92*VLOOKUP(B92*1,'APU Scale'!A:B,2,FALSE),-2)","v":0},0,0,"0"]
["ORT006",0,null,null,null,null,null,null,null,null,{"$f":"IFERROR(VLOOKUP(P93,'FY25-FY26 Scales'!A:J,10,FALSE),G93)","v":0},{"$f":"IFERROR(VLOOKUP(P93,'FY25-FY26 Scales'!A:K,11,FALSE),ROUND(G93*VLOOKUP(B93*1,'APU Scale'!A:B,2,FALSE)-G93,-2))","v":0},{"$f":"ROUND(H93*VLOOKUP(B93*1,'APU Scale'!A:B,2,FALSE),-2)","v":0},0,0,"0"]
["ORT006",0,null,null,null,null,null,null,null,null,{"$f":"IFERROR(VLOOKUP(P94,'FY25-FY26 Scales'!A:J,10,FALSE),G94)","v":0},{"$f":"IFERROR(VLOOKUP(P94,'FY25-FY26 Scales'!A:K,11,FALSE),ROUND(G94*VLOOKUP(B94*1,'APU Scale'!A:B,2,FALSE)-G94,-2))","v":0},{"$f":"ROUND(H94*VLOOKUP(B94*1,'APU Scale'!A:B,2,FALSE),-2)","v":0},0,0,"0"]
["ORT006",0,null,null,null,null,null,null,null,null,{"$f":"IFERROR(VLOOKUP(P95,'FY25-FY26 Scales'!A:J,10,FALSE),G95)","v":0},{"$f":"IFERROR(VLOOKUP(P95,'FY25-FY26 Scales'!A:K,11,FALSE),ROUND(G95*VLOOKUP(B95*1,'APU Scale'!A:B,2,FALSE)-G95,-2))","v":0},{"$f":"ROUND(H95*VLOOKUP(B95*1,'APU Scale'!A:B,2,FALSE),-2)","v":0},0,0,"0"]
["ORT006",0,null,null,null,null,null,null,null,null,{"$f":"IFERROR(VLOOKUP(P96,'FY25-FY26 Scales'!A:J,10,FALSE),G96)","v":0},{"$f":"IFERROR(VLOOKUP(P96,'FY25-FY26 Scales'!A:K,11,FALSE),ROUND(G96*VLOOKUP(B96*1,'APU Scale'!A:B,2,FALSE)-G96,-2))","v":0},{"$f":"ROUND(H96*VLOOKUP(B96*1,'APU Scale'!A:B,2,FALSE),-2)","v":0},0,0,"0"]
["ORT006",0,null,null,null,null,null,null,null,null,{"$f":"IFERROR(VLOOKUP(P97,'FY25-FY26 Scales'!A:J,10,FALSE),G97)","v":0},{"$f":"IFERROR(VLOOKUP(P97,'FY25-FY26 Scales'!A:K,11,FALSE),ROUND(G97*VLOOKUP(B97*1,'APU Scale'!A:B,2,FALSE)-G97,-2))","v":0},{"$f":"ROUND(H97*VLOOKUP(B97*1,'APU Scale'!A:B,2,FALSE),-2)","v":0},0,0,"0"]
["ORT006",0,null,null,null,null,null,null,null,null,{"$f":"IFERROR(VLOOKUP(P98,'FY25-FY26 Scales'!A:J,10,FALSE),G98)","v":0},{"$f":"IFERROR(VLOOKUP(P98,'FY25-FY26 Scales'!A:K,11,FALSE),ROUND(G98*VLOOKUP(B98*1,'APU Scale'!A:B,2,FALSE)-G98,-2))","v":0},{"$f":"ROUND(H98*VLOOKUP(B98*1,'APU Scale'!A:B,2,FALSE),-2)","v":0},0,0,"0"]
["ORT006",0,null,null,null,null,null,null,null,null,{"$f":"IFERROR(VLOOKUP(P99,'FY25-FY26 Scales'!A:J,10,FALSE),G99)","v":0},{"$f":"IFERROR(VLOOKUP(P99,'FY25-FY26 Scales'!A:K,11,FALSE),ROUND(G99*VLOOKUP(B99*1,'APU Scale'!A:B,2,FALSE)-G99,-2))","v":0},{"$f":"ROUND(H99*VLOOKUP(B99*1,'APU Scale'!A:B,2,FALSE),-2)","v":0},0,0,"0"]
["ORT006",0,null,null,null,null,null,null,null,null,{"$f":"IFERROR(VLOOKUP(P100,'FY25-FY26 Scales'!A:J,10,FALSE),G100)","v":0},{"$f":"IFERROR(VLOOKUP(P100,'FY25-FY26 Scales'!A:K,11,FALSE),ROUND(G100*VLOOKUP(B100*1,'APU Scale'!A:B,2,FALSE)-G100,-2))","v":0},{"$f":"ROUND(H100*VLOOKUP(B100*1,'APU Scale'!A:B,2,FALSE),-2)","v":0},0,0,"0"]
["ORT006",0,null,null,null,null,null,null,null,null,{"$f":"IFERROR(VLOOKUP(P101,'FY25-FY26 Scales'!A:J,10,FALSE),G101)","v":0},{"$f":"IFERROR(VLOOKUP(P101,'FY25-FY26 Scales'!A:K,11,FALSE),ROUND(G101*VLOOKUP(B101*1,'APU Scale'!A:B,2,FALSE)-G101,-2))","v":0},{"$f":"ROUND(H101*VLOOKUP(B101*1,'APU Scale'!A:B,2,FALSE),-2)","v":0},0,0,"0"]
["ORT006",0,null,null,null,null,null,null,null,null,{"$f":"IFERROR(VLOOKUP(P102,'FY25-FY26 Scales'!A:J,10,FALSE),G102)","v":0},{"$f":"IFERROR(VLOOKUP(P102,'FY25-FY26 Scales'!A:K,11,FALSE),ROUND(G102*VLOOKUP(B102*1,'APU Scale'!A:B,2,FALSE)-G102,-2))","v":0},{"$f":"ROUND(H102*VLOOKUP(B102*1,'APU Scale'!A:B,2,FALSE),-2)","v":0},0,0,"0"]
["ORT006",0,null,null,null,null,null,null,null,null,{"$f":"IFERROR(VLOOKUP(P103,'FY25-FY26 Scales'!A:J,10,FALSE),G103)","v":0},{"$f":"IFERROR(VLOOKUP(P103,'FY25-FY26 Scales'!A:K,11,FALSE),ROUND(G103*VLOOKUP(B103*1,'APU Scale'!A:B,2,FALSE)-G103,-2))","v":0},{"$f":"ROUND(H103*VLOOKUP(B103*1,'APU Scale'!A:B,2,FALSE),-2)","v":0},0,0,"0"]
["ORT006",0,null,null,null,null,null,null,null,null,{"$f":"IFERROR(VLOOKUP(P104,'FY25-FY26 Scales'!A:J,10,FALSE),G104)","v":0},{"$f":"IFERROR(VLOOKUP(P104,'FY25-FY26 Scales'!A:K,11,FALSE),ROUND(G104*VLOOKUP(B104*1,'APU Scale'!A:B,2,FALSE)-G104,-2))","v":0},{"$f":"ROUND(H104*VLOOKUP(B104*1,'APU Scale'!A:B,2,FALSE),-2)","v":0},0,0,"0"]
["ORT006",0,null,null,null,null,null,null,null,null,{"$f":"IFERROR(VLOOKUP(P105,'FY25-FY26 Scales'!A:J,10,FALSE),G105)","v":0},{"$f":"IFERROR(VLOOKUP(P105,'FY25-FY26 Scales'!A:K,11,FALSE),ROUND(G105*VLOOKUP(B105*1,'APU Scale'!A:B,2,FALSE)-G105,-2))","v":0},{"$f":"ROUND(H105*VLOOKUP(B105*1,'APU Scale'!A:B,2,FALSE),-2)","v":0},0,0,"0"]
["ORT006",0,null,null,null,null,null,null,null,null,{"$f":"IFERROR(VLOOKUP(P106,'FY25-FY26 Scales'!A:J,10,FALSE),G106)","v":0},{"$f":"IFERROR(VLOOKUP(P106,'FY25-FY26 Scales'!A:K,11,FALSE),ROUND(G106*VLOOKUP(B106*1,'APU Scale'!A:B,2,FALSE)-G106,-2))","v":0},{"$f":"ROUND(H106*VLOOKUP(B106*1,'APU Scale'!A:B,2,FALSE),-2)","v":0},0,0,"0"]
[{"$f":"A106","v":"ORT006"},{"$f":"B106","v":0},null,null,null,null,null,null,null,null,{"$f":"IFERROR(VLOOKUP(P107,'FY25-FY26 Scales'!A:J,10,FALSE),G107)","v":0},{"$f":"IFERROR(VLOOKUP(P107,'FY25-FY26 Scales'!A:K,11,FALSE),ROUND(G107*VLOOKUP(B107*1,'APU Scale'!A:B,2,FALSE)-G107,-2))","v":0},{"$f":"ROUND(H107*VLOOKUP(B107*1,'APU Scale'!A:B,2,FALSE),-2)","v":0},0,0,"0"]
["ORT006",0,null,null,null,null,null,null,null,null,{"$f":"IFERROR(VLOOKUP(P108,'FY25-FY26 Scales'!A:J,10,FALSE),G108)","v":0},{"$f":"IFERROR(VLOOKUP(P108,'FY25-FY26 Scales'!A:K,11,FALSE),ROUND(G108*VLOOKUP(B108*1,'APU Scale'!A:B,2,FALSE)-G108,-2))","v":0},{"$f":"ROUND(H108*VLOOKUP(B108*1,'APU Scale'!A:B,2,FALSE),-2)","v":0},0,0,"0"]
["ORT006",0,null,null,null,null,null,null,null,null,{"$f":"IFERROR(VLOOKUP(P109,'FY25-FY26 Scales'!A:J,10,FALSE),G109)","v":0},{"$f":"IFERROR(VLOOKUP(P109,'FY25-FY26 Scales'!A:K,11,FALSE),ROUND(G109*VLOOKUP(B109*1,'APU Scale'!A:B,2,FALSE)-G109,-2))","v":0},{"$f":"ROUND(H109*VLOOKUP(B109*1,'APU Scale'!A:B,2,FALSE),-2)","v":0},0,0,"0"]
["ORT006",0,null,null,null,null,null,null,null,null,{"$f":"IFERROR(VLOOKUP(P110,'FY25-FY26 Scales'!A:J,10,FALSE),G110)","v":0},{"$f":"IFERROR(VLOOKUP(P110,'FY25-FY26 Scales'!A:K,11,FALSE),ROUND(G110*VLOOKUP(B110*1,'APU Scale'!A:B,2,FALSE)-G110,-2))","v":0},{"$f":"ROUND(H110*VLOOKUP(B110*1,'APU Scale'!A:B,2,FALSE),-2)","v":0},0,0,"0"]
["ORT006",0,null,null,null,null,null,null,null,null,{"$f":"IFERROR(VLOOKUP(P111,'FY25-FY26 Scales'!A:J,10,FALSE),G111)","v":0},{"$f":"IFERROR(VLOOKUP(P111,'FY25-FY26 Scales'!A:K,11,FALSE),ROUND(G111*VLOOKUP(B111*1,'APU Scale'!A:B,2,FALSE)-G111,-2))","v":0},{"$f":"ROUND(H111*VLOOKUP(B111*1,'APU Scale'!A:B,2,FALSE),-2)","v":0},0,0,"0"]
["ORT006",0,null,null,null,null,null,null,null,null,{"$f":"IFERROR(VLOOKUP(P112,'FY25-FY26 Scales'!A:J,10,FALSE),G112)","v":0},{"$f":"IFERROR(VLOOKUP(P112,'FY25-FY26 Scales'!A:K,11,FALSE),ROUND(G112*VLOOKUP(B112*1,'APU Scale'!A:B,2,FALSE)-G112,-2))","v":0},{"$f":"ROUND(H112*VLOOKUP(B112*1,'APU Scale'!A:B,2,FALSE),-2)","v":0},0,0,"0"]
["ORT006",0,null,null,null,null,null,null,null,null,{"$f":"IFERROR(VLOOKUP(P113,'FY25-FY26 Scales'!A:J,10,FALSE),G113)","v":0},{"$f":"IFERROR(VLOOKUP(P113,'FY25-FY26 Scales'!A:K,11,FALSE),ROUND(G113*VLOOKUP(B113*1,'APU Scale'!A:B,2,FALSE)-G113,-2))","v":0},{"$f":"ROUND(H113*VLOOKUP(B113*1,'APU Scale'!A:B,2,FALSE),-2)","v":0},0,0,"0"]
["ORT006",0,null,null,null,null,null,null,null,null,{"$f":"IFERROR(VLOOKUP(P114,'FY25-FY26 Scales'!A:J,10,FALSE),G114)","v":0},{"$f":"IFERROR(VLOOKUP(P114,'FY25-FY26 Scales'!A:K,11,FALSE),ROUND(G114*VLOOKUP(B114*1,'APU Scale'!A:B,2,FALSE)-G114,-2))","v":0},{"$f":"ROUND(H114*VLOOKUP(B114*1,'APU Scale'!A:B,2,FALSE),-2)","v":0},0,0,"0"]
["ORT006",0,null,null,null,null,null,null,null,null,{"$f":"IFERROR(VLOOKUP(P115,'FY25-FY26 Scales'!A:J,10,FALSE),G115)","v":0},{"$f":"IFERROR(VLOOKUP(P115,'FY25-FY26 Scales'!A:K,11,FALSE),ROUND(G115*VLOOKUP(B115*1,'APU Scale'!A:B,2,FALSE)-G115,-2))","v":0},{"$f":"ROUND(H115*VLOOKUP(B115*1,'APU Scale'!A:B,2,FALSE),-2)","v":0},0,0,"0"]
["ORT006",0,null,null,null,null,null,null,null,null,{"$f":"IFERROR(VLOOKUP(P116,'FY25-FY26 Scales'!A:J,10,FALSE),G116)","v":0},{"$f":"IFERROR(VLOOKUP(P116,'FY25-FY26 Scales'!A:K,11,FALSE),ROUND(G116*VLOOKUP(B116*1,'APU Scale'!A:B,2,FALSE)-G116,-2))","v":0},{"$f":"ROUND(H116*VLOOKUP(B116*1,'APU Scale'!A:B,2,FALSE),-2)","v":0},0,0,"0"]
["ORT006",0,null,null,null,null,null,null,null,null,{"$f":"IFERROR(VLOOKUP(P117,'FY25-FY26 Scales'!A:J,10,FALSE),G117)","v":0},{"$f":"IFERROR(VLOOKUP(P117,'FY25-FY26 Scales'!A:K,11,FALSE),ROUND(G117*VLOOKUP(B117*1,'APU Scale'!A:B,2,FALSE)-G117,-2))","v":0},{"$f":"ROUND(H117*VLOOKUP(B117*1,'APU Scale'!A:B,2,FALSE),-2)","v":0},0,0,"0"]
["ORT006",0,null,null,null,null,null,null,null,null,{"$f":"IFERROR(VLOOKUP(P118,'FY25-FY26 Scales'!A:J,10,FALSE),G118)","v":0},{"$f":"IFERROR(VLOOKUP(P118,'FY25-FY26 Scales'!A:K,11,FALSE),ROUND(G118*VLOOKUP(B118*1,'APU Scale'!A:B,2,FALSE)-G118,-2))","v":0},{"$f":"ROUND(H118*VLOOKUP(B118*1,'APU Scale'!A:B,2,FALSE),-2)","v":0},0,0,"0"]
["ORT006",0,null,null,null,null,null,null,null,null,{"$f":"IFERROR(VLOOKUP(P119,'FY25-FY26 Scales'!A:J,10,FALSE),G119)","v":0},{"$f":"IFERROR(VLOOKUP(P119,'FY25-FY26 Scales'!A:K,11,FALSE),ROUND(G119*VLOOKUP(B119*1,'APU Scale'!A:B,2,FALSE)-G119,-2))","v":0},{"$f":"ROUND(H119*VLOOKUP(B119*1,'APU Scale'!A:B,2,FALSE),-2)","v":0},0,0,"0"]
["ORT006",0,null,null,null,null,null,null,null,null,{"$f":"IFERROR(VLOOKUP(P120,'FY25-FY26 Scales'!A:J,10,FALSE),G120)","v":0},{"$f":"IFERROR(VLOOKUP(P120,'FY25-FY26 Scales'!A:K,11,FALSE),ROUND(G120*VLOOKUP(B120*1,'APU Scale'!A:B,2,FALSE)-G120,-2))","v":0},{"$f":"ROUND(H120*VLOOKUP(B120*1,'APU Scale'!A:B,2,FALSE),-2)","v":0},0,0,"0"]
["ORT006",0,null,null,null,null,null,null,null,null,{"$f":"IFERROR(VLOOKUP(P121,'FY25-FY26 Scales'!A:J,10,FALSE),G121)","v":0},{"$f":"IFERROR(VLOOKUP(P121,'FY25-FY26 Scales'!A:K,11,FALSE),ROUND(G121*VLOOKUP(B121*1,'APU Scale'!A:B,2,FALSE)-G121,-2))","v":0},{"$f":"ROUND(H121*VLOOKUP(B121*1,'APU Scale'!A:B,2,FALSE),-2)","v":0},0,0,"0"]
["ORT006",0,null,null,null,null,null,null,null,null,{"$f":"IFERROR(VLOOKUP(P122,'FY25-FY26 Scales'!A:J,10,FALSE),G122)","v":0},{"$f":"IFERROR(VLOOKUP(P122,'FY25-FY26 Scales'!A:K,11,FALSE),ROUND(G122*VLOOKUP(B122*1,'APU Scale'!A:B,2,FALSE)-G122,-2))","v":0},{"$f":"ROUND(H122*VLOOKUP(B122*1,'APU Scale'!A:B,2,FALSE),-2)","v":0},0,0,"0"]
["ORT006",0,null,null,null,null,null,null,null,null,{"$f":"IFERROR(VLOOKUP(P123,'FY25-FY26 Scales'!A:J,10,FALSE),G123)","v":0},{"$f":"IFERROR(VLOOKUP(P123,'FY25-FY26 Scales'!A:K,11,FALSE),ROUND(G123*VLOOKUP(B123*1,'APU Scale'!A:B,2,FALSE)-G123,-2))","v":0},{"$f":"ROUND(H123*VLOOKUP(B123*1,'APU Scale'!A:B,2,FALSE),-2)","v":0},0,0,"0"]
["ORT006",0,null,null,null,null,null,null,null,null,{"$f":"IFERROR(VLOOKUP(P124,'FY25-FY26 Scales'!A:J,10,FALSE),G124)","v":0},{"$f":"IFERROR(VLOOKUP(P124,'FY25-FY26 Scales'!A:K,11,FALSE),ROUND(G124*VLOOKUP(B124*1,'APU Scale'!A:B,2,FALSE)-G124,-2))","v":0},{"$f":"ROUND(H124*VLOOKUP(B124*1,'APU Scale'!A:B,2,FALSE),-2)","v":0},0,0,"0"]
["ORT006",0,null,null,null,null,null,null,null,null,{"$f":"IFERROR(VLOOKUP(P125,'FY25-FY26 Scales'!A:J,10,FALSE),G125)","v":0},{"$f":"IFERROR(VLOOKUP(P125,'FY25-FY26 Scales'!A:K,11,FALSE),ROUND(G125*VLOOKUP(B125*1,'APU Scale'!A:B,2,FALSE)-G125,-2))","v":0},{"$f":"ROUND(H125*VLOOKUP(B125*1,'APU Scale'!A:B,2,FALSE),-2)","v":0},0,0,"0"]
["ORT006",0,null,null,null,null,null,null,null,null,{"$f":"IFERROR(VLOOKUP(P126,'FY25-FY26 Scales'!A:J,10,FALSE),G126)","v":0},{"$f":"IFERROR(VLOOKUP(P126,'FY25-FY26 Scales'!A:K,11,FALSE),ROUND(G126*VLOOKUP(B126*1,'APU Scale'!A:B,2,FALSE)-G126,-2))","v":0},{"$f":"ROUND(H126*VLOOKUP(B126*1,'APU Scale'!A:B,2,FALSE),-2)","v":0},0,0,"0"]
["ORT006",0,null,null,null,null,null,null,null,null,{"$f":"IFERROR(VLOOKUP(P127,'FY25-FY26 Scales'!A:J,10,FALSE),G127)","v":0},{"$f":"IFERROR(VLOOKUP(P127,'FY25-FY26 Scales'!A:K,11,FALSE),ROUND(G127*VLOOKUP(B127*1,'APU Scale'!A:B,2,FALSE)-G127,-2))","v":0},{"$f":"ROUND(H127*VLOOKUP(B127*1,'APU Scale'!A:B,2,FALSE),-2)","v":0},0,0,"0"]
["ORT006",0,null,null,null,null,null,null,null,null,{"$f":"IFERROR(VLOOKUP(P128,'FY25-FY26 Scales'!A:J,10,FALSE),G128)","v":0},{"$f":"IFERROR(VLOOKUP(P128,'FY25-FY26 Scales'!A:K,11,FALSE),ROUND(G128*VLOOKUP(B128*1,'APU Scale'!A:B,2,FALSE)-G128,-2))","v":0},{"$f":"ROUND(H128*VLOOKUP(B128*1,'APU Scale'!A:B,2,FALSE),-2)","v":0},0,0,"0"]
["ORT006",0,null,null,null,null,null,null,null,null,{"$f":"IFERROR(VLOOKUP(P129,'FY25-FY26 Scales'!A:J,10,FALSE),G129)","v":0},{"$f":"IFERROR(VLOOKUP(P129,'FY25-FY26 Scales'!A:K,11,FALSE),ROUND(G129*VLOOKUP(B129*1,'APU Scale'!A:B,2,FALSE)-G129,-2))","v":0},{"$f":"ROUND(H129*VLOOKUP(B129*1,'APU Scale'!A:B,2,FALSE),-2)","v":0},0,0,"0"]
["ORT006",0,null,null,null,null,null,null,null,null,{"$f":"IFERROR(VLOOKUP(P130,'FY25-FY26 Scales'!A:J,10,FALSE),G130)","v":0},{"$f":"IFERROR(VLOOKUP(P130,'FY25-FY26 Scales'!A:K,11,FALSE),ROUND(G130*VLOOKUP(B130*1,'APU Scale'!A:B,2,FALSE)-G130,-2))","v":0},{"$f":"ROUND(H130*VLOOKUP(B130*1,'APU Scale'!A:B,2,FALSE),-2)","v":0},0,0,"0"]
["ORT006",0,null,null,null,null,null,null,null,null,{"$f":"IFERROR(VLOOKUP(P131,'FY25-FY26 Scales'!A:J,10,FALSE),G131)","v":0},{"$f":"IFERROR(VLOOKUP(P131,'FY25-FY26 Scales'!A:K,11,FALSE),ROUND(G131*VLOOKUP(B131*1,'APU Scale'!A:B,2,FALSE)-G131,-2))","v":0},{"$f":"ROUND(H131*VLOOKUP(B131*1,'APU Scale'!A:B,2,FALSE),-2)","v":0},0,0,"0"]
["ORT006",0,null,null,null,null,null,null,null,null,{"$f":"IFERROR(VLOOKUP(P132,'FY25-FY26 Scales'!A:J,10,FALSE),G132)","v":0},{"$f":"IFERROR(VLOOKUP(P132,'FY25-FY26 Scales'!A:K,11,FALSE),ROUND(G132*VLOOKUP(B132*1,'APU Scale'!A:B,2,FALSE)-G132,-2))","v":0},{"$f":"ROUND(H132*VLOOKUP(B132*1,'APU Scale'!A:B,2,FALSE),-2)","v":0},0,0,"0"]
["ORT006",0,null,null,null,null,null,null,null,null,{"$f":"IFERROR(VLOOKUP(P133,'FY25-FY26 Scales'!A:J,10,FALSE),G133)","v":0},{"$f":"IFERROR(VLOOKUP(P133,'FY25-FY26 Scales'!A:K,11,FALSE),ROUND(G133*VLOOKUP(B133*1,'APU Scale'!A:B,2,FALSE)-G133,-2))","v":0},{"$f":"ROUND(H133*VLOOKUP(B133*1,'APU Scale'!A:B,2,FALSE),-2)","v":0},0,0,"0"]
["ORT006",0,null,null,null,null,null,null,null,null,{"$f":"IFERROR(VLOOKUP(P134,'FY25-FY26 Scales'!A:J,10,FALSE),G134)","v":0},{"$f":"IFERROR(VLOOKUP(P134,'FY25-FY26 Scales'!A:K,11,FALSE),ROUND(G134*VLOOKUP(B134*1,'APU Scale'!A:B,2,FALSE)-G134,-2))","v":0},{"$f":"ROUND(H134*VLOOKUP(B134*1,'APU Scale'!A:B,2,FALSE),-2)","v":0},0,0,"0"]
["ORT006",0,null,null,null,null,null,null,null,null,{"$f":"IFERROR(VLOOKUP(P135,'FY25-FY26 Scales'!A:J,10,FALSE),G135)","v":0},{"$f":"IFERROR(VLOOKUP(P135,'FY25-FY26 Scales'!A:K,11,FALSE),ROUND(G135*VLOOKUP(B135*1,'APU Scale'!A:B,2,FALSE)-G135,-2))","v":0},{"$f":"ROUND(H135*VLOOKUP(B135*1,'APU Scale'!A:B,2,FALSE),-2)","v":0},0,0,"0"]
["ORT006",0,null,null,null,null,null,null,null,null,{"$f":"IFERROR(VLOOKUP(P136,'FY25-FY26 Scales'!A:J,10,FALSE),G136)","v":0},{"$f":"IFERROR(VLOOKUP(P136,'FY25-FY26 Scales'!A:K,11,FALSE),ROUND(G136*VLOOKUP(B136*1,'APU Scale'!A:B,2,FALSE)-G136,-2))","v":0},{"$f":"ROUND(H136*VLOOKUP(B136*1,'APU Scale'!A:B,2,FALSE),-2)","v":0},0,0,"0"]
["ORT006",0,null,null,null,null,null,null,null,null,{"$f":"IFERROR(VLOOKUP(P137,'FY25-FY26 Scales'!A:J,10,FALSE),G137)","v":0},{"$f":"IFERROR(VLOOKUP(P137,'FY25-FY26 Scales'!A:K,11,FALSE),ROUND(G137*VLOOKUP(B137*1,'APU Scale'!A:B,2,FALSE)-G137,-2))","v":0},{"$f":"ROUND(H137*VLOOKUP(B137*1,'APU Scale'!A:B,2,FALSE),-2)","v":0},0,0,"0"]
["ORT006",0,null,null,null,null,null,null,null,null,{"$f":"IFERROR(VLOOKUP(P138,'FY25-FY26 Scales'!A:J,10,FALSE),G138)","v":0},{"$f":"IFERROR(VLOOKUP(P138,'FY25-FY26 Scales'!A:K,11,FALSE),ROUND(G138*VLOOKUP(B138*1,'APU Scale'!A:B,2,FALSE)-G138,-2))","v":0},{"$f":"ROUND(H138*VLOOKUP(B138*1,'APU Scale'!A:B,2,FALSE),-2)","v":0},{"$f":"K138+L138+M138","v":0},{"$f":"IF(I138-J138-N138<0,0,I138-J138-N138)","v":0},{"$f":"CONCATENATE(E138,F138,B138)","v":"0"}]
["ORT006",0,null,null,null,null,null,null,null,null,{"$f":"IFERROR(VLOOKUP(P139,'FY25-FY26 Scales'!A:J,10,FALSE),G139)","v":0},{"$f":"IFERROR(VLOOKUP(P139,'FY25-FY26 Scales'!A:K,11,FALSE),ROUND(G139*VLOOKUP(B139*1,'APU Scale'!A:B,2,FALSE)-G139,-2))","v":0},{"$f":"ROUND(H139*VLOOKUP(B139*1,'APU Scale'!A:B,2,FALSE),-2)","v":0},0,0,"0"]
["ORT006",0,null,null,null,null,null,null,null,null,{"$f":"IFERROR(VLOOKUP(P140,'FY25-FY26 Scales'!A:J,10,FALSE),G140)","v":0},{"$f":"IFERROR(VLOOKUP(P140,'FY25-FY26 Scales'!A:K,11,FALSE),ROUND(G140*VLOOKUP(B140*1,'APU Scale'!A:B,2,FALSE)-G140,-2))","v":0},{"$f":"ROUND(H140*VLOOKUP(B140*1,'APU Scale'!A:B,2,FALSE),-2)","v":0},0,0,"0"]
["ORT006",0,null,null,null,null,null,null,null,null,{"$f":"IFERROR(VLOOKUP(P141,'FY25-FY26 Scales'!A:J,10,FALSE),G141)","v":0},{"$f":"IFERROR(VLOOKUP(P141,'FY25-FY26 Scales'!A:K,11,FALSE),ROUND(G141*VLOOKUP(B141*1,'APU Scale'!A:B,2,FALSE)-G141,-2))","v":0},{"$f":"ROUND(H141*VLOOKUP(B141*1,'APU Scale'!A:B,2,FALSE),-2)","v":0},0,0,"0"]
["ORT006",0,null,null,null,null,null,null,null,null,{"$f":"IFERROR(VLOOKUP(P142,'FY25-FY26 Scales'!A:J,10,FALSE),G142)","v":0},{"$f":"IFERROR(VLOOKUP(P142,'FY25-FY26 Scales'!A:K,11,FALSE),ROUND(G142*VLOOKUP(B142*1,'APU Scale'!A:B,2,FALSE)-G142,-2))","v":0},{"$f":"ROUND(H142*VLOOKUP(B142*1,'APU Scale'!A:B,2,FALSE),-2)","v":0},0,0,"0"]
["ORT006",0,null,null,null,null,null,null,null,null,{"$f":"IFERROR(VLOOKUP(P143,'FY25-FY26 Scales'!A:J,10,FALSE),G143)","v":0},{"$f":"IFERROR(VLOOKUP(P143,'FY25-FY26 Scales'!A:K,11,FALSE),ROUND(G143*VLOOKUP(B143*1,'APU Scale'!A:B,2,FALSE)-G143,-2))","v":0},{"$f":"ROUND(H143*VLOOKUP(B143*1,'APU Scale'!A:B,2,FALSE),-2)","v":0},0,0,"0"]
["ORT006",0,null,null,null,null,null,null,null,null,{"$f":"IFERROR(VLOOKUP(P144,'FY25-FY26 Scales'!A:J,10,FALSE),G144)","v":0},{"$f":"IFERROR(VLOOKUP(P144,'FY25-FY26 Scales'!A:K,11,FALSE),ROUND(G144*VLOOKUP(B144*1,'APU Scale'!A:B,2,FALSE)-G144,-2))","v":0},{"$f":"ROUND(H144*VLOOKUP(B144*1,'APU Scale'!A:B,2,FALSE),-2)","v":0},0,0,"0"]
["ORT006",0,null,null,null,null,null,null,null,null,{"$f":"IFERROR(VLOOKUP(P145,'FY25-FY26 Scales'!A:J,10,FALSE),G145)","v":0},{"$f":"IFERROR(VLOOKUP(P145,'FY25-FY26 Scales'!A:K,11,FALSE),ROUND(G145*VLOOKUP(B145*1,'APU Scale'!A:B,2,FALSE)-G145,-2))","v":0},{"$f":"ROUND(H145*VLOOKUP(B145*1,'APU Scale'!A:B,2,FALSE),-2)","v":0},0,0,"0"]
["ORT006",0,null,null,null,null,null,null,null,null,{"$f":"IFERROR(VLOOKUP(P146,'FY25-FY26 Scales'!A:J,10,FALSE),G146)","v":0},{"$f":"IFERROR(VLOOKUP(P146,'FY25-FY26 Scales'!A:K,11,FALSE),ROUND(G146*VLOOKUP(B146*1,'APU Scale'!A:B,2,FALSE)-G146,-2))","v":0},{"$f":"ROUND(H146*VLOOKUP(B146*1,'APU Scale'!A:B,2,FALSE),-2)","v":0},0,0,"0"]
["ORT006",0,null,null,null,null,null,null,null,null,{"$f":"IFERROR(VLOOKUP(P147,'FY25-FY26 Scales'!A:J,10,FALSE),G147)","v":0},{"$f":"IFERROR(VLOOKUP(P147,'FY25-FY26 Scales'!A:K,11,FALSE),ROUND(G147*VLOOKUP(B147*1,'APU Scale'!A:B,2,FALSE)-G147,-2))","v":0},{"$f":"ROUND(H147*VLOOKUP(B147*1,'APU Scale'!A:B,2,FALSE),-2)","v":0},0,0,"0"]
["ORT006",0,null,null,null,null,null,null,null,null,{"$f":"IFERROR(VLOOKUP(P148,'FY25-FY26 Scales'!A:J,10,FALSE),G148)","v":0},{"$f":"IFERROR(VLOOKUP(P148,'FY25-FY26 Scales'!A:K,11,FALSE),ROUND(G148*VLOOKUP(B148*1,'APU Scale'!A:B,2,FALSE)-G148,-2))","v":0},{"$f":"ROUND(H148*VLOOKUP(B148*1,'APU Scale'!A:B,2,FALSE),-2)","v":0},0,0,"0"]
["ORT006",0,null,null,null,null,null,null,null,null,{"$f":"IFERROR(VLOOKUP(P149,'FY25-FY26 Scales'!A:J,10,FALSE),G149)","v":0},{"$f":"IFERROR(VLOOKUP(P149,'FY25-FY26 Scales'!A:K,11,FALSE),ROUND(G149*VLOOKUP(B149*1,'APU Scale'!A:B,2,FALSE)-G149,-2))","v":0},{"$f":"ROUND(H149*VLOOKUP(B149*1,'APU Scale'!A:B,2,FALSE),-2)","v":0},0,0,"0"]
["ORT006",0,null,null,null,null,null,null,null,null,{"$f":"IFERROR(VLOOKUP(P150,'FY25-FY26 Scales'!A:J,10,FALSE),G150)","v":0},{"$f":"IFERROR(VLOOKUP(P150,'FY25-FY26 Scales'!A:K,11,FALSE),ROUND(G150*VLOOKUP(B150*1,'APU Scale'!A:B,2,FALSE)-G150,-2))","v":0},{"$f":"ROUND(H150*VLOOKUP(B150*1,'APU Scale'!A:B,2,FALSE),-2)","v":0},0,0,"0"]
["ORT006",0,null,null,null,null,null,null,null,null,{"$f":"IFERROR(VLOOKUP(P151,'FY25-FY26 Scales'!A:J,10,FALSE),G151)","v":0},{"$f":"IFERROR(VLOOKUP(P151,'FY25-FY26 Scales'!A:K,11,FALSE),ROUND(G151*VLOOKUP(B151*1,'APU Scale'!A:B,2,FALSE)-G151,-2))","v":0},{"$f":"ROUND(H151*VLOOKUP(B151*1,'APU Scale'!A:B,2,FALSE),-2)","v":0},0,0,"0"]
["ORT006",0,null,null,null,null,null,null,null,null,{"$f":"IFERROR(VLOOKUP(P152,'FY25-FY26 Scales'!A:J,10,FALSE),G152)","v":0},{"$f":"IFERROR(VLOOKUP(P152,'FY25-FY26 Scales'!A:K,11,FALSE),ROUND(G152*VLOOKUP(B152*1,'APU Scale'!A:B,2,FALSE)-G152,-2))","v":0},{"$f":"ROUND(H152*VLOOKUP(B152*1,'APU Scale'!A:B,2,FALSE),-2)","v":0},0,0,"0"]
["ORT006",0,null,null,null,null,null,null,null,null,{"$f":"IFERROR(VLOOKUP(P153,'FY25-FY26 Scales'!A:J,10,FALSE),G153)","v":0},{"$f":"IFERROR(VLOOKUP(P153,'FY25-FY26 Scales'!A:K,11,FALSE),ROUND(G153*VLOOKUP(B153*1,'APU Scale'!A:B,2,FALSE)-G153,-2))","v":0},{"$f":"ROUND(H153*VLOOKUP(B153*1,'APU Scale'!A:B,2,FALSE),-2)","v":0},0,0,"0"]
["ORT006",0,null,null,null,null,null,null,null,null,{"$f":"IFERROR(VLOOKUP(P154,'FY25-FY26 Scales'!A:J,10,FALSE),G154)","v":0},{"$f":"IFERROR(VLOOKUP(P154,'FY25-FY26 Scales'!A:K,11,FALSE),ROUND(G154*VLOOKUP(B154*1,'APU Scale'!A:B,2,FALSE)-G154,-2))","v":0},{"$f":"ROUND(H154*VLOOKUP(B154*1,'APU Scale'!A:B,2,FALSE),-2)","v":0},0,0,"0"]
["ORT006",0,null,null,null,null,null,null,null,null,{"$f":"IFERROR(VLOOKUP(P155,'FY25-FY26 Scales'!A:J,10,FALSE),G155)","v":0},{"$f":"IFERROR(VLOOKUP(P155,'FY25-FY26 Scales'!A:K,11,FALSE),ROUND(G155*VLOOKUP(B155*1,'APU Scale'!A:B,2,FALSE)-G155,-2))","v":0},{"$f":"ROUND(H155*VLOOKUP(B155*1,'APU Scale'!A:B,2,FALSE),-2)","v":0},0,0,"0"]
["ORT006",0,null,null,null,null,null,null,null,null,{"$f":"IFERROR(VLOOKUP(P156,'FY25-FY26 Scales'!A:J,10,FALSE),G156)","v":0},{"$f":"IFERROR(VLOOKUP(P156,'FY25-FY26 Scales'!A:K,11,FALSE),ROUND(G156*VLOOKUP(B156*1,'APU Scale'!A:B,2,FALSE)-G156,-2))","v":0},{"$f":"ROUND(H156*VLOOKUP(B156*1,'APU Scale'!A:B,2,FALSE),-2)","v":0},0,0,"0"]
["ORT006",0,null,null,null,null,null,null,null,null,{"$f":"IFERROR(VLOOKUP(P157,'FY25-FY26 Scales'!A:J,10,FALSE),G157)","v":0},{"$f":"IFERROR(VLOOKUP(P157,'FY25-FY26 Scales'!A:K,11,FALSE),ROUND(G157*VLOOKUP(B157*1,'APU Scale'!A:B,2,FALSE)-G157,-2))","v":0},{"$f":"ROUND(H157*VLOOKUP(B157*1,'APU Scale'!A:B,2,FALSE),-2)","v":0},0,0,"0"]
["ORT006",0,null,null,null,null,null,null,null,null,{"$f":"IFERROR(VLOOKUP(P158,'FY25-FY26 Scales'!A:J,10,FALSE),G158)","v":0},{"$f":"IFERROR(VLOOKUP(P158,'FY25-FY26 Scales'!A:K,11,FALSE),ROUND(G158*VLOOKUP(B158*1,'APU Scale'!A:B,2,FALSE)-G158,-2))","v":0},{"$f":"ROUND(H158*VLOOKUP(B158*1,'APU Scale'!A:B,2,FALSE),-2)","v":0},0,0,"0"]
["ORT006",0,null,null,null,null,null,null,null,null,{"$f":"IFERROR(VLOOKUP(P159,'FY25-FY26 Scales'!A:J,10,FALSE),G159)","v":0},{"$f":"IFERROR(VLOOKUP(P159,'FY25-FY26 Scales'!A:K,11,FALSE),ROUND(G159*VLOOKUP(B159*1,'APU Scale'!A:B,2,FALSE)-G159,-2))","v":0},{"$f":"ROUND(H159*VLOOKUP(B159*1,'APU Scale'!A:B,2,FALSE),-2)","v":0},0,0,"0"]
["ORT006",0,null,null,null,null,null,null,null,null,{"$f":"IFERROR(VLOOKUP(P160,'FY25-FY26 Scales'!A:J,10,FALSE),G160)","v":0},{"$f":"IFERROR(VLOOKUP(P160,'FY25-FY26 Scales'!A:K,11,FALSE),ROUND(G160*VLOOKUP(B160*1,'APU Scale'!A:B,2,FALSE)-G160,-2))","v":0},{"$f":"ROUND(H160*VLOOKUP(B160*1,'APU Scale'!A:B,2,FALSE),-2)","v":0},0,0,"0"]
["ORT006",0,null,null,null,null,null,null,null,null,{"$f":"IFERROR(VLOOKUP(P161,'FY25-FY26 Scales'!A:J,10,FALSE),G161)","v":0},{"$f":"IFERROR(VLOOKUP(P161,'FY25-FY26 Scales'!A:K,11,FALSE),ROUND(G161*VLOOKUP(B161*1,'APU Scale'!A:B,2,FALSE)-G161,-2))","v":0},{"$f":"ROUND(H161*VLOOKUP(B161*1,'APU Scale'!A:B,2,FALSE),-2)","v":0},0,0,"0"]
["ORT006",0,null,null,null,null,null,null,null,null,{"$f":"IFERROR(VLOOKUP(P162,'FY25-FY26 Scales'!A:J,10,FALSE),G162)","v":0},{"$f":"IFERROR(VLOOKUP(P162,'FY25-FY26 Scales'!A:K,11,FALSE),ROUND(G162*VLOOKUP(B162*1,'APU Scale'!A:B,2,FALSE)-G162,-2))","v":0},{"$f":"ROUND(H162*VLOOKUP(B162*1,'APU Scale'!A:B,2,FALSE),-2)","v":0},0,0,"0"]
["ORT006",0,null,null,null,null,null,null,null,null,{"$f":"IFERROR(VLOOKUP(P163,'FY25-FY26 Scales'!A:J,10,FALSE),G163)","v":0},{"$f":"IFERROR(VLOOKUP(P163,'FY25-FY26 Scales'!A:K,11,FALSE),ROUND(G163*VLOOKUP(B163*1,'APU Scale'!A:B,2,FALSE)-G163,-2))","v":0},{"$f":"ROUND(H163*VLOOKUP(B163*1,'APU Scale'!A:B,2,FALSE),-2)","v":0},0,0,"0"]
["ORT006",0,null,null,null,null,null,null,null,null,{"$f":"IFERROR(VLOOKUP(P164,'FY25-FY26 Scales'!A:J,10,FALSE),G164)","v":0},{"$f":"IFERROR(VLOOKUP(P164,'FY25-FY26 Scales'!A:K,11,FALSE),ROUND(G164*VLOOKUP(B164*1,'APU Scale'!A:B,2,FALSE)-G164,-2))","v":0},{"$f":"ROUND(H164*VLOOKUP(B164*1,'APU Scale'!A:B,2,FALSE),-2)","v":0},0,0,"0"]
["ORT006",0,null,null,null,null,null,null,null,null,{"$f":"IFERROR(VLOOKUP(P165,'FY25-FY26 Scales'!A:J,10,FALSE),G165)","v":0},{"$f":"IFERROR(VLOOKUP(P165,'FY25-FY26 Scales'!A:K,11,FALSE),ROUND(G165*VLOOKUP(B165*1,'APU Scale'!A:B,2,FALSE)-G165,-2))","v":0},{"$f":"ROUND(H165*VLOOKUP(B165*1,'APU Scale'!A:B,2,FALSE),-2)","v":0},0,0,"0"]
["ORT006",0,null,null,null,null,null,null,null,null,{"$f":"IFERROR(VLOOKUP(P166,'FY25-FY26 Scales'!A:J,10,FALSE),G166)","v":0},{"$f":"IFERROR(VLOOKUP(P166,'FY25-FY26 Scales'!A:K,11,FALSE),ROUND(G166*VLOOKUP(B166*1,'APU Scale'!A:B,2,FALSE)-G166,-2))","v":0},{"$f":"ROUND(H166*VLOOKUP(B166*1,'APU Scale'!A:B,2,FALSE),-2)","v":0},0,0,"0"]
["ORT006",0,null,null,null,null,null,null,null,null,{"$f":"IFERROR(VLOOKUP(P167,'FY25-FY26 Scales'!A:J,10,FALSE),G167)","v":0},{"$f":"IFERROR(VLOOKUP(P167,'FY25-FY26 Scales'!A:K,11,FALSE),ROUND(G167*VLOOKUP(B167*1,'APU Scale'!A:B,2,FALSE)-G167,-2))","v":0},{"$f":"ROUND(H167*VLOOKUP(B167*1,'APU Scale'!A:B,2,FALSE),-2)","v":0},0,0,"0"]
["ORT006",0,null,null,null,null,null,null,null,null,{"$f":"IFERROR(VLOOKUP(P168,'FY25-FY26 Scales'!A:J,10,FALSE),G168)","v":0},{"$f":"IFERROR(VLOOKUP(P168,'FY25-FY26 Scales'!A:K,11,FALSE),ROUND(G168*VLOOKUP(B168*1,'APU Scale'!A:B,2,FALSE)-G168,-2))","v":0},{"$f":"ROUND(H168*VLOOKUP(B168*1,'APU Scale'!A:B,2,FALSE),-2)","v":0},0,0,"0"]
["ORT006",0,null,null,null,null,null,null,null,null,{"$f":"IFERROR(VLOOKUP(P169,'FY25-FY26 Scales'!A:J,10,FALSE),G169)","v":0},{"$f":"IFERROR(VLOOKUP(P169,'FY25-FY26 Scales'!A:K,11,FALSE),ROUND(G169*VLOOKUP(B169*1,'APU Scale'!A:B,2,FALSE)-G169,-2))","v":0},{"$f":"ROUND(H169*VLOOKUP(B169*1,'APU Scale'!A:B,2,FALSE),-2)","v":0},0,0,"0"]
["ORT006",0,null,null,null,null,null,null,null,null,{"$f":"IFERROR(VLOOKUP(P170,'FY25-FY26 Scales'!A:J,10,FALSE),G170)","v":0},{"$f":"IFERROR(VLOOKUP(P170,'FY25-FY26 Scales'!A:K,11,FALSE),ROUND(G170*VLOOKUP(B170*1,'APU Scale'!A:B,2,FALSE)-G170,-2))","v":0},{"$f":"ROUND(H170*VLOOKUP(B170*1,'APU Scale'!A:B,2,FALSE),-2)","v":0},0,0,"0"]
[{"$f":"A170","v":"ORT006"},0,null,null,null,null,null,null,null,null,{"$f":"IFERROR(VLOOKUP(P171,'FY25-FY26 Scales'!A:J,10,FALSE),G171)","v":0},{"$f":"IFERROR(VLOOKUP(P171,'FY25-FY26 Scales'!A:K,11,FALSE),ROUND(G171*VLOOKUP(B171*1,'APU Scale'!A:B,2,FALSE)-G171,-2))","v":0},{"$f":"ROUND(H171*VLOOKUP(B171*1,'APU Scale'!A:B,2,FALSE),-2)","v":0},0,0,"0"]
["ORT006",0,null,null,null,null,null,null,null,null,{"$f":"IFERROR(VLOOKUP(P172,'FY25-FY26 Scales'!A:J,10,FALSE),G172)","v":0},{"$f":"IFERROR(VLOOKUP(P172,'FY25-FY26 Scales'!A:K,11,FALSE),ROUND(G172*VLOOKUP(B172*1,'APU Scale'!A:B,2,FALSE)-G172,-2))","v":0},{"$f":"ROUND(H172*VLOOKUP(B172*1,'APU Scale'!A:B,2,FALSE),-2)","v":0},0,0,"0"]
["ORT006",0,null,null,null,null,null,null,null,null,{"$f":"IFERROR(VLOOKUP(P173,'FY25-FY26 Scales'!A:J,10,FALSE),G173)","v":0},{"$f":"IFERROR(VLOOKUP(P173,'FY25-FY26 Scales'!A:K,11,FALSE),ROUND(G173*VLOOKUP(B173*1,'APU Scale'!A:B,2,FALSE)-G173,-2))","v":0},{"$f":"ROUND(H173*VLOOKUP(B173*1,'APU Scale'!A:B,2,FALSE),-2)","v":0},0,0,"0"]
["ORT006",0,null,null,null,null,null,null,null,null,{"$f":"IFERROR(VLOOKUP(P174,'FY25-FY26 Scales'!A:J,10,FALSE),G174)","v":0},{"$f":"IFERROR(VLOOKUP(P174,'FY25-FY26 Scales'!A:K,11,FALSE),ROUND(G174*VLOOKUP(B174*1,'APU Scale'!A:B,2,FALSE)-G174,-2))","v":0},{"$f":"ROUND(H174*VLOOKUP(B174*1,'APU Scale'!A:B,2,FALSE),-2)","v":0},0,0,"0"]
["ORT006",0,null,null,null,null,null,null,null,null,{"$f":"IFERROR(VLOOKUP(P175,'FY25-FY26 Scales'!A:J,10,FALSE),G175)","v":0},{"$f":"IFERROR(VLOOKUP(P175,'FY25-FY26 Scales'!A:K,11,FALSE),ROUND(G175*VLOOKUP(B175*1,'APU Scale'!A:B,2,FALSE)-G175,-2))","v":0},{"$f":"ROUND(H175*VLOOKUP(B175*1,'APU Scale'!A:B,2,FALSE),-2)","v":0},0,0,"0"]
["ORT006",0,null,null,null,null,null,null,null,null,{"$f":"IFERROR(VLOOKUP(P176,'FY25-FY26 Scales'!A:J,10,FALSE),G176)","v":0},{"$f":"IFERROR(VLOOKUP(P176,'FY25-FY26 Scales'!A:K,11,FALSE),ROUND(G176*VLOOKUP(B176*1,'APU Scale'!A:B,2,FALSE)-G176,-2))","v":0},{"$f":"ROUND(H176*VLOOKUP(B176*1,'APU Scale'!A:B,2,FALSE),-2)","v":0},0,0,"0"]
["ORT006",0,null,null,null,null,null,null,null,null,{"$f":"IFERROR(VLOOKUP(P177,'FY25-FY26 Scales'!A:J,10,FALSE),G177)","v":0},{"$f":"IFERROR(VLOOKUP(P177,'FY25-FY26 Scales'!A:K,11,FALSE),ROUND(G177*VLOOKUP(B177*1,'APU Scale'!A:B,2,FALSE)-G177,-2))","v":0},{"$f":"ROUND(H177*VLOOKUP(B177*1,'APU Scale'!A:B,2,FALSE),-2)","v":0},0,0,"0"]
["ORT006",0,null,null,null,null,null,null,null,null,{"$f":"IFERROR(VLOOKUP(P178,'FY25-FY26 Scales'!A:J,10,FALSE),G178)","v":0},{"$f":"IFERROR(VLOOKUP(P178,'FY25-FY26 Scales'!A:K,11,FALSE),ROUND(G178*VLOOKUP(B178*1,'APU Scale'!A:B,2,FALSE)-G178,-2))","v":0},{"$f":"ROUND(H178*VLOOKUP(B178*1,'APU Scale'!A:B,2,FALSE),-2)","v":0},0,0,"0"]
["ORT006",0,null,null,null,null,null,null,null,null,{"$f":"IFERROR(VLOOKUP(P179,'FY25-FY26 Scales'!A:J,10,FALSE),G179)","v":0},{"$f":"IFERROR(VLOOKUP(P179,'FY25-FY26 Scales'!A:K,11,FALSE),ROUND(G179*VLOOKUP(B179*1,'APU Scale'!A:B,2,FALSE)-G179,-2))","v":0},{"$f":"ROUND(H179*VLOOKUP(B179*1,'APU Scale'!A:B,2,FALSE),-2)","v":0},0,0,"0"]
["ORT006",0,null,null,null,null,null,null,null,null,{"$f":"IFERROR(VLOOKUP(P180,'FY25-FY26 Scales'!A:J,10,FALSE),G180)","v":0},{"$f":"IFERROR(VLOOKUP(P180,'FY25-FY26 Scales'!A:K,11,FALSE),ROUND(G180*VLOOKUP(B180*1,'APU Scale'!A:B,2,FALSE)-G180,-2))","v":0},{"$f":"ROUND(H180*VLOOKUP(B180*1,'APU Scale'!A:B,2,FALSE),-2)","v":0},0,0,"0"]
["ORT006",0,null,null,null,null,null,null,null,null,{"$f":"IFERROR(VLOOKUP(P181,'FY25-FY26 Scales'!A:J,10,FALSE),G181)","v":0},{"$f":"IFERROR(VLOOKUP(P181,'FY25-FY26 Scales'!A:K,11,FALSE),ROUND(G181*VLOOKUP(B181*1,'APU Scale'!A:B,2,FALSE)-G181,-2))","v":0},{"$f":"ROUND(H181*VLOOKUP(B181*1,'APU Scale'!A:B,2,FALSE),-2)","v":0},0,0,"0"]
["ORT006",0,null,null,null,null,null,null,null,null,{"$f":"IFERROR(VLOOKUP(P182,'FY25-FY26 Scales'!A:J,10,FALSE),G182)","v":0},{"$f":"IFERROR(VLOOKUP(P182,'FY25-FY26 Scales'!A:K,11,FALSE),ROUND(G182*VLOOKUP(B182*1,'APU Scale'!A:B,2,FALSE)-G182,-2))","v":0},{"$f":"ROUND(H182*VLOOKUP(B182*1,'APU Scale'!A:B,2,FALSE),-2)","v":0},0,0,"0"]
["ORT006",0,null,null,null,null,null,null,null,null,{"$f":"IFERROR(VLOOKUP(P183,'FY25-FY26 Scales'!A:J,10,FALSE),G183)","v":0},{"$f":"IFERROR(VLOOKUP(P183,'FY25-FY26 Scales'!A:K,11,FALSE),ROUND(G183*VLOOKUP(B183*1,'APU Scale'!A:B,2,FALSE)-G183,-2))","v":0},{"$f":"ROUND(H183*VLOOKUP(B183*1,'APU Scale'!A:B,2,FALSE),-2)","v":0},0,0,"0"]
["ORT006",0,null,null,null,null,null,null,null,null,{"$f":"IFERROR(VLOOKUP(P184,'FY25-FY26 Scales'!A:J,10,FALSE),G184)","v":0},{"$f":"IFERROR(VLOOKUP(P184,'FY25-FY26 Scales'!A:K,11,FALSE),ROUND(G184*VLOOKUP(B184*1,'APU Scale'!A:B,2,FALSE)-G184,-2))","v":0},{"$f":"ROUND(H184*VLOOKUP(B184*1,'APU Scale'!A:B,2,FALSE),-2)","v":0},0,0,"0"]
["ORT006",0,null,null,null,null,null,null,null,null,{"$f":"IFERROR(VLOOKUP(P185,'FY25-FY26 Scales'!A:J,10,FALSE),G185)","v":0},{"$f":"IFERROR(VLOOKUP(P185,'FY25-FY26 Scales'!A:K,11,FALSE),ROUND(G185*VLOOKUP(B185*1,'APU Scale'!A:B,2,FALSE)-G185,-2))","v":0},{"$f":"ROUND(H185*VLOOKUP(B185*1,'APU Scale'!A:B,2,FALSE),-2)","v":0},0,0,"0"]
["ORT006",0,null,null,null,null,null,null,null,null,{"$f":"IFERROR(VLOOKUP(P186,'FY25-FY26 Scales'!A:J,10,FALSE),G186)","v":0},{"$f":"IFERROR(VLOOKUP(P186,'FY25-FY26 Scales'!A:K,11,FALSE),ROUND(G186*VLOOKUP(B186*1,'APU Scale'!A:B,2,FALSE)-G186,-2))","v":0},{"$f":"ROUND(H186*VLOOKUP(B186*1,'APU Scale'!A:B,2,FALSE),-2)","v":0},0,0,"0"]
[{"$f":"A186","v":"ORT006"},0,null,null,null,null,null,null,null,null,{"$f":"IFERROR(VLOOKUP(P187,'FY25-FY26 Scales'!A:J,10,FALSE),G187)","v":0},{"$f":"IFERROR(VLOOKUP(P187,'FY25-FY26 Scales'!A:K,11,FALSE),ROUND(G187*VLOOKUP(B187*1,'APU Scale'!A:B,2,FALSE)-G187,-2))","v":0},{"$f":"ROUND(H187*VLOOKUP(B187*1,'APU Scale'!A:B,2,FALSE),-2)","v":0},0,0,"0"]
["ORT006",0,null,null,null,null,null,null,null,null,{"$f":"IFERROR(VLOOKUP(P188,'FY25-FY26 Scales'!A:J,10,FALSE),G188)","v":0},{"$f":"IFERROR(VLOOKUP(P188,'FY25-FY26 Scales'!A:K,11,FALSE),ROUND(G188*VLOOKUP(B188*1,'APU Scale'!A:B,2,FALSE)-G188,-2))","v":0},{"$f":"ROUND(H188*VLOOKUP(B188*1,'APU Scale'!A:B,2,FALSE),-2)","v":0},0,0,"0"]
["ORT006",0,null,null,null,null,null,null,null,null,{"$f":"IFERROR(VLOOKUP(P189,'FY25-FY26 Scales'!A:J,10,FALSE),G189)","v":0},{"$f":"IFERROR(VLOOKUP(P189,'FY25-FY26 Scales'!A:K,11,FALSE),ROUND(G189*VLOOKUP(B189*1,'APU Scale'!A:B,2,FALSE)-G189,-2))","v":0},{"$f":"ROUND(H189*VLOOKUP(B189*1,'APU Scale'!A:B,2,FALSE),-2)","v":0},0,0,"0"]
["ORT006",0,null,null,null,null,null,null,null,null,{"$f":"IFERROR(VLOOKUP(P190,'FY25-FY26 Scales'!A:J,10,FALSE),G190)","v":0},{"$f":"IFERROR(VLOOKUP(P190,'FY25-FY26 Scales'!A:K,11,FALSE),ROUND(G190*VLOOKUP(B190*1,'APU Scale'!A:B,2,FALSE)-G190,-2))","v":0},{"$f":"ROUND(H190*VLOOKUP(B190*1,'APU Scale'!A:B,2,FALSE),-2)","v":0},0,0,"0"]
["ORT006",0,null,null,null,null,null,null,null,null,{"$f":"IFERROR(VLOOKUP(P191,'FY25-FY26 Scales'!A:J,10,FALSE),G191)","v":0},{"$f":"IFERROR(VLOOKUP(P191,'FY25-FY26 Scales'!A:K,11,FALSE),ROUND(G191*VLOOKUP(B191*1,'APU Scale'!A:B,2,FALSE)-G191,-2))","v":0},{"$f":"ROUND(H191*VLOOKUP(B191*1,'APU Scale'!A:B,2,FALSE),-2)","v":0},0,0,"0"]
["ORT006",0,null,null,null,null,null,null,null,null,{"$f":"IFERROR(VLOOKUP(P192,'FY25-FY26 Scales'!A:J,10,FALSE),G192)","v":0},{"$f":"IFERROR(VLOOKUP(P192,'FY25-FY26 Scales'!A:K,11,FALSE),ROUND(G192*VLOOKUP(B192*1,'APU Scale'!A:B,2,FALSE)-G192,-2))","v":0},{"$f":"ROUND(H192*VLOOKUP(B192*1,'APU Scale'!A:B,2,FALSE),-2)","v":0},0,0,"0"]
["ORT006",0,null,null,null,null,null,null,null,null,{"$f":"IFERROR(VLOOKUP(P193,'FY25-FY26 Scales'!A:J,10,FALSE),G193)","v":0},{"$f":"IFERROR(VLOOKUP(P193,'FY25-FY26 Scales'!A:K,11,FALSE),ROUND(G193*VLOOKUP(B193*1,'APU Scale'!A:B,2,FALSE)-G193,-2))","v":0},{"$f":"ROUND(H193*VLOOKUP(B193*1,'APU Scale'!A:B,2,FALSE),-2)","v":0},0,0,"0"]
["ORT006",0,null,null,null,null,null,null,null,null,{"$f":"IFERROR(VLOOKUP(P194,'FY25-FY26 Scales'!A:J,10,FALSE),G194)","v":0},{"$f":"IFERROR(VLOOKUP(P194,'FY25-FY26 Scales'!A:K,11,FALSE),ROUND(G194*VLOOKUP(B194*1,'APU Scale'!A:B,2,FALSE)-G194,-2))","v":0},{"$f":"ROUND(H194*VLOOKUP(B194*1,'APU Scale'!A:B,2,FALSE),-2)","v":0},0,0,"0"]
["ORT006",0,null,null,null,null,null,null,null,null,{"$f":"IFERROR(VLOOKUP(P195,'FY25-FY26 Scales'!A:J,10,FALSE),G195)","v":0},{"$f":"IFERROR(VLOOKUP(P195,'FY25-FY26 Scales'!A:K,11,FALSE),ROUND(G195*VLOOKUP(B195*1,'APU Scale'!A:B,2,FALSE)-G195,-2))","v":0},{"$f":"ROUND(H195*VLOOKUP(B195*1,'APU Scale'!A:B,2,FALSE),-2)","v":0},0,0,"0"]
["ORT006",0,null,null,null,null,null,null,null,null,{"$f":"IFERROR(VLOOKUP(P196,'FY25-FY26 Scales'!A:J,10,FALSE),G196)","v":0},{"$f":"IFERROR(VLOOKUP(P196,'FY25-FY26 Scales'!A:K,11,FALSE),ROUND(G196*VLOOKUP(B196*1,'APU Scale'!A:B,2,FALSE)-G196,-2))","v":0},{"$f":"ROUND(H196*VLOOKUP(B196*1,'APU Scale'!A:B,2,FALSE),-2)","v":0},0,0,"0"]
["ORT006",0,null,null,null,null,null,null,null,null,{"$f":"IFERROR(VLOOKUP(P197,'FY25-FY26 Scales'!A:J,10,FALSE),G197)","v":0},{"$f":"IFERROR(VLOOKUP(P197,'FY25-FY26 Scales'!A:K,11,FALSE),ROUND(G197*VLOOKUP(B197*1,'APU Scale'!A:B,2,FALSE)-G197,-2))","v":0},{"$f":"ROUND(H197*VLOOKUP(B197*1,'APU Scale'!A:B,2,FALSE),-2)","v":0},0,0,"0"]
["ORT006",0,null,null,null,null,null,null,null,null,{"$f":"IFERROR(VLOOKUP(P198,'FY25-FY26 Scales'!A:J,10,FALSE),G198)","v":0},{"$f":"IFERROR(VLOOKUP(P198,'FY25-FY26 Scales'!A:K,11,FALSE),ROUND(G198*VLOOKUP(B198*1,'APU Scale'!A:B,2,FALSE)-G198,-2))","v":0},{"$f":"ROUND(H198*VLOOKUP(B198*1,'APU Scale'!A:B,2,FALSE),-2)","v":0},0,0,"0"]
["ORT006",0,null,null,null,null,null,null,null,null,{"$f":"IFERROR(VLOOKUP(P199,'FY25-FY26 Scales'!A:J,10,FALSE),G199)","v":0},{"$f":"IFERROR(VLOOKUP(P199,'FY25-FY26 Scales'!A:K,11,FALSE),ROUND(G199*VLOOKUP(B199*1,'APU Scale'!A:B,2,FALSE)-G199,-2))","v":0},{"$f":"ROUND(H199*VLOOKUP(B199*1,'APU Scale'!A:B,2,FALSE),-2)","v":0},0,0,"0"]
["ORT006",0,null,null,null,null,null,null,null,null,{"$f":"IFERROR(VLOOKUP(P200,'FY25-FY26 Scales'!A:J,10,FALSE),G200)","v":0},{"$f":"IFERROR(VLOOKUP(P200,'FY25-FY26 Scales'!A:K,11,FALSE),ROUND(G200*VLOOKUP(B200*1,'APU Scale'!A:B,2,FALSE)-G200,-2))","v":0},{"$f":"ROUND(H200*VLOOKUP(B200*1,'APU Scale'!A:B,2,FALSE),-2)","v":0},0,0,"0"]
["ORT006",0,null,null,null,null,null,null,null,null,{"$f":"IFERROR(VLOOKUP(P201,'FY25-FY26 Scales'!A:J,10,FALSE),G201)","v":0},{"$f":"IFERROR(VLOOKUP(P201,'FY25-FY26 Scales'!A:K,11,FALSE),ROUND(G201*VLOOKUP(B201*1,'APU Scale'!A:B,2,FALSE)-G201,-2))","v":0},{"$f":"ROUND(H201*VLOOKUP(B201*1,'APU Scale'!A:B,2,FALSE),-2)","v":0},0,0,"0"]
["ORT006",0,null,null,null,null,null,null,null,null,{"$f":"IFERROR(VLOOKUP(P202,'FY25-FY26 Scales'!A:J,10,FALSE),G202)","v":0},{"$f":"IFERROR(VLOOKUP(P202,'FY25-FY26 Scales'!A:K,11,FALSE),ROUND(G202*VLOOKUP(B202*1,'APU Scale'!A:B,2,FALSE)-G202,-2))","v":0},{"$f":"ROUND(H202*VLOOKUP(B202*1,'APU Scale'!A:B,2,FALSE),-2)","v":0},{"$f":"K202+L202+M202","v":0},{"$f":"IF(I202-J202-N202<0,0,I202-J202-N202)","v":0},{"$f":"CONCATENATE(E202,F202,B202)","v":"0"}]
[{"$f":"A202","v":"ORT006"},0,null,null,null,null,null,null,null,null,{"$f":"IFERROR(VLOOKUP(P203,'FY25-FY26 Scales'!A:J,10,FALSE),G203)","v":0},{"$f":"IFERROR(VLOOKUP(P203,'FY25-FY26 Scales'!A:K,11,FALSE),ROUND(G203*VLOOKUP(B203*1,'APU Scale'!A:B,2,FALSE)-G203,-2))","v":0},{"$f":"ROUND(H203*VLOOKUP(B203*1,'APU Scale'!A:B,2,FALSE),-2)","v":0},0,0,"0"]
["ORT006",0,null,null,null,null,null,null,null,null,{"$f":"IFERROR(VLOOKUP(P204,'FY25-FY26 Scales'!A:J,10,FALSE),G204)","v":0},{"$f":"IFERROR(VLOOKUP(P204,'FY25-FY26 Scales'!A:K,11,FALSE),ROUND(G204*VLOOKUP(B204*1,'APU Scale'!A:B,2,FALSE)-G204,-2))","v":0},{"$f":"ROUND(H204*VLOOKUP(B204*1,'APU Scale'!A:B,2,FALSE),-2)","v":0},0,0,"0"]
["ORT006",0,null,null,null,null,null,null,null,null,{"$f":"IFERROR(VLOOKUP(P205,'FY25-FY26 Scales'!A:J,10,FALSE),G205)","v":0},{"$f":"IFERROR(VLOOKUP(P205,'FY25-FY26 Scales'!A:K,11,FALSE),ROUND(G205*VLOOKUP(B205*1,'APU Scale'!A:B,2,FALSE)-G205,-2))","v":0},{"$f":"ROUND(H205*VLOOKUP(B205*1,'APU Scale'!A:B,2,FALSE),-2)","v":0},0,0,"0"]
["ORT006",0,null,null,null,null,null,null,null,null,{"$f":"IFERROR(VLOOKUP(P206,'FY25-FY26 Scales'!A:J,10,FALSE),G206)","v":0},{"$f":"IFERROR(VLOOKUP(P206,'FY25-FY26 Scales'!A:K,11,FALSE),ROUND(G206*VLOOKUP(B206*1,'APU Scale'!A:B,2,FALSE)-G206,-2))","v":0},{"$f":"ROUND(H206*VLOOKUP(B206*1,'APU Scale'!A:B,2,FALSE),-2)","v":0},0,0,"0"]
["ORT006",0,null,null,null,null,null,null,null,null,{"$f":"IFERROR(VLOOKUP(P207,'FY25-FY26 Scales'!A:J,10,FALSE),G207)","v":0},{"$f":"IFERROR(VLOOKUP(P207,'FY25-FY26 Scales'!A:K,11,FALSE),ROUND(G207*VLOOKUP(B207*1,'APU Scale'!A:B,2,FALSE)-G207,-2))","v":0},{"$f":"ROUND(H207*VLOOKUP(B207*1,'APU Scale'!A:B,2,FALSE),-2)","v":0},0,0,"0"]
["ORT006",0,null,null,null,null,null,null,null,null,{"$f":"IFERROR(VLOOKUP(P208,'FY25-FY26 Scales'!A:J,10,FALSE),G208)","v":0},{"$f":"IFERROR(VLOOKUP(P208,'FY25-FY26 Scales'!A:K,11,FALSE),ROUND(G208*VLOOKUP(B208*1,'APU Scale'!A:B,2,FALSE)-G208,-2))","v":0},{"$f":"ROUND(H208*VLOOKUP(B208*1,'APU Scale'!A:B,2,FALSE),-2)","v":0},0,0,"0"]
["ORT006",0,null,null,null,null,null,null,null,null,{"$f":"IFERROR(VLOOKUP(P209,'FY25-FY26 Scales'!A:J,10,FALSE),G209)","v":0},{"$f":"IFERROR(VLOOKUP(P209,'FY25-FY26 Scales'!A:K,11,FALSE),ROUND(G209*VLOOKUP(B209*1,'APU Scale'!A:B,2,FALSE)-G209,-2))","v":0},{"$f":"ROUND(H209*VLOOKUP(B209*1,'APU Scale'!A:B,2,FALSE),-2)","v":0},0,0,"0"]
["ORT006",0,null,null,null,null,null,null,null,null,{"$f":"IFERROR(VLOOKUP(P210,'FY25-FY26 Scales'!A:J,10,FALSE),G210)","v":0},{"$f":"IFERROR(VLOOKUP(P210,'FY25-FY26 Scales'!A:K,11,FALSE),ROUND(G210*VLOOKUP(B210*1,'APU Scale'!A:B,2,FALSE)-G210,-2))","v":0},{"$f":"ROUND(H210*VLOOKUP(B210*1,'APU Scale'!A:B,2,FALSE),-2)","v":0},0,0,"0"]
["ORT006",0,null,null,null,null,null,null,null,null,{"$f":"IFERROR(VLOOKUP(P211,'FY25-FY26 Scales'!A:J,10,FALSE),G211)","v":0},{"$f":"IFERROR(VLOOKUP(P211,'FY25-FY26 Scales'!A:K,11,FALSE),ROUND(G211*VLOOKUP(B211*1,'APU Scale'!A:B,2,FALSE)-G211,-2))","v":0},{"$f":"ROUND(H211*VLOOKUP(B211*1,'APU Scale'!A:B,2,FALSE),-2)","v":0},0,0,"0"]
["ORT006",0,null,null,null,null,null,null,null,null,{"$f":"IFERROR(VLOOKUP(P212,'FY25-FY26 Scales'!A:J,10,FALSE),G212)","v":0},{"$f":"IFERROR(VLOOKUP(P212,'FY25-FY26 Scales'!A:K,11,FALSE),ROUND(G212*VLOOKUP(B212*1,'APU Scale'!A:B,2,FALSE)-G212,-2))","v":0},{"$f":"ROUND(H212*VLOOKUP(B212*1,'APU Scale'!A:B,2,FALSE),-2)","v":0},0,0,"0"]
["ORT006",0,null,null,null,null,null,null,null,null,{"$f":"IFERROR(VLOOKUP(P213,'FY25-FY26 Scales'!A:J,10,FALSE),G213)","v":0},{"$f":"IFERROR(VLOOKUP(P213,'FY25-FY26 Scales'!A:K,11,FALSE),ROUND(G213*VLOOKUP(B213*1,'APU Scale'!A:B,2,FALSE)-G213,-2))","v":0},{"$f":"ROUND(H213*VLOOKUP(B213*1,'APU Scale'!A:B,2,FALSE),-2)","v":0},0,0,"0"]
["ORT006",0,null,null,null,null,null,null,null,null,{"$f":"IFERROR(VLOOKUP(P214,'FY25-FY26 Scales'!A:J,10,FALSE),G214)","v":0},{"$f":"IFERROR(VLOOKUP(P214,'FY25-FY26 Scales'!A:K,11,FALSE),ROUND(G214*VLOOKUP(B214*1,'APU Scale'!A:B,2,FALSE)-G214,-2))","v":0},{"$f":"ROUND(H214*VLOOKUP(B214*1,'APU Scale'!A:B,2,FALSE),-2)","v":0},0,0,"0"]
["ORT006",0,null,null,null,null,null,null,null,null,{"$f":"IFERROR(VLOOKUP(P215,'FY25-FY26 Scales'!A:J,10,FALSE),G215)","v":0},{"$f":"IFERROR(VLOOKUP(P215,'FY25-FY26 Scales'!A:K,11,FALSE),ROUND(G215*VLOOKUP(B215*1,'APU Scale'!A:B,2,FALSE)-G215,-2))","v":0},{"$f":"ROUND(H215*VLOOKUP(B215*1,'APU Scale'!A:B,2,FALSE),-2)","v":0},0,0,"0"]
["ORT006",0,null,null,null,null,null,null,null,null,{"$f":"IFERROR(VLOOKUP(P216,'FY25-FY26 Scales'!A:J,10,FALSE),G216)","v":0},{"$f":"IFERROR(VLOOKUP(P216,'FY25-FY26 Scales'!A:K,11,FALSE),ROUND(G216*VLOOKUP(B216*1,'APU Scale'!A:B,2,FALSE)-G216,-2))","v":0},{"$f":"ROUND(H216*VLOOKUP(B216*1,'APU Scale'!A:B,2,FALSE),-2)","v":0},0,0,"0"]
["ORT006",0,null,null,null,null,null,null,null,null,{"$f":"IFERROR(VLOOKUP(P217,'FY25-FY26 Scales'!A:J,10,FALSE),G217)","v":0},{"$f":"IFERROR(VLOOKUP(P217,'FY25-FY26 Scales'!A:K,11,FALSE),ROUND(G217*VLOOKUP(B217*1,'APU Scale'!A:B,2,FALSE)-G217,-2))","v":0},{"$f":"ROUND(H217*VLOOKUP(B217*1,'APU Scale'!A:B,2,FALSE),-2)","v":0},0,0,"0"]
["ORT006",0,null,null,null,null,null,null,null,null,{"$f":"IFERROR(VLOOKUP(P218,'FY25-FY26 Scales'!A:J,10,FALSE),G218)","v":0},{"$f":"IFERROR(VLOOKUP(P218,'FY25-FY26 Scales'!A:K,11,FALSE),ROUND(G218*VLOOKUP(B218*1,'APU Scale'!A:B,2,FALSE)-G218,-2))","v":0},{"$f":"ROUND(H218*VLOOKUP(B218*1,'APU Scale'!A:B,2,FALSE),-2)","v":0},0,0,"0"]
[{"$f":"A218","v":"ORT006"},0,null,null,null,null,null,null,null,null,{"$f":"IFERROR(VLOOKUP(P219,'FY25-FY26 Scales'!A:J,10,FALSE),G219)","v":0},{"$f":"IFERROR(VLOOKUP(P219,'FY25-FY26 Scales'!A:K,11,FALSE),ROUND(G219*VLOOKUP(B219*1,'APU Scale'!A:B,2,FALSE)-G219,-2))","v":0},{"$f":"ROUND(H219*VLOOKUP(B219*1,'APU Scale'!A:B,2,FALSE),-2)","v":0},0,0,"0"]
["ORT006",0,null,null,null,null,null,null,null,null,{"$f":"IFERROR(VLOOKUP(P220,'FY25-FY26 Scales'!A:J,10,FALSE),G220)","v":0},{"$f":"IFERROR(VLOOKUP(P220,'FY25-FY26 Scales'!A:K,11,FALSE),ROUND(G220*VLOOKUP(B220*1,'APU Scale'!A:B,2,FALSE)-G220,-2))","v":0},{"$f":"ROUND(H220*VLOOKUP(B220*1,'APU Scale'!A:B,2,FALSE),-2)","v":0},0,0,"0"]
["ORT006",0,null,null,null,null,null,null,null,null,{"$f":"IFERROR(VLOOKUP(P221,'FY25-FY26 Scales'!A:J,10,FALSE),G221)","v":0},{"$f":"IFERROR(VLOOKUP(P221,'FY25-FY26 Scales'!A:K,11,FALSE),ROUND(G221*VLOOKUP(B221*1,'APU Scale'!A:B,2,FALSE)-G221,-2))","v":0},{"$f":"ROUND(H221*VLOOKUP(B221*1,'APU Scale'!A:B,2,FALSE),-2)","v":0},0,0,"0"]
["ORT006",0,null,null,null,null,null,null,null,null,{"$f":"IFERROR(VLOOKUP(P222,'FY25-FY26 Scales'!A:J,10,FALSE),G222)","v":0},{"$f":"IFERROR(VLOOKUP(P222,'FY25-FY26 Scales'!A:K,11,FALSE),ROUND(G222*VLOOKUP(B222*1,'APU Scale'!A:B,2,FALSE)-G222,-2))","v":0},{"$f":"ROUND(H222*VLOOKUP(B222*1,'APU Scale'!A:B,2,FALSE),-2)","v":0},0,0,"0"]
["ORT006",0,null,null,null,null,null,null,null,null,{"$f":"IFERROR(VLOOKUP(P223,'FY25-FY26 Scales'!A:J,10,FALSE),G223)","v":0},{"$f":"IFERROR(VLOOKUP(P223,'FY25-FY26 Scales'!A:K,11,FALSE),ROUND(G223*VLOOKUP(B223*1,'APU Scale'!A:B,2,FALSE)-G223,-2))","v":0},{"$f":"ROUND(H223*VLOOKUP(B223*1,'APU Scale'!A:B,2,FALSE),-2)","v":0},0,0,"0"]
["ORT006",0,null,null,null,null,null,null,null,null,{"$f":"IFERROR(VLOOKUP(P224,'FY25-FY26 Scales'!A:J,10,FALSE),G224)","v":0},{"$f":"IFERROR(VLOOKUP(P224,'FY25-FY26 Scales'!A:K,11,FALSE),ROUND(G224*VLOOKUP(B224*1,'APU Scale'!A:B,2,FALSE)-G224,-2))","v":0},{"$f":"ROUND(H224*VLOOKUP(B224*1,'APU Scale'!A:B,2,FALSE),-2)","v":0},0,0,"0"]
["ORT006",0,null,null,null,null,null,null,null,null,{"$f":"IFERROR(VLOOKUP(P225,'FY25-FY26 Scales'!A:J,10,FALSE),G225)","v":0},{"$f":"IFERROR(VLOOKUP(P225,'FY25-FY26 Scales'!A:K,11,FALSE),ROUND(G225*VLOOKUP(B225*1,'APU Scale'!A:B,2,FALSE)-G225,-2))","v":0},{"$f":"ROUND(H225*VLOOKUP(B225*1,'APU Scale'!A:B,2,FALSE),-2)","v":0},0,0,"0"]
["ORT006",0,null,null,null,null,null,null,null,null,{"$f":"IFERROR(VLOOKUP(P226,'FY25-FY26 Scales'!A:J,10,FALSE),G226)","v":0},{"$f":"IFERROR(VLOOKUP(P226,'FY25-FY26 Scales'!A:K,11,FALSE),ROUND(G226*VLOOKUP(B226*1,'APU Scale'!A:B,2,FALSE)-G226,-2))","v":0},{"$f":"ROUND(H226*VLOOKUP(B226*1,'APU Scale'!A:B,2,FALSE),-2)","v":0},0,0,"0"]
["ORT006",0,null,null,null,null,null,null,null,null,{"$f":"IFERROR(VLOOKUP(P227,'FY25-FY26 Scales'!A:J,10,FALSE),G227)","v":0},{"$f":"IFERROR(VLOOKUP(P227,'FY25-FY26 Scales'!A:K,11,FALSE),ROUND(G227*VLOOKUP(B227*1,'APU Scale'!A:B,2,FALSE)-G227,-2))","v":0},{"$f":"ROUND(H227*VLOOKUP(B227*1,'APU Scale'!A:B,2,FALSE),-2)","v":0},0,0,"0"]
["ORT006",0,null,null,null,null,null,null,null,null,{"$f":"IFERROR(VLOOKUP(P228,'FY25-FY26 Scales'!A:J,10,FALSE),G228)","v":0},{"$f":"IFERROR(VLOOKUP(P228,'FY25-FY26 Scales'!A:K,11,FALSE),ROUND(G228*VLOOKUP(B228*1,'APU Scale'!A:B,2,FALSE)-G228,-2))","v":0},{"$f":"ROUND(H228*VLOOKUP(B228*1,'APU Scale'!A:B,2,FALSE),-2)","v":0},0,0,"0"]
["ORT006",0,null,null,null,null,null,null,null,null,{"$f":"IFERROR(VLOOKUP(P229,'FY25-FY26 Scales'!A:J,10,FALSE),G229)","v":0},{"$f":"IFERROR(VLOOKUP(P229,'FY25-FY26 Scales'!A:K,11,FALSE),ROUND(G229*VLOOKUP(B229*1,'APU Scale'!A:B,2,FALSE)-G229,-2))","v":0},{"$f":"ROUND(H229*VLOOKUP(B229*1,'APU Scale'!A:B,2,FALSE),-2)","v":0},0,0,"0"]
["ORT006",0,null,null,null,null,null,null,null,null,{"$f":"IFERROR(VLOOKUP(P230,'FY25-FY26 Scales'!A:J,10,FALSE),G230)","v":0},{"$f":"IFERROR(VLOOKUP(P230,'FY25-FY26 Scales'!A:K,11,FALSE),ROUND(G230*VLOOKUP(B230*1,'APU Scale'!A:B,2,FALSE)-G230,-2))","v":0},{"$f":"ROUND(H230*VLOOKUP(B230*1,'APU Scale'!A:B,2,FALSE),-2)","v":0},0,0,"0"]
["ORT006",0,null,null,null,null,null,null,null,null,{"$f":"IFERROR(VLOOKUP(P231,'FY25-FY26 Scales'!A:J,10,FALSE),G231)","v":0},{"$f":"IFERROR(VLOOKUP(P231,'FY25-FY26 Scales'!A:K,11,FALSE),ROUND(G231*VLOOKUP(B231*1,'APU Scale'!A:B,2,FALSE)-G231,-2))","v":0},{"$f":"ROUND(H231*VLOOKUP(B231*1,'APU Scale'!A:B,2,FALSE),-2)","v":0},0,0,"0"]
["ORT006",0,null,null,null,null,null,null,null,null,{"$f":"IFERROR(VLOOKUP(P232,'FY25-FY26 Scales'!A:J,10,FALSE),G232)","v":0},{"$f":"IFERROR(VLOOKUP(P232,'FY25-FY26 Scales'!A:K,11,FALSE),ROUND(G232*VLOOKUP(B232*1,'APU Scale'!A:B,2,FALSE)-G232,-2))","v":0},{"$f":"ROUND(H232*VLOOKUP(B232*1,'APU Scale'!A:B,2,FALSE),-2)","v":0},0,0,"0"]
["ORT006",0,null,null,null,null,null,null,null,null,{"$f":"IFERROR(VLOOKUP(P233,'FY25-FY26 Scales'!A:J,10,FALSE),G233)","v":0},{"$f":"IFERROR(VLOOKUP(P233,'FY25-FY26 Scales'!A:K,11,FALSE),ROUND(G233*VLOOKUP(B233*1,'APU Scale'!A:B,2,FALSE)-G233,-2))","v":0},{"$f":"ROUND(H233*VLOOKUP(B233*1,'APU Scale'!A:B,2,FALSE),-2)","v":0},0,0,"0"]
["ORT006",0,null,null,null,null,null,null,null,null,{"$f":"IFERROR(VLOOKUP(P234,'FY25-FY26 Scales'!A:J,10,FALSE),G234)","v":0},{"$f":"IFERROR(VLOOKUP(P234,'FY25-FY26 Scales'!A:K,11,FALSE),ROUND(G234*VLOOKUP(B234*1,'APU Scale'!A:B,2,FALSE)-G234,-2))","v":0},{"$f":"ROUND(H234*VLOOKUP(B234*1,'APU Scale'!A:B,2,FALSE),-2)","v":0},0,0,"0"]
[{"$f":"A234","v":"ORT006"},0,null,null,null,null,null,null,null,null,{"$f":"IFERROR(VLOOKUP(P235,'FY25-FY26 Scales'!A:J,10,FALSE),G235)","v":0},{"$f":"IFERROR(VLOOKUP(P235,'FY25-FY26 Scales'!A:K,11,FALSE),ROUND(G235*VLOOKUP(B235*1,'APU Scale'!A:B,2,FALSE)-G235,-2))","v":0},{"$f":"ROUND(H235*VLOOKUP(B235*1,'APU Scale'!A:B,2,FALSE),-2)","v":0},0,0,"0"]
["ORT006",0,null,null,null,null,null,null,null,null,{"$f":"IFERROR(VLOOKUP(P236,'FY25-FY26 Scales'!A:J,10,FALSE),G236)","v":0},{"$f":"IFERROR(VLOOKUP(P236,'FY25-FY26 Scales'!A:K,11,FALSE),ROUND(G236*VLOOKUP(B236*1,'APU Scale'!A:B,2,FALSE)-G236,-2))","v":0},{"$f":"ROUND(H236*VLOOKUP(B236*1,'APU Scale'!A:B,2,FALSE),-2)","v":0},0,0,"0"]
["ORT006",0,null,null,null,null,null,null,null,null,{"$f":"IFERROR(VLOOKUP(P237,'FY25-FY26 Scales'!A:J,10,FALSE),G237)","v":0},{"$f":"IFERROR(VLOOKUP(P237,'FY25-FY26 Scales'!A:K,11,FALSE),ROUND(G237*VLOOKUP(B237*1,'APU Scale'!A:B,2,FALSE)-G237,-2))","v":0},{"$f":"ROUND(H237*VLOOKUP(B237*1,'APU Scale'!A:B,2,FALSE),-2)","v":0},0,0,"0"]
["ORT006",0,null,null,null,null,null,null,null,null,{"$f":"IFERROR(VLOOKUP(P238,'FY25-FY26 Scales'!A:J,10,FALSE),G238)","v":0},{"$f":"IFERROR(VLOOKUP(P238,'FY25-FY26 Scales'!A:K,11,FALSE),ROUND(G238*VLOOKUP(B238*1,'APU Scale'!A:B,2,FALSE)-G238,-2))","v":0},{"$f":"ROUND(H238*VLOOKUP(B238*1,'APU Scale'!A:B,2,FALSE),-2)","v":0},0,0,"0"]
["ORT006",0,null,null,null,null,null,null,null,null,{"$f":"IFERROR(VLOOKUP(P239,'FY25-FY26 Scales'!A:J,10,FALSE),G239)","v":0},{"$f":"IFERROR(VLOOKUP(P239,'FY25-FY26 Scales'!A:K,11,FALSE),ROUND(G239*VLOOKUP(B239*1,'APU Scale'!A:B,2,FALSE)-G239,-2))","v":0},{"$f":"ROUND(H239*VLOOKUP(B239*1,'APU Scale'!A:B,2,FALSE),-2)","v":0},0,0,"0"]
["ORT006",0,null,null,null,null,null,null,null,null,{"$f":"IFERROR(VLOOKUP(P240,'FY25-FY26 Scales'!A:J,10,FALSE),G240)","v":0},{"$f":"IFERROR(VLOOKUP(P240,'FY25-FY26 Scales'!A:K,11,FALSE),ROUND(G240*VLOOKUP(B240*1,'APU Scale'!A:B,2,FALSE)-G240,-2))","v":0},{"$f":"ROUND(H240*VLOOKUP(B240*1,'APU Scale'!A:B,2,FALSE),-2)","v":0},0,0,"0"]
["ORT006",0,null,null,null,null,null,null,null,null,{"$f":"IFERROR(VLOOKUP(P241,'FY25-FY26 Scales'!A:J,10,FALSE),G241)","v":0},{"$f":"IFERROR(VLOOKUP(P241,'FY25-FY26 Scales'!A:K,11,FALSE),ROUND(G241*VLOOKUP(B241*1,'APU Scale'!A:B,2,FALSE)-G241,-2))","v":0},{"$f":"ROUND(H241*VLOOKUP(B241*1,'APU Scale'!A:B,2,FALSE),-2)","v":0},0,0,"0"]
["ORT006",0,null,null,null,null,null,null,null,null,{"$f":"IFERROR(VLOOKUP(P242,'FY25-FY26 Scales'!A:J,10,FALSE),G242)","v":0},{"$f":"IFERROR(VLOOKUP(P242,'FY25-FY26 Scales'!A:K,11,FALSE),ROUND(G242*VLOOKUP(B242*1,'APU Scale'!A:B,2,FALSE)-G242,-2))","v":0},{"$f":"ROUND(H242*VLOOKUP(B242*1,'APU Scale'!A:B,2,FALSE),-2)","v":0},0,0,"0"]
["ORT006",0,null,null,null,null,null,null,null,null,{"$f":"IFERROR(VLOOKUP(P243,'FY25-FY26 Scales'!A:J,10,FALSE),G243)","v":0},{"$f":"IFERROR(VLOOKUP(P243,'FY25-FY26 Scales'!A:K,11,FALSE),ROUND(G243*VLOOKUP(B243*1,'APU Scale'!A:B,2,FALSE)-G243,-2))","v":0},{"$f":"ROUND(H243*VLOOKUP(B243*1,'APU Scale'!A:B,2,FALSE),-2)","v":0},0,0,"0"]
["ORT006",0,null,null,null,null,null,null,null,null,{"$f":"IFERROR(VLOOKUP(P244,'FY25-FY26 Scales'!A:J,10,FALSE),G244)","v":0},{"$f":"IFERROR(VLOOKUP(P244,'FY25-FY26 Scales'!A:K,11,FALSE),ROUND(G244*VLOOKUP(B244*1,'APU Scale'!A:B,2,FALSE)-G244,-2))","v":0},{"$f":"ROUND(H244*VLOOKUP(B244*1,'APU Scale'!A:B,2,FALSE),-2)","v":0},0,0,"0"]
["ORT006",0,null,null,null,null,null,null,null,null,{"$f":"IFERROR(VLOOKUP(P245,'FY25-FY26 Scales'!A:J,10,FALSE),G245)","v":0},{"$f":"IFERROR(VLOOKUP(P245,'FY25-FY26 Scales'!A:K,11,FALSE),ROUND(G245*VLOOKUP(B245*1,'APU Scale'!A:B,2,FALSE)-G245,-2))","v":0},{"$f":"ROUND(H245*VLOOKUP(B245*1,'APU Scale'!A:B,2,FALSE),-2)","v":0},0,0,"0"]
["ORT006",0,null,null,null,null,null,null,null,null,{"$f":"IFERROR(VLOOKUP(P246,'FY25-FY26 Scales'!A:J,10,FALSE),G246)","v":0},{"$f":"IFERROR(VLOOKUP(P246,'FY25-FY26 Scales'!A:K,11,FALSE),ROUND(G246*VLOOKUP(B246*1,'APU Scale'!A:B,2,FALSE)-G246,-2))","v":0},{"$f":"ROUND(H246*VLOOKUP(B246*1,'APU Scale'!A:B,2,FALSE),-2)","v":0},0,0,"0"]
["ORT006",0,null,null,null,null,null,null,null,null,{"$f":"IFERROR(VLOOKUP(P247,'FY25-FY26 Scales'!A:J,10,FALSE),G247)","v":0},{"$f":"IFERROR(VLOOKUP(P247,'FY25-FY26 Scales'!A:K,11,FALSE),ROUND(G247*VLOOKUP(B247*1,'APU Scale'!A:B,2,FALSE)-G247,-2))","v":0},{"$f":"ROUND(H247*VLOOKUP(B247*1,'APU Scale'!A:B,2,FALSE),-2)","v":0},0,0,"0"]
["ORT006",0,null,null,null,null,null,null,null,null,{"$f":"IFERROR(VLOOKUP(P248,'FY25-FY26 Scales'!A:J,10,FALSE),G248)","v":0},{"$f":"IFERROR(VLOOKUP(P248,'FY25-FY26 Scales'!A:K,11,FALSE),ROUND(G248*VLOOKUP(B248*1,'APU Scale'!A:B,2,FALSE)-G248,-2))","v":0},{"$f":"ROUND(H248*VLOOKUP(B248*1,'APU Scale'!A:B,2,FALSE),-2)","v":0},0,0,"0"]
["ORT006",0,null,null,null,null,null,null,null,null,{"$f":"IFERROR(VLOOKUP(P249,'FY25-FY26 Scales'!A:J,10,FALSE),G249)","v":0},{"$f":"IFERROR(VLOOKUP(P249,'FY25-FY26 Scales'!A:K,11,FALSE),ROUND(G249*VLOOKUP(B249*1,'APU Scale'!A:B,2,FALSE)-G249,-2))","v":0},{"$f":"ROUND(H249*VLOOKUP(B249*1,'APU Scale'!A:B,2,FALSE),-2)","v":0},0,0,"0"]
["ORT006",0,null,null,null,null,null,null,null,null,{"$f":"IFERROR(VLOOKUP(P250,'FY25-FY26 Scales'!A:J,10,FALSE),G250)","v":0},{"$f":"IFERROR(VLOOKUP(P250,'FY25-FY26 Scales'!A:K,11,FALSE),ROUND(G250*VLOOKUP(B250*1,'APU Scale'!A:B,2,FALSE)-G250,-2))","v":0},{"$f":"ROUND(H250*VLOOKUP(B250*1,'APU Scale'!A:B,2,FALSE),-2)","v":0},0,0,"0"]
[{"$f":"A250","v":"ORT006"},0,null,null,null,null,null,null,null,null,{"$f":"IFERROR(VLOOKUP(P251,'FY25-FY26 Scales'!A:J,10,FALSE),G251)","v":0},{"$f":"IFERROR(VLOOKUP(P251,'FY25-FY26 Scales'!A:K,11,FALSE),ROUND(G251*VLOOKUP(B251*1,'APU Scale'!A:B,2,FALSE)-G251,-2))","v":0},{"$f":"ROUND(H251*VLOOKUP(B251*1,'APU Scale'!A:B,2,FALSE),-2)","v":0},0,0,"0"]
["ORT006",0,null,null,null,null,null,null,null,null,{"$f":"IFERROR(VLOOKUP(P252,'FY25-FY26 Scales'!A:J,10,FALSE),G252)","v":0},{"$f":"IFERROR(VLOOKUP(P252,'FY25-FY26 Scales'!A:K,11,FALSE),ROUND(G252*VLOOKUP(B252*1,'APU Scale'!A:B,2,FALSE)-G252,-2))","v":0},{"$f":"ROUND(H252*VLOOKUP(B252*1,'APU Scale'!A:B,2,FALSE),-2)","v":0},0,0,"0"]
["ORT006",0,null,null,null,null,null,null,null,null,{"$f":"IFERROR(VLOOKUP(P253,'FY25-FY26 Scales'!A:J,10,FALSE),G253)","v":0},{"$f":"IFERROR(VLOOKUP(P253,'FY25-FY26 Scales'!A:K,11,FALSE),ROUND(G253*VLOOKUP(B253*1,'APU Scale'!A:B,2,FALSE)-G253,-2))","v":0},{"$f":"ROUND(H253*VLOOKUP(B253*1,'APU Scale'!A:B,2,FALSE),-2)","v":0},0,0,"0"]
["ORT006",0,null,null,null,null,null,null,null,null,{"$f":"IFERROR(VLOOKUP(P254,'FY25-FY26 Scales'!A:J,10,FALSE),G254)","v":0},{"$f":"IFERROR(VLOOKUP(P254,'FY25-FY26 Scales'!A:K,11,FALSE),ROUND(G254*VLOOKUP(B254*1,'APU Scale'!A:B,2,FALSE)-G254,-2))","v":0},{"$f":"ROUND(H254*VLOOKUP(B254*1,'APU Scale'!A:B,2,FALSE),-2)","v":0},0,0,"0"]
["ORT006",0,null,null,null,null,null,null,null,null,{"$f":"IFERROR(VLOOKUP(P255,'FY25-FY26 Scales'!A:J,10,FALSE),G255)","v":0},{"$f":"IFERROR(VLOOKUP(P255,'FY25-FY26 Scales'!A:K,11,FALSE),ROUND(G255*VLOOKUP(B255*1,'APU Scale'!A:B,2,FALSE)-G255,-2))","v":0},{"$f":"ROUND(H255*VLOOKUP(B255*1,'APU Scale'!A:B,2,FALSE),-2)","v":0},0,0,"0"]
["ORT006",0,null,null,null,null,null,null,null,null,{"$f":"IFERROR(VLOOKUP(P256,'FY25-FY26 Scales'!A:J,10,FALSE),G256)","v":0},{"$f":"IFERROR(VLOOKUP(P256,'FY25-FY26 Scales'!A:K,11,FALSE),ROUND(G256*VLOOKUP(B256*1,'APU Scale'!A:B,2,FALSE)-G256,-2))","v":0},{"$f":"ROUND(H256*VLOOKUP(B256*1,'APU Scale'!A:B,2,FALSE),-2)","v":0},0,0,"0"]
["ORT006",0,null,null,null,null,null,null,null,null,{"$f":"IFERROR(VLOOKUP(P257,'FY25-FY26 Scales'!A:J,10,FALSE),G257)","v":0},{"$f":"IFERROR(VLOOKUP(P257,'FY25-FY26 Scales'!A:K,11,FALSE),ROUND(G257*VLOOKUP(B257*1,'APU Scale'!A:B,2,FALSE)-G257,-2))","v":0},{"$f":"ROUND(H257*VLOOKUP(B257*1,'APU Scale'!A:B,2,FALSE),-2)","v":0},0,0,"0"]
["ORT006",0,null,null,null,null,null,null,null,null,{"$f":"IFERROR(VLOOKUP(P258,'FY25-FY26 Scales'!A:J,10,FALSE),G258)","v":0},{"$f":"IFERROR(VLOOKUP(P258,'FY25-FY26 Scales'!A:K,11,FALSE),ROUND(G258*VLOOKUP(B258*1,'APU Scale'!A:B,2,FALSE)-G258,-2))","v":0},{"$f":"ROUND(H258*VLOOKUP(B258*1,'APU Scale'!A:B,2,FALSE),-2)","v":0},0,0,"0"]
["ORT006",0,null,null,null,null,null,null,null,null,{"$f":"IFERROR(VLOOKUP(P259,'FY25-FY26 Scales'!A:J,10,FALSE),G259)","v":0},{"$f":"IFERROR(VLOOKUP(P259,'FY25-FY26 Scales'!A:K,11,FALSE),ROUND(G259*VLOOKUP(B259*1,'APU Scale'!A:B,2,FALSE)-G259,-2))","v":0},{"$f":"ROUND(H259*VLOOKUP(B259*1,'APU Scale'!A:B,2,FALSE),-2)","v":0},0,0,"0"]
["ORT006",0,null,null,null,null,null,null,null,null,{"$f":"IFERROR(VLOOKUP(P260,'FY25-FY26 Scales'!A:J,10,FALSE),G260)","v":0},{"$f":"IFERROR(VLOOKUP(P260,'FY25-FY26 Scales'!A:K,11,FALSE),ROUND(G260*VLOOKUP(B260*1,'APU Scale'!A:B,2,FALSE)-G260,-2))","v":0},{"$f":"ROUND(H260*VLOOKUP(B260*1,'APU Scale'!A:B,2,FALSE),-2)","v":0},0,0,"0"]
["ORT006",0,null,null,null,null,null,null,null,null,{"$f":"IFERROR(VLOOKUP(P261,'FY25-FY26 Scales'!A:J,10,FALSE),G261)","v":0},{"$f":"IFERROR(VLOOKUP(P261,'FY25-FY26 Scales'!A:K,11,FALSE),ROUND(G261*VLOOKUP(B261*1,'APU Scale'!A:B,2,FALSE)-G261,-2))","v":0},{"$f":"ROUND(H261*VLOOKUP(B261*1,'APU Scale'!A:B,2,FALSE),-2)","v":0},0,0,"0"]
["ORT006",0,null,null,null,null,null,null,null,null,{"$f":"IFERROR(VLOOKUP(P262,'FY25-FY26 Scales'!A:J,10,FALSE),G262)","v":0},{"$f":"IFERROR(VLOOKUP(P262,'FY25-FY26 Scales'!A:K,11,FALSE),ROUND(G262*VLOOKUP(B262*1,'APU Scale'!A:B,2,FALSE)-G262,-2))","v":0},{"$f":"ROUND(H262*VLOOKUP(B262*1,'APU Scale'!A:B,2,FALSE),-2)","v":0},0,0,"0"]
["ORT006",0,null,null,null,null,null,null,null,null,{"$f":"IFERROR(VLOOKUP(P263,'FY25-FY26 Scales'!A:J,10,FALSE),G263)","v":0},{"$f":"IFERROR(VLOOKUP(P263,'FY25-FY26 Scales'!A:K,11,FALSE),ROUND(G263*VLOOKUP(B263*1,'APU Scale'!A:B,2,FALSE)-G263,-2))","v":0},{"$f":"ROUND(H263*VLOOKUP(B263*1,'APU Scale'!A:B,2,FALSE),-2)","v":0},0,0,"0"]
["ORT006",0,null,null,null,null,null,null,null,null,{"$f":"IFERROR(VLOOKUP(P264,'FY25-FY26 Scales'!A:J,10,FALSE),G264)","v":0},{"$f":"IFERROR(VLOOKUP(P264,'FY25-FY26 Scales'!A:K,11,FALSE),ROUND(G264*VLOOKUP(B264*1,'APU Scale'!A:B,2,FALSE)-G264,-2))","v":0},{"$f":"ROUND(H264*VLOOKUP(B264*1,'APU Scale'!A:B,2,FALSE),-2)","v":0},0,0,"0"]
["ORT006",0,null,null,null,null,null,null,null,null,{"$f":"IFERROR(VLOOKUP(P265,'FY25-FY26 Scales'!A:J,10,FALSE),G265)","v":0},{"$f":"IFERROR(VLOOKUP(P265,'FY25-FY26 Scales'!A:K,11,FALSE),ROUND(G265*VLOOKUP(B265*1,'APU Scale'!A:B,2,FALSE)-G265,-2))","v":0},{"$f":"ROUND(H265*VLOOKUP(B265*1,'APU Scale'!A:B,2,FALSE),-2)","v":0},0,0,"0"]
["ORT006",0,null,null,null,null,null,null,null,null,{"$f":"IFERROR(VLOOKUP(P266,'FY25-FY26 Scales'!A:J,10,FALSE),G266)","v":0},{"$f":"IFERROR(VLOOKUP(P266,'FY25-FY26 Scales'!A:K,11,FALSE),ROUND(G266*VLOOKUP(B266*1,'APU Scale'!A:B,2,FALSE)-G266,-2))","v":0},{"$f":"ROUND(H266*VLOOKUP(B266*1,'APU Scale'!A:B,2,FALSE),-2)","v":0},{"$f":"K266+L266+M266","v":0},{"$f":"IF(I266-J266-N266<0,0,I266-J266-N266)","v":0},{"$f":"CONCATENATE(E266,F266,B266)","v":"0"}]
[{"$f":"A266","v":"ORT006"},0,null,null,null,null,null,null,null,null,{"$f":"IFERROR(VLOOKUP(P267,'FY25-FY26 Scales'!A:J,10,FALSE),G267)","v":0},{"$f":"IFERROR(VLOOKUP(P267,'FY25-FY26 Scales'!A:K,11,FALSE),ROUND(G267*VLOOKUP(B267*1,'APU Scale'!A:B,2,FALSE)-G267,-2))","v":0},{"$f":"ROUND(H267*VLOOKUP(B267*1,'APU Scale'!A:B,2,FALSE),-2)","v":0},0,0,"0"]
["ORT006",0,null,null,null,null,null,null,null,null,{"$f":"IFERROR(VLOOKUP(P268,'FY25-FY26 Scales'!A:J,10,FALSE),G268)","v":0},{"$f":"IFERROR(VLOOKUP(P268,'FY25-FY26 Scales'!A:K,11,FALSE),ROUND(G268*VLOOKUP(B268*1,'APU Scale'!A:B,2,FALSE)-G268,-2))","v":0},{"$f":"ROUND(H268*VLOOKUP(B268*1,'APU Scale'!A:B,2,FALSE),-2)","v":0},0,0,"0"]
["ORT006",0,null,null,null,null,null,null,null,null,{"$f":"IFERROR(VLOOKUP(P269,'FY25-FY26 Scales'!A:J,10,FALSE),G269)","v":0},{"$f":"IFERROR(VLOOKUP(P269,'FY25-FY26 Scales'!A:K,11,FALSE),ROUND(G269*VLOOKUP(B269*1,'APU Scale'!A:B,2,FALSE)-G269,-2))","v":0},{"$f":"ROUND(H269*VLOOKUP(B269*1,'APU Scale'!A:B,2,FALSE),-2)","v":0},0,0,"0"]
["ORT006",0,null,null,null,null,null,null,null,null,{"$f":"IFERROR(VLOOKUP(P270,'FY25-FY26 Scales'!A:J,10,FALSE),G270)","v":0},{"$f":"IFERROR(VLOOKUP(P270,'FY25-FY26 Scales'!A:K,11,FALSE),ROUND(G270*VLOOKUP(B270*1,'APU Scale'!A:B,2,FALSE)-G270,-2))","v":0},{"$f":"ROUND(H270*VLOOKUP(B270*1,'APU Scale'!A:B,2,FALSE),-2)","v":0},0,0,"0"]
["ORT006",0,null,null,null,null,null,null,null,null,{"$f":"IFERROR(VLOOKUP(P271,'FY25-FY26 Scales'!A:J,10,FALSE),G271)","v":0},{"$f":"IFERROR(VLOOKUP(P271,'FY25-FY26 Scales'!A:K,11,FALSE),ROUND(G271*VLOOKUP(B271*1,'APU Scale'!A:B,2,FALSE)-G271,-2))","v":0},{"$f":"ROUND(H271*VLOOKUP(B271*1,'APU Scale'!A:B,2,FALSE),-2)","v":0},0,0,"0"]
["ORT006",0,null,null,null,null,null,null,null,null,{"$f":"IFERROR(VLOOKUP(P272,'FY25-FY26 Scales'!A:J,10,FALSE),G272)","v":0},{"$f":"IFERROR(VLOOKUP(P272,'FY25-FY26 Scales'!A:K,11,FALSE),ROUND(G272*VLOOKUP(B272*1,'APU Scale'!A:B,2,FALSE)-G272,-2))","v":0},{"$f":"ROUND(H272*VLOOKUP(B272*1,'APU Scale'!A:B,2,FALSE),-2)","v":0},0,0,"0"]
["ORT006",0,null,null,null,null,null,null,null,null,{"$f":"IFERROR(VLOOKUP(P273,'FY25-FY26 Scales'!A:J,10,FALSE),G273)","v":0},{"$f":"IFERROR(VLOOKUP(P273,'FY25-FY26 Scales'!A:K,11,FALSE),ROUND(G273*VLOOKUP(B273*1,'APU Scale'!A:B,2,FALSE)-G273,-2))","v":0},{"$f":"ROUND(H273*VLOOKUP(B273*1,'APU Scale'!A:B,2,FALSE),-2)","v":0},0,0,"0"]
["ORT006",0,null,null,null,null,null,null,null,null,{"$f":"IFERROR(VLOOKUP(P274,'FY25-FY26 Scales'!A:J,10,FALSE),G274)","v":0},{"$f":"IFERROR(VLOOKUP(P274,'FY25-FY26 Scales'!A:K,11,FALSE),ROUND(G274*VLOOKUP(B274*1,'APU Scale'!A:B,2,FALSE)-G274,-2))","v":0},{"$f":"ROUND(H274*VLOOKUP(B274*1,'APU Scale'!A:B,2,FALSE),-2)","v":0},0,0,"0"]
["ORT006",0,null,null,null,null,null,null,null,null,{"$f":"IFERROR(VLOOKUP(P275,'FY25-FY26 Scales'!A:J,10,FALSE),G275)","v":0},{"$f":"IFERROR(VLOOKUP(P275,'FY25-FY26 Scales'!A:K,11,FALSE),ROUND(G275*VLOOKUP(B275*1,'APU Scale'!A:B,2,FALSE)-G275,-2))","v":0},{"$f":"ROUND(H275*VLOOKUP(B275*1,'APU Scale'!A:B,2,FALSE),-2)","v":0},0,0,"0"]
["ORT006",0,null,null,null,null,null,null,null,null,{"$f":"IFERROR(VLOOKUP(P276,'FY25-FY26 Scales'!A:J,10,FALSE),G276)","v":0},{"$f":"IFERROR(VLOOKUP(P276,'FY25-FY26 Scales'!A:K,11,FALSE),ROUND(G276*VLOOKUP(B276*1,'APU Scale'!A:B,2,FALSE)-G276,-2))","v":0},{"$f":"ROUND(H276*VLOOKUP(B276*1,'APU Scale'!A:B,2,FALSE),-2)","v":0},0,0,"0"]
["ORT006",0,null,null,null,null,null,null,null,null,{"$f":"IFERROR(VLOOKUP(P277,'FY25-FY26 Scales'!A:J,10,FALSE),G277)","v":0},{"$f":"IFERROR(VLOOKUP(P277,'FY25-FY26 Scales'!A:K,11,FALSE),ROUND(G277*VLOOKUP(B277*1,'APU Scale'!A:B,2,FALSE)-G277,-2))","v":0},{"$f":"ROUND(H277*VLOOKUP(B277*1,'APU Scale'!A:B,2,FALSE),-2)","v":0},0,0,"0"]
["ORT006",0,null,null,null,null,null,null,null,null,{"$f":"IFERROR(VLOOKUP(P278,'FY25-FY26 Scales'!A:J,10,FALSE),G278)","v":0},{"$f":"IFERROR(VLOOKUP(P278,'FY25-FY26 Scales'!A:K,11,FALSE),ROUND(G278*VLOOKUP(B278*1,'APU Scale'!A:B,2,FALSE)-G278,-2))","v":0},{"$f":"ROUND(H278*VLOOKUP(B278*1,'APU Scale'!A:B,2,FALSE),-2)","v":0},0,0,"0"]
["ORT006",0,null,null,null,null,null,null,null,null,{"$f":"IFERROR(VLOOKUP(P279,'FY25-FY26 Scales'!A:J,10,FALSE),G279)","v":0},{"$f":"IFERROR(VLOOKUP(P279,'FY25-FY26 Scales'!A:K,11,FALSE),ROUND(G279*VLOOKUP(B279*1,'APU Scale'!A:B,2,FALSE)-G279,-2))","v":0},{"$f":"ROUND(H279*VLOOKUP(B279*1,'APU Scale'!A:B,2,FALSE),-2)","v":0},0,0,"0"]
["ORT006",0,null,null,null,null,null,null,null,null,{"$f":"IFERROR(VLOOKUP(P280,'FY25-FY26 Scales'!A:J,10,FALSE),G280)","v":0},{"$f":"IFERROR(VLOOKUP(P280,'FY25-FY26 Scales'!A:K,11,FALSE),ROUND(G280*VLOOKUP(B280*1,'APU Scale'!A:B,2,FALSE)-G280,-2))","v":0},{"$f":"ROUND(H280*VLOOKUP(B280*1,'APU Scale'!A:B,2,FALSE),-2)","v":0},0,0,"0"]
["ORT006",0,null,null,null,null,null,null,null,null,{"$f":"IFERROR(VLOOKUP(P281,'FY25-FY26 Scales'!A:J,10,FALSE),G281)","v":0},{"$f":"IFERROR(VLOOKUP(P281,'FY25-FY26 Scales'!A:K,11,FALSE),ROUND(G281*VLOOKUP(B281*1,'APU Scale'!A:B,2,FALSE)-G281,-2))","v":0},{"$f":"ROUND(H281*VLOOKUP(B281*1,'APU Scale'!A:B,2,FALSE),-2)","v":0},0,0,"0"]
["ORT006",0,null,null,null,null,null,null,null,null,{"$f":"IFERROR(VLOOKUP(P282,'FY25-FY26 Scales'!A:J,10,FALSE),G282)","v":0},{"$f":"IFERROR(VLOOKUP(P282,'FY25-FY26 Scales'!A:K,11,FALSE),ROUND(G282*VLOOKUP(B282*1,'APU Scale'!A:B,2,FALSE)-G282,-2))","v":0},{"$f":"ROUND(H282*VLOOKUP(B282*1,'APU Scale'!A:B,2,FALSE),-2)","v":0},0,0,"0"]
[{"$f":"A282","v":"ORT006"},0,null,null,null,null,null,null,null,null,{"$f":"IFERROR(VLOOKUP(P283,'FY25-FY26 Scales'!A:J,10,FALSE),G283)","v":0},{"$f":"IFERROR(VLOOKUP(P283,'FY25-FY26 Scales'!A:K,11,FALSE),ROUND(G283*VLOOKUP(B283*1,'APU Scale'!A:B,2,FALSE)-G283,-2))","v":0},{"$f":"ROUND(H283*VLOOKUP(B283*1,'APU Scale'!A:B,2,FALSE),-2)","v":0},0,0,"0"]
["ORT006",0,null,null,null,null,null,null,null,null,{"$f":"IFERROR(VLOOKUP(P284,'FY25-FY26 Scales'!A:J,10,FALSE),G284)","v":0},{"$f":"IFERROR(VLOOKUP(P284,'FY25-FY26 Scales'!A:K,11,FALSE),ROUND(G284*VLOOKUP(B284*1,'APU Scale'!A:B,2,FALSE)-G284,-2))","v":0},{"$f":"ROUND(H284*VLOOKUP(B284*1,'APU Scale'!A:B,2,FALSE),-2)","v":0},0,0,"0"]
["ORT006",0,null,null,null,null,null,null,null,null,{"$f":"IFERROR(VLOOKUP(P285,'FY25-FY26 Scales'!A:J,10,FALSE),G285)","v":0},{"$f":"IFERROR(VLOOKUP(P285,'FY25-FY26 Scales'!A:K,11,FALSE),ROUND(G285*VLOOKUP(B285*1,'APU Scale'!A:B,2,FALSE)-G285,-2))","v":0},{"$f":"ROUND(H285*VLOOKUP(B285*1,'APU Scale'!A:B,2,FALSE),-2)","v":0},0,0,"0"]
["ORT006",0,null,null,null,null,null,null,null,null,{"$f":"IFERROR(VLOOKUP(P286,'FY25-FY26 Scales'!A:J,10,FALSE),G286)","v":0},{"$f":"IFERROR(VLOOKUP(P286,'FY25-FY26 Scales'!A:K,11,FALSE),ROUND(G286*VLOOKUP(B286*1,'APU Scale'!A:B,2,FALSE)-G286,-2))","v":0},{"$f":"ROUND(H286*VLOOKUP(B286*1,'APU Scale'!A:B,2,FALSE),-2)","v":0},0,0,"0"]
["ORT006",0,null,null,null,null,null,null,null,null,{"$f":"IFERROR(VLOOKUP(P287,'FY25-FY26 Scales'!A:J,10,FALSE),G287)","v":0},{"$f":"IFERROR(VLOOKUP(P287,'FY25-FY26 Scales'!A:K,11,FALSE),ROUND(G287*VLOOKUP(B287*1,'APU Scale'!A:B,2,FALSE)-G287,-2))","v":0},{"$f":"ROUND(H287*VLOOKUP(B287*1,'APU Scale'!A:B,2,FALSE),-2)","v":0},0,0,"0"]
["ORT006",0,null,null,null,null,null,null,null,null,{"$f":"IFERROR(VLOOKUP(P288,'FY25-FY26 Scales'!A:J,10,FALSE),G288)","v":0},{"$f":"IFERROR(VLOOKUP(P288,'FY25-FY26 Scales'!A:K,11,FALSE),ROUND(G288*VLOOKUP(B288*1,'APU Scale'!A:B,2,FALSE)-G288,-2))","v":0},{"$f":"ROUND(H288*VLOOKUP(B288*1,'APU Scale'!A:B,2,FALSE),-2)","v":0},0,0,"0"]
["ORT006",0,null,null,null,null,null,null,null,null,{"$f":"IFERROR(VLOOKUP(P289,'FY25-FY26 Scales'!A:J,10,FALSE),G289)","v":0},{"$f":"IFERROR(VLOOKUP(P289,'FY25-FY26 Scales'!A:K,11,FALSE),ROUND(G289*VLOOKUP(B289*1,'APU Scale'!A:B,2,FALSE)-G289,-2))","v":0},{"$f":"ROUND(H289*VLOOKUP(B289*1,'APU Scale'!A:B,2,FALSE),-2)","v":0},0,0,"0"]
["ORT006",0,null,null,null,null,null,null,null,null,{"$f":"IFERROR(VLOOKUP(P290,'FY25-FY26 Scales'!A:J,10,FALSE),G290)","v":0},{"$f":"IFERROR(VLOOKUP(P290,'FY25-FY26 Scales'!A:K,11,FALSE),ROUND(G290*VLOOKUP(B290*1,'APU Scale'!A:B,2,FALSE)-G290,-2))","v":0},{"$f":"ROUND(H290*VLOOKUP(B290*1,'APU Scale'!A:B,2,FALSE),-2)","v":0},0,0,"0"]
["ORT006",0,null,null,null,null,null,null,null,null,{"$f":"IFERROR(VLOOKUP(P291,'FY25-FY26 Scales'!A:J,10,FALSE),G291)","v":0},{"$f":"IFERROR(VLOOKUP(P291,'FY25-FY26 Scales'!A:K,11,FALSE),ROUND(G291*VLOOKUP(B291*1,'APU Scale'!A:B,2,FALSE)-G291,-2))","v":0},{"$f":"ROUND(H291*VLOOKUP(B291*1,'APU Scale'!A:B,2,FALSE),-2)","v":0},0,0,"0"]
["ORT006",0,null,null,null,null,null,null,null,null,{"$f":"IFERROR(VLOOKUP(P292,'FY25-FY26 Scales'!A:J,10,FALSE),G292)","v":0},{"$f":"IFERROR(VLOOKUP(P292,'FY25-FY26 Scales'!A:K,11,FALSE),ROUND(G292*VLOOKUP(B292*1,'APU Scale'!A:B,2,FALSE)-G292,-2))","v":0},{"$f":"ROUND(H292*VLOOKUP(B292*1,'APU Scale'!A:B,2,FALSE),-2)","v":0},0,0,"0"]
["ORT006",0,null,null,null,null,null,null,null,null,{"$f":"IFERROR(VLOOKUP(P293,'FY25-FY26 Scales'!A:J,10,FALSE),G293)","v":0},{"$f":"IFERROR(VLOOKUP(P293,'FY25-FY26 Scales'!A:K,11,FALSE),ROUND(G293*VLOOKUP(B293*1,'APU Scale'!A:B,2,FALSE)-G293,-2))","v":0},{"$f":"ROUND(H293*VLOOKUP(B293*1,'APU Scale'!A:B,2,FALSE),-2)","v":0},0,0,"0"]
["ORT006",0,null,null,null,null,null,null,null,null,{"$f":"IFERROR(VLOOKUP(P294,'FY25-FY26 Scales'!A:J,10,FALSE),G294)","v":0},{"$f":"IFERROR(VLOOKUP(P294,'FY25-FY26 Scales'!A:K,11,FALSE),ROUND(G294*VLOOKUP(B294*1,'APU Scale'!A:B,2,FALSE)-G294,-2))","v":0},{"$f":"ROUND(H294*VLOOKUP(B294*1,'APU Scale'!A:B,2,FALSE),-2)","v":0},0,0,"0"]
["ORT006",0,null,null,null,null,null,null,null,null,{"$f":"IFERROR(VLOOKUP(P295,'FY25-FY26 Scales'!A:J,10,FALSE),G295)","v":0},{"$f":"IFERROR(VLOOKUP(P295,'FY25-FY26 Scales'!A:K,11,FALSE),ROUND(G295*VLOOKUP(B295*1,'APU Scale'!A:B,2,FALSE)-G295,-2))","v":0},{"$f":"ROUND(H295*VLOOKUP(B295*1,'APU Scale'!A:B,2,FALSE),-2)","v":0},0,0,"0"]
["ORT006",0,null,null,null,null,null,null,null,null,{"$f":"IFERROR(VLOOKUP(P296,'FY25-FY26 Scales'!A:J,10,FALSE),G296)","v":0},{"$f":"IFERROR(VLOOKUP(P296,'FY25-FY26 Scales'!A:K,11,FALSE),ROUND(G296*VLOOKUP(B296*1,'APU Scale'!A:B,2,FALSE)-G296,-2))","v":0},{"$f":"ROUND(H296*VLOOKUP(B296*1,'APU Scale'!A:B,2,FALSE),-2)","v":0},0,0,"0"]
["ORT006",0,null,null,null,null,null,null,null,null,{"$f":"IFERROR(VLOOKUP(P297,'FY25-FY26 Scales'!A:J,10,FALSE),G297)","v":0},{"$f":"IFERROR(VLOOKUP(P297,'FY25-FY26 Scales'!A:K,11,FALSE),ROUND(G297*VLOOKUP(B297*1,'APU Scale'!A:B,2,FALSE)-G297,-2))","v":0},{"$f":"ROUND(H297*VLOOKUP(B297*1,'APU Scale'!A:B,2,FALSE),-2)","v":0},0,0,"0"]
["ORT006",0,null,null,null,null,null,null,null,null,{"$f":"IFERROR(VLOOKUP(P298,'FY25-FY26 Scales'!A:J,10,FALSE),G298)","v":0},{"$f":"IFERROR(VLOOKUP(P298,'FY25-FY26 Scales'!A:K,11,FALSE),ROUND(G298*VLOOKUP(B298*1,'APU Scale'!A:B,2,FALSE)-G298,-2))","v":0},{"$f":"ROUND(H298*VLOOKUP(B298*1,'APU Scale'!A:B,2,FALSE),-2)","v":0},0,0,"0"]
[{"$f":"A298","v":"ORT006"},0,null,null,null,null,null,null,null,null,{"$f":"IFERROR(VLOOKUP(P299,'FY25-FY26 Scales'!A:J,10,FALSE),G299)","v":0},{"$f":"IFERROR(VLOOKUP(P299,'FY25-FY26 Scales'!A:K,11,FALSE),ROUND(G299*VLOOKUP(B299*1,'APU Scale'!A:B,2,FALSE)-G299,-2))","v":0},{"$f":"ROUND(H299*VLOOKUP(B299*1,'APU Scale'!A:B,2,FALSE),-2)","v":0},0,0,"0"]
["ORT006",0,null,null,null,null,null,null,null,null,{"$f":"IFERROR(VLOOKUP(P300,'FY25-FY26 Scales'!A:J,10,FALSE),G300)","v":0},{"$f":"IFERROR(VLOOKUP(P300,'FY25-FY26 Scales'!A:K,11,FALSE),ROUND(G300*VLOOKUP(B300*1,'APU Scale'!A:B,2,FALSE)-G300,-2))","v":0},{"$f":"ROUND(H300*VLOOKUP(B300*1,'APU Scale'!A:B,2,FALSE),-2)","v":0},0,0,"0"]

{"sheet":"APU Master","index":3,"n_rows":92,"n_cols":22,"rows_kept":92,"cut":false,"hidden":true,"merged":[[2,5,2,9],[2,10,2,16],[2,17,2,21]]}
["Updated 4/24/2026"]
["APU Master List"]
[null,null,null,null,null,"EFFECTIVE UP UNTIL 7/1/23",null,null,null,null,"CHANGES EFFECTIVE 7/1/24",null,null,null,null,null,null,"EFFECTIVE UP UNTIL 7/1/24"]
["Department/School","APU Code","Scale","APU Name","APU Definition","APU profile form - last approved","Effective ","Memo (Y/N)","APU profile form (Y/N)","ARC case # (PRIOR TO 7/1/24)","ARC case #","Change Requested (brief description)","Memo - provided (Y/N)","APU profile form signed (Y/N - if N, who is pending)","Dean/VC approval (Y/N)","Date","Note","APU profile form - last approved - 2024","Effective - as of 2024","Memo (Y/N) - as of 2024","APU profile form (Y/N) - as of 2024","ARC case # - as of 2024"]
["Anesthesiology","ANE001",5,"Anesthesiology Clinical Faculty","All clinical faculty members in department.","2022-01-14","2021-07-01","N","Y","ARC0308941",null,null,null,null,null,null,null,"2022-01-14","2021-07-01","N","Y","ARC0308941"]
["Cellular & Molecular Medicine","CMM001",4,"Cellular & Molecular Medicine","Faculty with primary appointment in the Department of Cellular and Molecular Medicine.","N","N","N","N","N","ARC0372779","no change - replacing expired","N/A","Y","Y","2024-04-26","Approved","2024-04-26","2024-07-01","N/A","Y","ARC0372779"]
["Dermatology ","MED043",3,"Dermatology Clinical Faculty","Clinically active faculty members in the Division of Dermatology.","N","N","N","N","N",null,null,null,null,null,null,null,"N","N","N","N","N"]
["Dermatology ","PEDDER",7,"Dermatology  ","Pediatric Derm faculty hired under the Department of Pediatrics before the establishment of the Department of Dermatology in 2015.  Peds Derm faculty hired post department establishment are at APU 3 to align with Adult Derm faculty.","N","N","N","N","N","ARC0372708","no change - replacing expired","N/A","N","N","2024-06-12","pending dept.","N","N","N","N","N"]
["Emergency Medicine","EMS001",7,"DEM Faculty Leadership (EMS)","All faculty board certified in Emergency Medicine with active clinical, teaching, and scholarly profiles and have current major administrative and academic leadership positions or responsibilities, and must be long term positions within the department (e.g., Chair, Vice Chair, etc.).","N","N","N","N","N","ARC0372721","changed description (All faculty board certified in Emergency Medicine with active clinical, teaching, and scholarly profiles and have current major administrative and academic leadership positions or responsibilities, and must be long term positions within the department (e.g., Chair, Vice Chair, etc.)","Y","Y","Y","2024-06-11","Approved","2024-06-11","2024-07-01","Y","Y","ARC0372721"]
["Emergency Medicine","EMS002",6,"DEM Faculty (EMS)","Full-time EMS faculty carrying full clinical responsibility along with teaching and scholarly productivity requirements.","N","N","N","N","N","ARC0372721","changed description (Full-time EMS faculty carrying full clinical responsibility along with teaching and scholarly productivity requirements.)","Y","Y","Y","2024-06-12","Approved","2024-06-12","2024-07-01","Y","Y","ARC0372721"]
["Family Medicine","FPM001",5,"Family Medicine Physician and Leadership Faculty","All department faculty with medical doctoral degree (e.g. MD, DO) and/or Vice Chairs and Division Chiefs with or without medical doctoral degree (e.g. MD, DO, PhD, PsyD).","2022-04-07","2022-07-01","Y","Y","ARC0326004","ARC0372714","change name + definition (All department faculty with medical doctoral degree (e.g. MD, DO) and/or current Vice Chairs and Division Chiefs with or without medical doctoral degree (e.g. MD, DO, PhD, PsyD.) - affecting Drs. Sieber and Tai-Seale (FPM002 to FPM001)","Y","Y","Y","2024-06-11","Approved","2024-06-11","2024-07-01","Y","Y","ARC0372714"]
["Family Medicine","FPM002",3,"Family Medicine Non-Physician Faculty","All department faculty with non-medical doctoral degrees (e.g. PhD, PsyD).","2022-04-07","2022-07-01","Y","Y","ARC0326005","ARC0372714","change name + definition + has less than 5 members so require VC exceptional approval","Y","Y","Y","2024-06-11","Approved","2024-06-11","2024-07-01","Y","Y","ARC0372714"]
["Family Medicine","FPM003",5,"Family Medicine PACE Faculty","All department faculty who are PACE (Physician Assessment Clinical Ed) Program faculty directors.","2022-04-07","2022-07-01","Y","Y","ARC0326006","ARC0372714","change name + definition ","Y","Y","Y","2024-06-11","Approved","2024-06-11","2024-07-01","Y","Y","ARC0372714"]
["Medicine","MED031",3,"Genomics & Precision Medicine Faculty","Clinically active and Research faculty members in the Division of Genomics & Precision Medicine.","2023-05-12","2023-07-01","N","Y","N","ARC0370194","changed APU name + description to reflect new division name (Genomics & Precision Medicine Faculty - Clinically active and Research faculty members in the Division of Genomics & Precision Medicine.)","Y","Y","Y","2024-04-22","Approved","2024-04-22","2024-07-01","Y","Y","ARC0370194"]
["Medicine","MED041",3,"Bone Marrow Transplantation Faculty","Clinically active faculty members in the Division of Bone Marrow Transplant.","2023-05-12","2023-07-01","Y","Y","N","ARC0372870","various Faculty changing APU","N","N","N","2024-04-22","pending dept.","2023-05-12","2023-07-01","Y","Y","N"]
["Medicine","MED042",3,"Cardiovascular Medicine Clinical & Research Faculty","Clinically active and Research faculty members in the Division of Cardiovascular Medicine.","2023-05-12","2023-07-01","Y","Y","N","ARC0372870","various Faculty changing APU","N","N","N","2024-04-22","pending dept.","2023-05-12","2023-07-01","Y","Y","N"]
["Medicine","MED044",3,"Endocrinology/Metabolism Clinical & Research Faculty","Clinically active and Research faculty members in the Division of Endocrinology/Metabolism.","2023-05-12","2023-07-01","Y","Y","N","ARC0372870","various Faculty changing APU","N","N","N","2024-04-22","pending dept.","2023-05-12","2023-07-01","Y","Y","N"]
["Medicine","MED045",3,"Gastroenterology/Hepatology Clinical & Research Faculty","Clinically  active and Research faculty members in the Division of Gastroenterology/Hepatology.","2023-05-12","2023-07-01","Y","Y","ARC0351533","ARC0372870","various Faculty changing APU","N","N","N","2024-04-22","pending dept.","2023-05-12","2023-07-01","Y","Y","ARC0351533"]
["Medicine","MED046",3,"General Internal Medicine Clinical & Research Faculty","Clinically active and Research faculty members in the Division of General Internal Medicine.","2023-05-12","2023-07-01","Y","Y","N","ARC0372870","various Faculty changing APU","N","N","N","2024-04-22","pending dept.","2023-05-12","2023-07-01","Y","Y","N"]
["Medicine","MED048",3,"Hematology/Oncology Clinical & Research Faculty","Clinically active and Research faculty members in the Division of Hematology/Oncology.","2023-05-12","2023-07-01","Y","Y","N","ARC0372870","various Faculty changing APU","N","N","N","2024-04-22","pending dept.","2023-05-12","2023-07-01","Y","Y","N"]
["Medicine","MED049",3,"Hospital Medicine Clinical Faculty","Clinically active faculty members in the Division of Hospital Medicine.","2023-05-12","2023-07-01","Y","Y","N","ARC0372870","various Faculty changing APU","N","N","N","2024-04-22","pending dept.","2023-05-12","2023-07-01","Y","Y","N"]
["Medicine","MED050",3,"Infectious Diseases Clinical & Research Faculty","Clinically active and Research faculty members in the Division of Infectious Diseases.","2023-05-12","2023-07-01","Y","Y","N","ARC0372870","various Faculty changing APU","N","N","N","2024-04-22","pending dept.","2023-05-12","2023-07-01","Y","Y","N"]
["Medicine","MED051",3,"Nephrology Clinical & Research Faculty","Clinically active and Research faculty members in the Division of Nephrology.","2023-05-12","2023-07-01","Y","Y","N","ARC0372870","various Faculty changing APU","N","N","N","2024-04-22","pending dept.","2023-05-12","2023-07-01","Y","Y","N"]
["Medicine","MED053",3,"Pulmonary Clinical & Research Faculty","Clinically active and Research faculty members in the Division of Pulmonary.","2023-05-12","2023-07-01","Y","Y","N","ARC0372870","various Faculty changing APU","N","N","N","2024-04-22","pending dept.","2023-05-12","2023-07-01","Y","Y","N"]
["Medicine","MED054",3,"Rheumatology, Autoimmunity and Inflammation and Allergy and Immunology Faculty","Clinically active and Research faculty members in the Division of Rheumatology, Autoimmunity and Inflammation and the Division of Allergy and Immunology.","2023-05-12","2023-07-01","N","Y","N","ARC0370194","changed APU name + description to reflect new division name (Rheumatology, Autoimmunity and Inflammation and Allergy and Immunology Faculty - Clinically active and Research faculty members in the Division of Rheumatology, Autoimmunity and Inflammation and the Division of Allergy and Immunology.)","Y","Y","Y","2024-04-22","Approved","2024-04-22","2024-07-01","Y","Y","ARC0370194"]
["Medicine","MED055",3,"Owens Clinical & Research Faculty","Clinically active and Research faculty members in the Division Owens Clinic.","2023-05-12","2023-07-01","Y","Y","N","ARC0372870","various Faculty changing APU","N","N","N","2024-04-22","pending dept.","2023-05-12","2023-07-01","Y","Y","N"]
["Medicine","MED056",7,"Endocrinology/Metabolism APU7","Board Certified Endocrinologists with Academic Senate membership in FTE or IR series who are eligible for 100% UCRP participation.","2023-05-12","2023-07-01","N","Y","N","ARC0372870","various Faculty changing APU","N","N","N","2024-04-22","pending dept.","2023-05-12","2023-07-01","N","Y","N"]
["Medicine","MED074",3,"Geriatrics, Gerontology and Palliative Care Faculty","Clinically active and Research faculty members in the Division of Geriatrics, Gerontology and Palliative Care.","2023-05-12","2023-07-01","Y","Y","N","ARC0370194","changed APU name + description to reflect new division name (Geriatrics, Gerontology and Palliative Care Faculty - Clinically active and Research faculty members in the Division of Geriatrics, Gerontology and Palliative Care.)","Y","Y","Y","2024-04-22","Approved","2024-04-22","2024-07-01","Y","Y","ARC0370194"]
["Medicine","MED076",5,"Department's Division Chief Faculty (present and former)","DOM faculty members assigned as Division Chiefs as well as Department leadership positions\nas assigned by the Chair Person. Effective FY24 membership in this APU is assigned for the\nduration of the leadership term.","2023-05-12","2023-07-01","Y","Y","N","ARC0372870","various Faculty changing APU","N","N","N","2024-04-22","pending dept.","2023-05-12","2023-07-01","Y","Y","N"]
["Medicine","MED077",3,"Global Public Health Faculty","Clinically active and Research faculty members in the Division of Global Public Health.","2023-05-12","2023-07-01","Y","Y","N","ARC0372870","various Faculty changing APU","N","N","N","2024-04-22","pending dept.","2023-05-12","2023-07-01","Y","Y","N"]
["Medicine","MED078",3,"Biomedical Informatics Clinical & Research Faculty","Clinically active and Research faculty members in the Division of Biomedical Informatics.","2023-10-27","2023-07-01","Y","Y","ARC0362356","ARC0372870","various Faculty changing APU","N","N","N","2024-04-22","pending dept.","2023-10-27","2023-07-01","Y","Y","ARC0362356"]
["Medicine","MED079",3,"Regenerative Medicine Clinical & Research Faculty","Clinically active and Research faculty members in the Division of Regenerative Medicine.","2023-05-12","2023-07-01","N","Y","N","ARC0372870","various Faculty changing APU","N","N","N","2024-04-22","pending dept.","2023-05-12","2023-07-01","N","Y","N"]
["Medicine","MED100",0,"DOM Non-Clinical APU0","PhD, non-licensed MD and/or PhD/MD faculty members in the DOM who are research oriented and without clinical duties. Similar research would include faculty members who investigate the patho-physiological and molecular basis of diseases.","2023-05-12","2023-07-01","Y","Y","N","ARC0372870","various Faculty changing APU","N","N","N","2024-04-22","pending dept.","2023-05-12","2023-07-01","Y","Y","N"]
["Neurological Surgery","NSG001",9,"Neurological Surgery Clinical Faculty","Clinically active faculty members in the Department of Neurological Surgery","N","2023-07-01","N","Y","N","ARC0372717","no change - missing/expired","N/A","Y","Y","2024-04-29","Approved","2024-04-29","2024-07-01","N/A","Y","ARC0372717"]
["Neurosciences","NEU001",1,"Neurosciences Basic Scientists","Ph.D.s in the Department of Neurosciences","2023-05-12","2023-07-01","N","Y","ARC0347363",null,null,null,null,null,null,null,"2023-05-12","2023-07-01","N","Y","ARC0347363"]
["Neurosciences","NEU003",3,"Neurosciences Clinicians","M.D.s in the Department of Neurosciences","2023-05-12","2023-07-01","Y","Y","ARC0347364","ARC0372747","moving Dr. Bui from SOMVA1 to NEU003","Y","Y","Y","2024-05-02","Approved","2024-05-02","2024-07-01","Y","Y","ARC0372747"]
["Neurosciences","NEUCHR",6,"Neurosciences Chairs/Vice Chairs/ORU Directors","Chair, Vice Chair/Directors of ORUs or other major, large-scale projects in the Dept of Neurosciences.","2023-05-12","2023-07-01","Y","Y","ARC0347365",null,null,null,null,null,null,null,"2023-05-12","2023-07-01","Y","Y","ARC0347365"]
["OBGYN & Reproductive Sciences","RPR001",7,"Reproductive Medicine Clinical Faculty","Clinical faculty.","N","N","N","N","N","ARC0372715","no change - missing/expired","N/A","Y","Y","2024-05-03","Approved","2024-05-03","2024-07-01","N/A","Y","ARC0372715"]
["OBGYN & Reproductive Sciences","RPR003",3,"Reproductive Medicine Other PhD Faculty","Reproductive Medicine Other PhD Faculty","N","N","N","N","N","ARC0372715","no change - missing/expired","N/A","Y","Y","2024-05-03","Approved","2024-05-03","2024-07-02","N/A","Y","ARC0372715"]
["OBGYN & Reproductive Sciences","RPR004",6,"Center Grant Directors, Co-Directors, Core Directors","All research Ph.D. faculty who are Directors, Co-Directors &/or Core Directors of a Center Grant.","N","N","N","N","N","ARC0372715","no change - missing/expired","N/A","Y","Y","2024-05-03","Approved","2024-05-03","2024-07-03","N/A","Y","ARC0372715"]
["Ophthalmology","OPH001",9,"Ophthalmology Surgical Clinical Faculty","Ophthalmology Surgical Clinical Faculty","2021-08-12","2021-07-01","N","Y","N",null,null,null,null,null,null,null,"2021-08-12","2021-07-01","N","Y","N"]
["Ophthalmology","OPHGCP",2,"Ophthalmology Ph.D. Faculty","Academics spending 80% or more time on research & academics with a valid 2113 allowing for patient care activities in addition to their research.","2021-08-12","2021-07-01","N","Y","N",null,null,null,null,null,null,null,"2021-08-12","2021-07-01","N","Y","N"]
["Orthopaedic Surgery","ORT001",6,"Orthopaedics Clinical Faculty","UCSD Orthopaedic Surgery faculty whose primary function is adult clinical care surgeons. ","2024-04-10","2024-07-01","Y","Y",null,"ARC0363910","changed description (UCSD Orthopaedic Surgery faculty whose primary function is adult clinical care surgeons. )","Y","Y","Y","2024-04-10","Approved","2024-04-10","2024-07-01","Y","Y","ARC0363910"]
["Orthopaedic Surgery","ORT002",3,"Ortho Surgery Research Faculty","Ph.D. and M.D. faculty whose primary function is research","2021-08-12","2021-07-01","Y","Y","N",null,null,null,null,null,null,null,"2021-08-12","2021-07-01","Y","Y","N"]
["Orthopaedic Surgery","ORT004",6,"Ortho Surg Fac w/Vice Chair/Residency Directorship","Orthopaedic Surgery faculty holding title of Vice Chair or Residency Director & involved in the administration of the various missions of the department.","2021-08-09","2021-07-01","Y","Y","N",null,null,null,null,null,null,null,"2021-08-09","2021-07-01","Y","Y","N"]
["Orthopaedic Surgery","ORT005","8","Ortho Surg Children's Faculty","Orthopaedic Surgery faculty whose primary function is as pediatric surgeons with the majority (51% or more) of their time at Rady Children’s Hospital, associated clinics, and research labs.","N","N","N","N","N","ARC0363910","changed scale from 9 - 6 (starting FY25 at 8, etc.) + definition (Orthopaedic Surgery faculty whose primary function is as pediatric surgeons with the majority (51% or more) of their time at Rady Children’s Hospital, associated clinics, and research labs.)","Y","Y","Y","2024-06-11","Approved","2024-06-11","2024-07-01","Y","Y","ARC0363910"]
["Orthopaedic Surgery","ORT006",3,"Orthopaedic Surgery Non-Surgical Faculty ","UCSD Orthopaedic Surgery faculty whose primary function is procedures and the non‐surgical care of patients.","N","N","N","N","N","ARC0363910","change scale from 3 to 4 & description (UCSD Orthopaedic Surgery faculty whose primary function is procedures and the non-surgical care of patients.) ","N","N","N","2024-02-09","pending Dean","N","N","N","N","N"]
["Pathology","PTH002",2,"Faculty who teach or research veterinary medicine","Faculty will teach or research veterinary medicine, focus upon clinical &/or resident & graduate student instruction into comparative pathology & medicine.","2023-05-15","2023-07-01","N","Y","N",null,null,null,null,null,null,null,"2023-05-15","2023-07-01","N","Y","N"]
["Pathology","PTH003",4,"Pathology Clinically Active Faculty","All clinically active faculty regardless of subspecialty in Pathology.","2023-05-15","2023-07-01","Y","Y","N",null,null,null,null,null,null,null,"2023-05-15","2023-07-01","Y","Y","N"]
["Pathology","PTH004",5,"Executive Leadership Committee","Specific division heads, including clinical path, anatomic path, neuropathology & Vice Chair Res. Members of APU will have MD and PhD degrees. Exe Leadership Com will focus on advising Chair on clinical, res & education issues, develop & implement policy.","2023-05-15","2023-07-01","Y","Y","N",null,null,null,null,null,null,null,"2023-05-15","2023-07-01","Y","Y","N"]
["Pathology","PTH005",3,"Department Based Ph.D. Scientists","Ph.D. scientists who are engaged in substantial teaching activities for SOM, SSOP &/or graduate studies. Must teach 50 contact hours in SOM, SOP &/or grad school program core courses each 12 months.","2023-05-15","2023-07-01","N","Y","N",null,null,null,null,null,null,null,"2023-05-15","2023-07-01","N","Y","N"]
["Pediatrics","PEDCAR",7,"Cardiology & Gastroenterology","Clinically active faculty specializing in Pediatric Cardiology, Critical Care, Gastroenterology, Hepatology, and Nutrition","2023-06-01","2023-07-01","N","Y","ARC0347405","ARC0372718","change definition (Clinically active faculty specializing in Pediatric Cardiology, Critical Care, Gastroenterology, Hepatology, and Nutrition.) + moving Coufal from PEDPED to PEDCAR","Y","Y","Y","2024-05-20","Approved","2024-05-20","2024-07-01","Y","Y","ARC0372718"]
["Pediatrics","PEDEME",5,"Emergency Medicine, Infectious Diseases, Respiratory Medicine","Clinically active faculty specializing in Pediatric Emergency Medicine, Infectious Diseases, and Respiratory Medicine\n","2023-06-01","2023-07-01","N","Y","ARC0347405",null,null,null,null,null,null,null,"2023-06-01","2023-07-01","N","Y","ARC0347405"]
["Pediatrics","PEDNEO",9,"Neonatology","Clinically active faculty specializing in Pediatric Neonatology.","2023-06-01","2023-07-01","N","Y","ARC0347405",null,null,null,null,null,null,null,"2023-06-01","2023-07-01","N","Y","ARC0347405"]
["Pediatrics","PEDPED",3,"Pediatric Subspecialties","Clinically active faculty specializing in Pediatrics Allergy, Immunology, Rheumatology, General Pediatrics, Newborn Medicine, and Developmental‐Behavioral Pediatrics, Adolescent Medicine, Child Abuse Pediatrics,\nEndocrinology, Environmental Science & Health, Genetics, Genomics, Hematology & Oncology, Hospital\nMedicine, Host‐Microbe Systems & Therapeutics, Nephrology, Palliative Care, Urgent Care.","2023-06-01","2023-07-01","N","Y","ARC0347405","ARC0372718","change the definition moving Coufal from PEDPED to PEDCAR","Y","Y","Y","2024-05-20","Approved","2024-05-20","2024-07-01","Y","Y","ARC0372718"]
["Pediatrics","PEDPHD",3,"PhD Faculty & Non-clinically Active MD Faculty","PhD and non‐clinically active MD faculty whose primary function is research","2023-06-01","2023-07-01","N","Y","ARC0347405",null,null,null,null,null,null,null,"2023-06-01","2023-07-01","N","Y","ARC0347405"]
["Pharmacology","PHR000",0,"Other Research","This APU is reserved for those investigators without an extramurally funded independent research program* or those with less than a full FTE. Faculty who qualify for a higher APU can voluntarily choose to belong to a lower APU.\n\n*An investigator without an extramurally funded independent research program is one who does not serve as Principal Investigator on one or more active research grant or contract, or direct a project/core on a PPG.","2022-05-31","2022-07-01","Y","Y","N",null,null,null,null,null,null,null,"2022-05-31","2022-07-01","Y","Y","N"]
["Pharmacology","PHR001",1,"Teaching & Research Group II","Consists of faculty who have not participated in integrated research programs that insure continuous research activity and support mechanisms or faculty having heavy administrative commitments.","2022-06-01","2022-07-02","Y","Y","N","ARC0372727","moving Sunahara from PHR003 to PHR001","Y","Y","Y","2024-05-10","Approved","2024-05-10","2024-07-01","Y","Y","ARC0372727"]
["Pharmacology","PHR003",3,"Coordinated Research & Teaching Unit","Formed by faculty group who conduct coordinated research and teaching activities.  Activities include graduate student and fellow training, weekly research discussions, participation in centers and program projects supported for extended periods.","2022-06-01","2022-07-03","Y","Y","N","ARC0372727","moving Sunahara from PHR003 to PHR001","Y","Y","Y","2024-05-10","Approved","2024-05-10","2024-07-01","Y","Y","ARC0372727"]
["Psychiatry","PST002",2,"PhD Clinical Faculty ","Non-medical doctoral degree (e.g., PhD, PsyD) with patient contact at UCSD or affiliate site.","2023-06-09","2023-07-01","Y","Y","N","ARC0372703","various Faculty changing APU","Y - inadequate","Y","N","2024-06-10","pending dept.","2023-06-09","2023-07-01","Y","Y","N"]
["Psychiatry","PST003",3,"MD or Externally Funded Faculty","1. Medical degree (e.g., MD, DO) with patient contact at UCSD or affiliate site; or \n2. Externally-funded project.","2023-06-09","2023-07-01","Y","Y","N","ARC0372703","various Faculty changing APU","Y - inadequate","Y","N","2024-06-10","pending dept.","2023-06-09","2023-07-01","Y","Y","N"]
["Psychiatry","PST004",4,"Faculty with Significant Administrative Functions","1. Significant administrative functions (e.g., Associate Vice Chair); or \n2. Training program lead role (e.g., T32 or R25).","2023-06-09","2023-07-01","Y","Y","N","ARC0372703","various Faculty changing APU","Y - inadequate","Y","N","2024-06-10","pending dept.","2023-06-09","2023-07-01","Y","Y","N"]
["Psychiatry","PST005",5,"Faculty Directing Complex Programs","1. Major administrative functions (e.g., Vice Chair, Division Chief, ORU Director), or \n2. Major training program director role (e.g., Joint Doctoral Program in Clinical Psychology, Adult Residency Training), or\n3. Major, large-scale projects.","2023-06-09","2023-07-01","Y","Y","N","ARC0372703","various Faculty changing APU","Y - inadequate","Y","N","2024-06-10","pending dept.","2023-06-09","2023-07-01","Y","Y","N"]
["Psychiatry","PST006",6,"Faculty with Major Leadership Functions","1. Major, large-scale projects plus significant/major administrative functions, or\n2. Chair or Executive Vice Chair.","2023-06-09","2023-07-01","Y",null,null,"ARC0372703","various Faculty changing APU","Y - inadequate","Y","N","2024-06-10","pending dept.","2023-06-09","2023-07-01","Y"]
["Radiation Medicine and Applied Sciences","RAO002",8,"Radiation Oncology Faculty (RAO)","Radiation Oncology Faculty","N","N","N","N","N","ARC0372726 ","no change - replacing expired","N/A","Y","Y","2024-04-26","Approved","2024-04-26","2024-07-01","N/A","Y","ARC0372726 "]
["Radiation Medicine and Applied Sciences","RAO005",5,"Radiation Oncology PhD Physicists (RAO)","Radiation Oncology Ph.D. Physicists","N","N","N","N","N","ARC0372726 ","no change - replacing expired","N/A","Y","Y","2024-04-26","Approved","2024-04-26","2024-07-01","N/A","Y","ARC0372726 "]
["Radiology","RAD001",8,"Diagnostic Division M.D. Faculty (RAD)","Diagnostic Division MDs.","N","2018-07-01","Y","Y","N","pending","no change - replacing expired","N","N","N","2024-04-25","pending dept.","N","2018-07-01","Y","Y","N"]
["Radiology","RAD003",2,"Diagnostic Division Ph.D. Faculty (RAD)","Diagnostic Division PhDs.","N","N","N","N","N","pending","no change - replacing expired","N","N","N","2024-04-25","pending dept.","N","N","N","N","N"]
["Radiology","RAD004",5,"Radiology fMRI Division Faculty","Radiology fMRI Division Faculty","N","N","N","N","N","pending","no change - replacing expired + less than 4 members","N","N","N","2024-04-25","pending dept.","N","N","N","N","N"]
["Radiology","RAD005",5,"Senior Research Imaging Faculty","Senior Research Imaging Faculty","2023-05-12","2023-07-01","N","Y","ARC0347363","pending","less than 4 members",null,null,null,null,"pending dept.","2023-05-12","2023-07-01","N","Y","ARC0347363"]
["SOM School-Wide APUs","SOM001",6,"Academic Department Chairs","Current Academic Department Chairs. Faculty actively serving in leadership roles that met the prior definition as of July 1, 2025, may continue to participate until the end of their current leadership role.","2023-10-27","7/1/2023\n\n9/1/23","Y","Y","ARC0362356",null,null,null,null,null,null,null,"2023-10-27","7/1/2023\n\n9/1/23","Y","Y","ARC0362356"]
["SOM School-Wide APUs","SOM002",7,"Surgical Chairs","Leadership in Depts that have surgical procedures.  Currently OPH, ORT, RPR, SUR.","N","N","N","N","N",null,null,null,null,null,null,null,"N","N","N","N","N"]
["SOM School-Wide APUs","SOM003",3,"Cross Department Nerve Injury APU","Investigators dedicated to the restoration of functional losses due to nerve injury with NIH, UCSD and VA Healthcare System support.","N","N","N","N","N",null,null,null,null,null,null,null,"N","N","N","N","N"]
["SOM School-Wide APUs","SOM004",0,"Physician Assistant Program APU","Faculty in the Physician Assistant program.",null,null,null,null,null,"pending","newly created SOM-wide APU for PA program","N/A","N","N",null,"pending APU profile form when we have Faculty assigned"]
["SOM School-Wide APUs","SOM005",1,"SOM Research & Teaching Faculty","SOM Faculty in clinical departments who are actively engaged in research and teaching without clinical duties (excluding PAE faculty). "]
["SOM School-Wide APUs","SOM009",9,"HS Mission Leaders APU","Thought Leaders in education, research, and clinical missions responsible for the leadership in strategy of the mssions and provide the academic counsel on mission direction, development, and implementation of programs and initiatives, and accountability for the successes and failure of the primary missions of HS.","N","N","N","N","N",null,null,null,null,null,null,null,"N","N","N","N","N"]
["SOM School-Wide APUs","SOMVA1",0,"Base UC/VA split appointment APU","Base School-wide APU for Faculty with split UC/VA appointment, or Faculty without an active independent research program, or Faculty who voluntarily choose to participate in this APU, but otherwise may be qualify for a higher APU.","2023-06-05","2023-07-01","Y","Y","N","ARC0372747","moving Dr. Bui from SOMVA1 to NEU003","Y","Y","Y","2024-05-02","Approved","2024-05-02","2024-07-01","Y","Y","ARC0372747"]
["Surgery","SUR001",7,"General & Pediatric Surgery Division Faculty (SUR)","Faculty in the Division of General Surgery who belong to MSCCP.",null,null,null,null,null,"ARC0361360","Dr. Bryan Sandler: SOMVA1 to SUR001","Y","Y","Y","2024-04-17","Approved","2024-04-17","2024-07-01","Y","Y","ARC0361360"]
["Surgery","SUR002",9,"Cardiothoracic Surgery Division Faculty (SUR)","Faculty in the Division of Cardiothoracic Surgery who belong to MSCCP.","N","N","N","N","N","ARC0372738","no change - replacing expired","N/A","N","N","2024-05-08","pending dept.","N","N","N","N","N"]
["Surgery","SUR004",7,"Otolaryngology Department Faculty","Clinically active faculty members in the Department of Otolaryngology",null,null,null,null,null,"ARC0361360","Drs. Charles Coffey and Deborah Watson: SOMVA 1 to SUR004","Y","Y","Y","2024-04-17","Approved","2024-04-17","2024-07-01","Y","Y","ARC0361360"]
["Surgery","SUR005",7,"Plastic Surgery Division Faculty (SUR)","Faculty in the Division of Plastic Surgery who belong to MSCCP.","N","N","N","N","N","ARC0372738","no change - replacing expired","N/A","N","N","2024-05-08","pending dept.","N","N","N","N","N"]
["Surgery","SUR006",8,"Trauma/Burn Division Faculty (SUR)","Faculty in the Division of Trauma/Burn who belong to MSCCP.","N","N","N","N","N","ARC0372738","no change - replacing expired","N/A","N","N","2024-05-08","pending dept.","N","N","N","N","N"]
["Surgery","SUR008",1,"Surgery PhD and non-clinically active MD Faculty","Surgery PhD faculty and MD faculty who are engaged primarily in research and teaching without a clinical practice.","2022-01-27","2022-07-01","Y","Y","ARC0314159",null,null,null,null,null,null,null,"2022-01-27","2022-07-01","Y","Y","ARC0314159"]
["Urology","SUR007",7,"Urology Division Faculty (SUR)","Faculty in the Division of Urology who belong to MSCCP.","2022-05-05","2022-07-01","Y","Y","ARC0326461","ARC0372855","no change - replacing expired","N/A","Y","Y","2024-06-03","Approved","2024-06-03","2024-07-01","N/A","Y","ARC0372855"]
["Herbert Wertheim School of Public Health and Human Longevity Science (HWSPH)","SPH000",0,"Basic Faculty APU","Faculty members in the HWSPH. L(P)SOE faculty.\n*** HWSPH faculty who qualify for a higher APU may voluntarily choose to belong to a lower APU.","2023-06-09","2023-07-01","Y","Y","ARC0347410",null,null,null,null,null,null,null,"2023-06-09","2023-07-01","Y","Y","ARC0347410"]
["Herbert Wertheim School of Public Health and Human Longevity Science (HWSPH)","SPH002",2,"Prior FMPH APU Faculty","Faculty with experience conducting public health research and/or teaching in a School of Medicine.\n*** HWSPH faculty who qualify for a higher APU may voluntarily choose to belong to a lower APU.","2023-06-09","2023-07-01","Y","Y","ARC0347410","ARC0372869","Moving Dr. Larsen from SPH002 to SPH005","Y","Y","Y","2024-06-06","Approved","2024-06-06","2024-07-01","Y","Y","ARC0372869"]
["Herbert Wertheim School of Public Health and Human Longevity Science (HWSPH)","SPH003",3,"Public Health Research and Teaching Faculty","Faculty members in the HWSPH that lead or participate in funded research and/or teach in the School's degree programs.\n*** HWSPH faculty who qualify for a higher APU may voluntarily choose to belong to a lower APU.","2023-06-09","2023-07-01","Y","Y","ARC0347410",null,null,null,null,null,null,null,"2023-06-09","2023-07-01","Y","Y","ARC0347410"]
["Herbert Wertheim School of Public Health and Human Longevity Science (HWSPH)","SPH005",5,"School Leadership","Faculty who hold, or have held, a high‐level leadership position in the HWSPH including Division Chiefs and degree program Directors, which include a significant amount of administrative service supporting the School. At the discretion of the Dean, this APU may be extended to HWSPH faculty who hold similar level leadership positions elsewhere in Health Sciences or the University.\n*** HWSPH faculty who qualify for a higher APU may voluntarily choose to belong to a lower APU.","2023-06-09","2023-07-01","Y","Y","ARC0347410","ARC0372869","Moving Dr. Pratt from SPH006 to SPH005\nMoving Dr. Larsen from SPH002 to SPH005","Y","Y","Y","2024-06-06","Approved","2024-06-06","2024-07-01","Y","Y","ARC0372869"]
["Herbert Wertheim School of Public Health and Human Longevity Science (HWSPH)","SPH006",6,"Assistant and Associate Deans, Dean","Faculty who hold, or have held, an Assistant Dean, Associate Dean, or Dean appointment in the HWSPH, which include a significant amount of administrative service supporting the School. At the discretion of the Dean, this APU may be extended to HWSPH faculty who hold senior leadership positions elsewhere in Health Sciences or the University such as Assisstant / Associate Vice Chancellor, Vice Chancellor, ORU Director.\n*** HWSPH faculty who qualify for a higher APU may voluntarily choose to belong to a lower APU.","2023-06-09","2023-07-01","Y","Y","ARC0347410","ARC0372869","Moving Dr. Pratt from SPH006 to SPH005","Y","Y","Y","2024-06-06","Approved","2024-06-06","2024-07-01","Y","Y","ARC0372869"]
["Skaggs School of Pharmacy and Pharmaceutical Sciences","SOP001",6,"Assistant and Associate Deans, Interim Department Chair, Department Chair and Dean","Must be an Assistant or Associate Dean, Interim Department Chair, Department Chair or Dean in the Skaggs School of Pharmacy and Pharmaceutical Sciences who supports the teaching, research, clinical and community service missions of the University. Activities include a large amount of administrative service supporting the School and the University. SSPPS faculty who qualify for a higher APU may voluntarily choose to belong to a lower APU","2023-05-11","2023-07-01","N","Y","N","ARC0372737 + ARC0371739 ","move Christina Mnatzaganian from SOP002 to SOP001, move Elizabeth Winzeler from PEDPED APU 3 to SOP001","Y","Y","Y","2024-06-10","Approved","2024-06-10","2024-07-01","Y","Y","ARC0372737 + ARC0371739 "]
["Skaggs School of Pharmacy and Pharmaceutical Sciences","SOP002",3,"SSPPS clinical + research + teaching","A faculty group in the Skaggs School of Pharmacy and Pharmaceutical Sciences (SSPPS) that conducts coordinated clinical (and/or patient care), and/or research and teaching activities.  These activities include training pharmacy, medical and graduate students in the classroom, research discussions and seminars, clinical research, clinical patient fairs, and work in the University free clinics and community clinics providing patient education and/or services, or being the PI on grants, and participation in centers and program projects.  SSPPS faculty who qualify for a higher APU may voluntarily choose to belong to a lower APU.","2023-06-16","2023-07-01","N","Y","N","ARC0372737","move Katharina Brandl from SOP003 to SOP002","Y","Y","Y","2024-06-10","Approved","2024-06-10","2024-07-01","Y","Y","ARC0372737"]
["Skaggs School of Pharmacy and Pharmaceutical Sciences","SOP003",0,"Basic Faculty APU","A group of faculty members in the Skaggs School of Pharmacy & Pharmaceutical Sciences (SSPPS) who are research oriented and/or contribute a significant portion of their effort to the teaching mission.  SSPPS faculty who qualify for a higher APU may voluntarily choose to belong to a lower APU.","2023-06-16","2023-07-01","Y","Y","N","ARC0372737","move Ruben Abagyan + William Gerwick from SOP002 to SOP003","Y","Y","Y","2024-06-10","Approved","2024-06-10","2024-07-01","Y","Y","ARC0372737"]

{"sheet":"FY25-FY26 Scales","index":4,"n_rows":204,"n_cols":12,"rows_kept":204,"cut":false,"hidden":true,"merged":[]}
["USE THIS TO VERIFY the X, X', and covered comp"]
["* May want to replace \"Full\" with \"Full to match the APU profile"]
[]
["Concatenate (roman numero + user \"Full\" instead of \"Full\")","Step (roman numero)","Concatenate","APU","Rank","Step","07/01 X","07/01 X' actual","07/01 Covered Comp","10/01 X","10/01 X' actual","10/01 Covered Comp"]
[{"$f":"CONCATENATE(E5,B5,D5)","v":"AssistantI0"},{"$f":"ROMAN(F5)","v":"I"},{"$f":"CONCATENATE(E5,F5,D5)","v":"Assistant10"},0,"Assistant",1,93700,0,{"$f":"SUM(G5:H5)","v":93700},93700,0,{"$f":"SUM(J5:K5)","v":93700}]
[{"$f":"CONCATENATE(E6,B6,D6)","v":"AssistantII0"},{"$f":"ROMAN(F6)","v":"II"},{"$f":"CONCATENATE(E6,F6,D6)","v":"Assistant20"},0,"Assistant",2,98500,0,{"$f":"SUM(G6:H6)","v":98500},98500,0,{"$f":"SUM(J6:K6)","v":98500}]
[{"$f":"CONCATENATE(E7,B7,D7)","v":"AssistantIII0"},"III","Assistant30",0,"Assistant",3,103800,0,103800,103800,0,103800]
["AssistantIV0","IV","Assistant40",0,"Assistant",4,109400,0,109400,109400,0,109400]
["AssistantV0","V","Assistant50",0,"Assistant",5,115400,0,115400,115400,0,115400]
["AssistantVI0","VI","Assistant60",0,"Assistant",6,121400,0,121400,121400,0,121400]
["AssociateI0","I","Associate10",0,"Associate",1,115500,0,115500,115500,0,115500]
["AssociateII0","II","Associate20",0,"Associate",2,121500,0,121500,121500,0,121500]
["AssociateIII0","III","Associate30",0,"Associate",3,127900,0,127900,127900,0,127900]
["AssociateIV0","IV","Associate40",0,"Associate",4,135100,0,135100,135100,0,135100]
["AssociateV0","V","Associate50",0,"Associate",5,145700,0,145700,145700,0,145700]
["FullI0","I","Full10",0,"Full",1,135200,0,135200,135200,0,135200]
["FullII0","II","Full20",0,"Full",2,145800,0,145800,145800,0,145800]
["FullIII0","III","Full30",0,"Full",3,157000,0,157000,157000,0,157000]
["FullIV0","IV","Full40",0,"Full",4,168900,0,168900,168900,0,168900]
["FullV0","V","Full50",0,"Full",5,181600,0,181600,181600,0,181600]
["FullVI0","VI","Full60",0,"Full",6,195200,0,195200,195200,0,195200]
["FullVII0","VII","Full70",0,"Full",7,210100,0,210100,210100,0,210100]
["FullVIII0","VIII","Full80",0,"Full",8,226900,0,226900,226900,0,226900]
["FullIX0","IX","Full90",0,"Full",9,246000,0,246000,246000,0,246000]
["AssistantI1","I","Assistant11",1,"Assistant",1,93700,9400,103100,93700,9400,103100]
["AssistantII1","II","Assistant21",1,"Assistant",2,98500,9900,108400,98500,9900,108400]
["AssistantIII1","III","Assistant31",1,"Assistant",3,103800,10400,114200,103800,10400,114200]
["AssistantIV1","IV","Assistant41",1,"Assistant",4,109400,11000,120400,109400,11000,120400]
["AssistantV1","V","Assistant51",1,"Assistant",5,115400,11600,127000,115400,11600,127000]
["AssistantVI1","VI","Assistant61",1,"Assistant",6,121400,12200,133600,121400,12200,133600]
["AssociateI1","I","Associate11",1,"Associate",1,115500,11600,127100,115500,11600,127100]
["AssociateII1","II","Associate21",1,"Associate",2,121500,12200,133700,121500,12200,133700]
["AssociateIII1","III","Associate31",1,"Associate",3,127900,12800,140700,127900,12800,140700]
["AssociateIV1","IV","Associate41",1,"Associate",4,135100,13600,148700,135100,13600,148700]
["AssociateV1","V","Associate51",1,"Associate",5,145700,14600,160300,145700,14600,160300]
["FullI1","I","Full11",1,"Full",1,135200,13600,148800,135200,13600,148800]
["FullII1","II","Full21",1,"Full",2,145800,14600,160400,145800,14600,160400]
["FullIII1","III","Full31",1,"Full",3,157000,15700,172700,157000,15700,172700]
["FullIV1","IV","Full41",1,"Full",4,168900,16900,185800,168900,16900,185800]
["FullV1","V","Full51",1,"Full",5,181600,18200,199800,181600,18200,199800]
["FullVI1","VI","Full61",1,"Full",6,195200,19600,214800,195200,19600,214800]
["FullVII1","VII","Full71",1,"Full",7,210100,21100,231200,210100,21100,231200]
["FullVIII1","VIII","Full81",1,"Full",8,226900,22700,249600,226900,22700,249600]
["FullIX1","IX","Full91",1,"Full",9,246000,24600,270600,246000,24600,270600]
["AssistantI2","I","Assistant12",2,"Assistant",1,93700,18800,112500,93700,18800,112500]
["AssistantII2","II","Assistant22",2,"Assistant",2,98500,19700,118200,98500,19700,118200]
["AssistantIII2","III","Assistant32",2,"Assistant",3,103800,20800,124600,103800,20800,124600]
["AssistantIV2","IV","Assistant42",2,"Assistant",4,109400,21900,131300,109400,21900,131300]
["AssistantV2","V","Assistant52",2,"Assistant",5,115400,23100,138500,115400,23100,138500]
["AssistantVI2","VI","Assistant62",2,"Assistant",6,121400,24300,145700,121400,24300,145700]
["AssociateI2","I","Associate12",2,"Associate",1,115500,23100,138600,115500,23100,138600]
["AssociateII2","II","Associate22",2,"Associate",2,121500,24300,145800,121500,24300,145800]
["AssociateIII2","III","Associate32",2,"Associate",3,127900,25600,153500,127900,25600,153500]
["AssociateIV2","IV","Associate42",2,"Associate",4,135100,27100,162200,135100,27100,162200]
["AssociateV2","V","Associate52",2,"Associate",5,145700,29200,174900,145700,29200,174900]
["FullI2","I","Full12",2,"Full",1,135200,27100,162300,135200,27100,162300]
["FullII2","II","Full22",2,"Full",2,145800,29200,175000,145800,29200,175000]
["FullIII2","III","Full32",2,"Full",3,157000,31400,188400,157000,31400,188400]
["FullIV2","IV","Full42",2,"Full",4,168900,33800,202700,168900,33800,202700]
["FullV2","V","Full52",2,"Full",5,181600,36400,218000,181600,36400,218000]
["FullVI2","VI","Full62",2,"Full",6,195200,39100,234300,195200,39100,234300]
["FullVII2","VII","Full72",2,"Full",7,210100,42100,252200,210100,42100,252200]
["FullVIII2","VIII","Full82",2,"Full",8,226900,45400,272300,226900,45400,272300]
["FullIX2","IX","Full92",2,"Full",9,246000,49200,295200,246000,49200,295200]
["AssistantI3","I","Assistant13",3,"Assistant",1,93700,28200,121900,93700,28200,121900]
["AssistantII3","II","Assistant23",3,"Assistant",2,98500,29600,128100,98500,29600,128100]
["AssistantIII3","III","Assistant33",3,"Assistant",3,103800,31200,135000,103800,31200,135000]
["AssistantIV3","IV","Assistant43",3,"Assistant",4,109400,32900,142300,109400,32900,142300]
["AssistantV3","V","Assistant53",3,"Assistant",5,115400,34700,150100,115400,34700,150100]
["AssistantVI3",{"$f":"ROMAN(F70)","v":"VI"},{"$f":"CONCATENATE(E70,F70,D70)","v":"Assistant63"},3,"Assistant",6,121400,36500,{"$f":"SUM(G70:H70)","v":157900},121400,36500,{"$f":"SUM(J70:K70)","v":157900}]
[{"$f":"CONCATENATE(E71,B71,D71)","v":"AssociateI3"},"I","Associate13",3,"Associate",1,115500,34700,150200,115500,34700,150200]
["AssociateII3","II","Associate23",3,"Associate",2,121500,36500,158000,121500,36500,158000]
["AssociateIII3","III","Associate33",3,"Associate",3,127900,38400,166300,127900,38400,166300]
["AssociateIV3","IV","Associate43",3,"Associate",4,135100,40600,175700,135100,40600,175700]
["AssociateV3","V","Associate53",3,"Associate",5,145700,43800,189500,145700,43800,189500]
["FullI3","I","Full13",3,"Full",1,135200,40600,175800,135200,40600,175800]
["FullII3","II","Full23",3,"Full",2,145800,43800,189600,145800,43800,189600]
["FullIII3","III","Full33",3,"Full",3,157000,47100,204100,157000,47100,204100]
["FullIV3","IV","Full43",3,"Full",4,168900,50700,219600,168900,50700,219600]
["FullV3","V","Full53",3,"Full",5,181600,54500,236100,181600,54500,236100]
["FullVI3","VI","Full63",3,"Full",6,195200,58600,253800,195200,58600,253800]
["FullVII3","VII","Full73",3,"Full",7,210100,63100,273200,210100,63100,273200]
["FullVIII3","VIII","Full83",3,"Full",8,226900,68100,295000,226900,68100,295000]
["FullIX3","IX","Full93",3,"Full",9,246000,73800,319800,246000,73800,319800]
["AssistantI4","I","Assistant14",4,"Assistant",1,93700,37500,131200,93700,37500,131200]
["AssistantII4","II","Assistant24",4,"Assistant",2,98500,39400,137900,98500,39400,137900]
["AssistantIII4","III","Assistant34",4,"Assistant",3,103800,41600,145400,103800,41600,145400]
["AssistantIV4","IV","Assistant44",4,"Assistant",4,109400,43800,153200,109400,43800,153200]
["AssistantV4","V","Assistant54",4,"Assistant",5,115400,46200,161600,115400,46200,161600]
["AssistantVI4","VI","Assistant64",4,"Assistant",6,121400,48600,170000,121400,48600,170000]
["AssociateI4","I","Associate14",4,"Associate",1,115500,46200,161700,115500,46200,161700]
["AssociateII4","II","Associate24",4,"Associate",2,121500,48600,170100,121500,48600,170100]
["AssociateIII4","III","Associate34",4,"Associate",3,127900,51200,179100,127900,51200,179100]
["AssociateIV4","IV","Associate44",4,"Associate",4,135100,54100,189200,135100,54100,189200]
["AssociateV4","V","Associate54",4,"Associate",5,145700,58400,204100,145700,58400,204100]
["FullI4","I","Full14",4,"Full",1,135200,54100,189300,135200,54100,189300]
["FullII4","II","Full24",4,"Full",2,145800,58400,204200,145800,58400,204200]
["FullIII4","III","Full34",4,"Full",3,157000,62800,219800,157000,62800,219800]
["FullIV4","IV","Full44",4,"Full",4,168900,67600,236500,168900,67600,236500]
["FullV4","V","Full54",4,"Full",5,181600,72700,254300,181600,72700,254300]
["FullVI4","VI","Full64",4,"Full",6,195200,78100,273300,195200,78100,273300]
["FullVII4","VII","Full74",4,"Full",7,210100,84100,294200,210100,84100,294200]
["FullVIII4","VIII","Full84",4,"Full",8,226900,90800,317700,226900,90800,317700]
["FullIX4","IX","Full94",4,"Full",9,246000,98400,344400,246000,98400,344400]
["AssistantI5","I","Assistant15",5,"Assistant",1,93700,46900,140600,93700,46900,140600]
["AssistantII5","II","Assistant25",5,"Assistant",2,98500,49300,147800,98500,49300,147800]
["AssistantIII5","III","Assistant35",5,"Assistant",3,103800,51900,155700,103800,51900,155700]
["AssistantIV5","IV","Assistant45",5,"Assistant",4,109400,54700,164100,109400,54700,164100]
["AssistantV5","V","Assistant55",5,"Assistant",5,115400,57800,173200,115400,57800,173200]
["AssistantVI5","VI","Assistant65",5,"Assistant",6,121400,60800,182200,121400,60800,182200]
["AssociateI5","I","Associate15",5,"Associate",1,115500,57800,173300,115500,57800,173300]
["AssociateII5","II","Associate25",5,"Associate",2,121500,60800,182300,121500,60800,182300]
["AssociateIII5","III","Associate35",5,"Associate",3,127900,64000,191900,127900,64000,191900]
["AssociateIV5","IV","Associate45",5,"Associate",4,135100,67600,202700,135100,67600,202700]
["AssociateV5","V","Associate55",5,"Associate",5,145700,72900,218600,145700,72900,218600]
["FullI5","I","Full15",5,"Full",1,135200,67600,202800,135200,67600,202800]
["FullII5","II","Full25",5,"Full",2,145800,72900,218700,145800,72900,218700]
["FullIII5","III","Full35",5,"Full",3,157000,78500,235500,157000,78500,235500]
["FullIV5","IV","Full45",5,"Full",4,168900,84500,253400,168900,84500,253400]
["FullV5","V","Full55",5,"Full",5,181600,90800,272400,181600,90800,272400]
["FullVI5","VI","Full65",5,"Full",6,195200,97600,292800,195200,97600,292800]
["FullVII5","VII","Full75",5,"Full",7,210100,105100,315200,210100,105100,315200]
["FullVIII5","VIII","Full85",5,"Full",8,226900,113500,340400,226900,113500,340400]
["FullIX5","IX","Full95",5,"Full",9,246000,123000,369000,246000,123000,369000]
["AssistantI6","I","Assistant16",6,"Assistant",1,93700,61000,154700,93700,61000,154700]
["AssistantII6","II","Assistant26",6,"Assistant",2,98500,64100,162600,98500,64100,162600]
["AssistantIII6","III","Assistant36",6,"Assistant",3,103800,67500,171300,103800,67500,171300]
["AssistantIV6","IV","Assistant46",6,"Assistant",4,109400,71200,180600,109400,71200,180600]
["AssistantV6","V","Assistant56",6,"Assistant",5,115400,75100,190500,115400,75100,190500]
["AssistantVI6","VI","Assistant66",6,"Assistant",6,121400,79000,200400,121400,79000,200400]
["AssociateI6","I","Associate16",6,"Associate",1,115500,75100,190600,115500,75100,190600]
["AssociateII6","II","Associate26",6,"Associate",2,121500,79000,200500,121500,79000,200500]
["AssociateIII6","III","Associate36",6,"Associate",3,127900,83200,211100,127900,83200,211100]
["AssociateIV6",{"$f":"ROMAN(F134)","v":"IV"},{"$f":"CONCATENATE(E134,F134,D134)","v":"Associate46"},6,"Associate",4,135100,87900,{"$f":"SUM(G134:H134)","v":223000},135100,87900,{"$f":"SUM(J134:K134)","v":223000}]
[{"$f":"CONCATENATE(E135,B135,D135)","v":"AssociateV6"},"V","Associate56",6,"Associate",5,145700,94800,240500,145700,94800,240500]
["FullI6","I","Full16",6,"Full",1,135200,87900,223100,135200,87900,223100]
["FullII6","II","Full26",6,"Full",2,145800,94800,240600,145800,94800,240600]
["FullIII6","III","Full36",6,"Full",3,157000,102100,259100,157000,102100,259100]
["FullIV6","IV","Full46",6,"Full",4,168900,109800,278700,168900,109800,278700]
["FullV6","V","Full56",6,"Full",5,181600,118100,299700,181600,118100,299700]
["FullVI6","VI","Full66",6,"Full",6,195200,126900,322100,195200,126900,322100]
["FullVII6","VII","Full76",6,"Full",7,210100,136600,346700,210100,136600,346700]
["FullVIII6","VIII","Full86",6,"Full",8,226900,147500,374400,226900,147500,374400]
["FullIX6","IX","Full96",6,"Full",9,246000,159900,405900,246000,159900,405900]
["AssistantI7","I","Assistant17",7,"Assistant",1,93700,75000,168700,93700,75000,168700]
["AssistantII7","II","Assistant27",7,"Assistant",2,98500,78800,177300,98500,78800,177300]
["AssistantIII7","III","Assistant37",7,"Assistant",3,103800,83100,186900,103800,83100,186900]
["AssistantIV7","IV","Assistant47",7,"Assistant",4,109400,87600,197000,109400,87600,197000]
["AssistantV7","V","Assistant57",7,"Assistant",5,115400,92400,207800,115400,92400,207800]
["AssistantVI7","VI","Assistant67",7,"Assistant",6,121400,97200,218600,121400,97200,218600]
["AssociateI7","I","Associate17",7,"Associate",1,115500,92400,207900,115500,92400,207900]
["AssociateII7","II","Associate27",7,"Associate",2,121500,97200,218700,121500,97200,218700]
["AssociateIII7","III","Associate37",7,"Associate",3,127900,102400,230300,127900,102400,230300]
["AssociateIV7","IV","Associate47",7,"Associate",4,135100,108200,243300,135100,108200,243300]
["AssociateV7","V","Associate57",7,"Associate",5,145700,116700,262400,145700,116700,262400]
["FullI7","I","Full17",7,"Full",1,135200,108200,243400,135200,108200,243400]
["FullII7","II","Full27",7,"Full",2,145800,116700,262500,145800,116700,262500]
["FullIII7","III","Full37",7,"Full",3,157000,125600,282600,157000,125600,282600]
["FullIV7","IV","Full47",7,"Full",4,168900,135200,304100,168900,135200,304100]
["FullV7","V","Full57",7,"Full",5,181600,145300,326900,181600,145300,326900]
["FullVI7","VI","Full67",7,"Full",6,195200,156200,351400,195200,156200,351400]
["FullVII7","VII","Full77",7,"Full",7,210100,168100,378200,210100,168100,378200]
["FullVIII7","VIII","Full87",7,"Full",8,226900,181600,408500,226900,181600,408500]
["FullIX7","IX","Full97",7,"Full",9,246000,196800,442800,246000,196800,442800]
["AssistantI8","I","Assistant18",8,"Assistant",1,93700,93700,187400,93700,93700,187400]
["AssistantII8","II","Assistant28",8,"Assistant",2,98500,98500,197000,98500,98500,197000]
["AssistantIII8","III","Assistant38",8,"Assistant",3,103800,103800,207600,103800,103800,207600]
["AssistantIV8","IV","Assistant48",8,"Assistant",4,109400,109400,218800,109400,109400,218800]
["AssistantV8","V","Assistant58",8,"Assistant",5,115400,115500,230900,115400,115500,230900]
["AssistantVI8","VI","Assistant68",8,"Assistant",6,121400,121500,242900,121400,121500,242900]
["AssociateI8","I","Associate18",8,"Associate",1,115500,115500,231000,115500,115500,231000]
["AssociateII8","II","Associate28",8,"Associate",2,121500,121500,243000,121500,121500,243000]
["AssociateIII8","III","Associate38",8,"Associate",3,127900,127900,255800,127900,127900,255800]
["AssociateIV8","IV","Associate48",8,"Associate",4,135100,135200,270300,135100,135200,270300]
["AssociateV8","V","Associate58",8,"Associate",5,145700,145800,291500,145700,145800,291500]
["FullI8","I","Full18",8,"Full",1,135200,135200,270400,135200,135200,270400]
["FullII8","II","Full28",8,"Full",2,145800,145800,291600,145800,145800,291600]
["FullIII8","III","Full38",8,"Full",3,157000,157000,314000,157000,157000,314000]
["FullIV8","IV","Full48",8,"Full",4,168900,168900,337800,168900,168900,337800]
["FullV8","V","Full58",8,"Full",5,181600,181600,363200,181600,181600,363200]
["FullVI8","VI","Full68",8,"Full",6,195200,195200,390400,195200,195200,390400]
["FullVII8","VII","Full78",8,"Full",7,210100,210100,420200,210100,210100,420200]
["FullVIII8","VIII","Full88",8,"Full",8,226900,226900,453800,226900,226900,453800]
["FullIX8","IX","Full98",8,"Full",9,246000,246000,492000,246000,246000,492000]
["AssistantI9","I","Assistant19",9,"Assistant",1,93700,117200,210900,93700,117200,210900]
["AssistantII9","II","Assistant29",9,"Assistant",2,98500,123200,221700,98500,123200,221700]
["AssistantIII9","III","Assistant39",9,"Assistant",3,103800,129800,233600,103800,129800,233600]
["AssistantIV9","IV","Assistant49",9,"Assistant",4,109400,136800,246200,109400,136800,246200]
["AssistantV9","V","Assistant59",9,"Assistant",5,115400,144400,259800,115400,144400,259800]
["AssistantVI9","VI","Assistant69",9,"Assistant",6,121400,151900,273300,121400,151900,273300]
["AssociateI9","I","Associate19",9,"Associate",1,115500,144400,259900,115500,144400,259900]
["AssociateII9","II","Associate29",9,"Associate",2,121500,151900,273400,121500,151900,273400]
["AssociateIII9","III","Associate39",9,"Associate",3,127900,159900,287800,127900,159900,287800]
["AssociateIV9","IV","Associate49",9,"Associate",4,135100,169000,304100,135100,169000,304100]
["AssociateV9","V","Associate59",9,"Associate",5,145700,182300,328000,145700,182300,328000]
["FullI9","I","Full19",9,"Full",1,135200,169000,304200,135200,169000,304200]
["FullII9","II","Full29",9,"Full",2,145800,182300,328100,145800,182300,328100]
["FullIII9",{"$f":"ROMAN(F198)","v":"III"},{"$f":"CONCATENATE(E198,F198,D198)","v":"Full39"},9,"Full",3,157000,196300,{"$f":"SUM(G198:H198)","v":353300},157000,196300,{"$f":"SUM(J198:K198)","v":353300}]
[{"$f":"CONCATENATE(E199,B199,D199)","v":"FullIV9"},"IV","Full49",9,"Full",4,168900,211200,380100,168900,211200,380100]
["FullV9","V","Full59",9,"Full",5,181600,227000,408600,181600,227000,408600]
["FullVI9","VI","Full69",9,"Full",6,195200,244000,439200,195200,244000,439200]
["FullVII9","VII","Full79",9,"Full",7,210100,262700,472800,210100,262700,472800]
["FullVIII9","VIII","Full89",9,"Full",8,226900,283700,510600,226900,283700,510600]
["FullIX9","IX","Full99",9,"Full",9,246000,307500,553500,246000,307500,553500]

{"sheet":"APU Scale","index":5,"n_rows":11,"n_cols":2,"rows_kept":11,"cut":false,"hidden":true,"merged":[]}
["Scale","Multiplier"]
[0,1]
[1,1.1000000000000001]
[2,1.2]
[3,1.3]
[4,1.4]
[5,1.5]
[6,1.65]
[7,1.8]
[8,2]
[9,2.25]